Workbook
Name \a: #REF!
Name \AUTOEXEC: #REF!
Name \HOMEPOS: #REF!
Name \k: #REF!
Name \m: #REF!
Name \m1: #REF!
Name \n: #REF!
Name \o: #REF!
Name \s: #REF!
Name \z: #REF!
Name _______________a2: #REF!
Name ____________a2: #REF!
Name ___________a2: #REF!
Name __________a2: #REF!
Name _________a2: #REF!
Name _________A65560: [1]График!#REF!
Name _________E65560: [1]График!#REF!
Name ________a2: #REF!
Name _______A65560: [2]График!#REF!
Name _______E65560: [2]График!#REF!
Name _______SMT1: #REF!
Name _______SMT3: #REF!
Name ______a2: #REF!
Name ______A65560: [1]График!#REF!
Name ______E65560: [1]График!#REF!
Name ______SMT1: #REF!
Name ______SMT3: #REF!
Name _____a2: #REF!
Name _____A65560: [2]График!#REF!
Name _____E65560: [2]График!#REF!
Name _____SMT1: #REF!
Name _____SMT3: #REF!
Name ____a2: #REF!
Name ____A65560: [2]График!#REF!
Name ____E65560: [2]График!#REF!
Name ____SMT1: #REF!
Name ____SMT3: #REF!
Name ___a2: #REF!
Name ___A65560: [2]График!#REF!
Name ___E65560: [2]График!#REF!
Name ___k116: '[3]Зап-3- СЦБ'!#REF!
Name ___k121: '[3]Зап-3- СЦБ'!#REF!
Name ___SMT1: #REF!
Name ___SMT3: #REF!
Name ___SP1: [4]FES!#REF!
Name ___SP10: [4]FES!#REF!
Name ___SP11: [4]FES!#REF!
Name ___SP12: [4]FES!#REF!
Name ___SP13: [4]FES!#REF!
Name ___SP14: [4]FES!#REF!
Name ___SP15: [4]FES!#REF!
Name ___SP16: [4]FES!#REF!
Name ___SP17: [4]FES!#REF!
Name ___SP18: [4]FES!#REF!
Name ___SP19: [4]FES!#REF!
Name ___SP2: [4]FES!#REF!
Name ___SP20: [4]FES!#REF!
Name ___SP3: [4]FES!#REF!
Name ___SP4: [4]FES!#REF!
Name ___SP5: [4]FES!#REF!

Sheet Доп. затраты КТ
A1: Расстояние до ТЭЦ-3, км | B1: 25
A2: Расстояние до полигона Бадалык, км | B2: 20
A3: Температура, °C | B3: 150
I11: 1 | J11: Авторский надзор.
I12: 2 | J12: Затраты на производство работ в зимнее время 4,8% (согласно Письмо_1.PDF).
I13: 3 | J13: Непредвиденные затраты 3% (согласно Письмо_1.PDF).
I14: 4 | J14: =CONCATENATE("На перевозку давальческих материалов в соответствии с прилагаемым письмом о включении стоимости перевозки. Расстояние от ТЭЦ-3 до объекта – ",B1," км. (согласно Письмо_2.PDF).") -> На перевозку давальческих материалов в соответствии с прилагаемым письмом о включении стоимости перевозки. Расстояние от ТЭЦ-3 до объекта – 25 км. (согласно Письмо_2.PDF).
I15: 5 | J15: =ЕСЛИОШИБКА(_xlfn.IFS(И(Исходная!$B$10>=$L$24;Исходная!$B$10<=$M$24;Исходная!$C$10<=$N$24);_xlfn.CONCAT(K24;$P$24;" т.р. (согласно Письмо_3.PDF).");И(Исходная!$B$10>=$L$24;Исходная!$B$10<=$M$24;Исходная!$C$10>=$O$24);_xlfn.CONCAT(K24;$Q$24;" т.р. (согласно Письмо_3.PDF).");И(Исходная!$B$10>=$L$25;Исходная!$C$10<=$N$25);_xlfn.CONCAT($K$25;$P$25;" т.р. (согласно Письмо_3.PDF).");И(Исходная!$B$10>=$L$25;Исходная!$C$10>=$O$25);_xlfn.CONCAT($K$25;$Q$25;" т.р. (согласно Письмо_3.PDF)."));"")
I16: 6 | J16: Прохождение первичного технического освидетельствования трубопроводов тепловой сети – 100 т.р. (согласно Письмо_3.PDF). | K16: =IF(AND(B3>115,ИД!B11>=L26,ИД!C11<=N26,),P26) -> FALSE
I17: 7 | J17: Затраты на разработку проекта организации дорожного движения (ПОДД) – 290 т.р. (согласно Письмо_1, Письмо_4, Протокол).
I18: 8 | J18: =CONCATENATE("Расстояния:",CHAR(10), "- для вывоза мусора и лишнего грунта (Бадалык) – ",B2," км; - временное складирование грунта (Бадалык) – ",B2," км; - вывоз металлолома (ТЭЦ-3) – ",B1," км.") -> Расстояния: - для вывоза мусора и лишнего грунта (Бадалык) – 20 км; - временное складирование грунта (Бадалык) – 20 км; - вывоз металлолома (ТЭЦ-3) – 25 км.
K22: Наименование | L22: Диаметр, мм | N22: Длина, м | P22: Цена, т.р
L23: мин | M23: макс | N23: меньше | O23: больше | P23: меньше | Q23: больше
K24: Получение заключения экспертизы промышленной безопасности на трубопроводы тепловой сети - | L24: 125 | M24: 300 | N24: 100 | O24: 101 | P24: 100 | Q24: 300
K25: Изготовление декларации о соответствии трубопровода тепловой сети требованиям ТР ТС 032/2013 - | L25: 350 | N25: 100 | O25: 101 | P25: 75 | Q25: 100
K26: Прохождение первичного технического освидетельствования трубопроводов тепловой сети - | L26: 100 | N26: 100 | O26: 101 | P26: 30 | Q26: 100

Sheet Свод. см. 1
A2: СВОДНАЯ СМЕТА
A6: =[67]ИД!$A$3 -> Наименование объекта: | C6: =ИД!$B$3 -> Многоквартирные жилые дома. Этап 3. Этап 4. Жилой дом №4", расположенного по адресу: Российская Федерация, Красноярский край, г. Красноярск, ул. Кутузова, кадастровый номер 24:50:0600031:15100, 24:50:0000000:347853
A7: =[67]ИД!$A$4 -> Шифр:
A8: =[67]ИД!$A$5 -> Стадия проектирования: | C8: Рабочая документация (технологическое присоединение)
A9: =[67]ИД!$A$6 -> Наименование проектной организации:
A10: =[67]ИД!$A$2 -> Наименование организации заказчика: | C10: =ИД!$B$2 -> ООО "КСК"
A12: № п/п | B12: Вид работ | D12: Общая стоимость, руб. БЕЗ НДС
A13: 1 | B13: Выполнение инженерно-геодезических изысканий | D13: =#REF! -> #REF!
A14: =A13+1 -> 2 | B14: Выполнение инженерно-геологических изысканий | D14: =#REF! -> #REF!
A15: =A14+1 -> 3 | B15: Выполнение инженерно-гидрометерологических изысканий | D15: =#REF! -> #REF!
A16: =A15+1 -> 4 | B16: Выполнение инженерно-экологических изысканий | D16: =#REF! -> #REF!
A17: =#REF!+1 -> #REF! | D17: =#REF! -> #REF!
A18: 1 | B18: Выполнение проектной документации по наружным сетям водоснабжения 0 | D18: =#REF!*1000 -> #REF!
A19: 2 | B19: Выполнение проектной документации по наружным сетям канализации | D19: =ПИР_НК!F34*1000 -> 514097.95
B20: Итого | D20: =SUM(D18:D19) -> #REF!

Sheet ИД
A1: Номер договора: | F1: 1 | G1: ИГДИ | I1: Договор с ООО «ГеоСтройТех» №Сибиац-22/1419 от 14.12.22, приложение № 2 | L1: Итого, тыс. руб | M1: =SUM(M2:M5) -> #REF! | N1: =K10 -> Стесненность | P1: =E9 -> Сети
A2: Наименование организации заказчика: | B2: ООО "КСК" | F2: 1 | G2: ИГИ | I2: =I1 -> Договор с ООО «ГеоСтройТех» №Сибиац-22/1419 от 14.12.22, приложение № 2 | L2: Изыскания, тыс. руб | M2: =(Изыск._1!F28+Изыск._2!F28+Изыск._3!F28+Изыск._4!F28)/1000 -> 0 | N2: Канальная
A3: Наименование объекта: | B3: Многоквартирные жилые дома. Этап 3. Этап 4. Жилой дом №4", расположенного по адресу: Российская Федерация, Красноярский край, г. Красноярск, ул. Кутузова, кадастровый номер 24:50:0600031:15100, 24:50:0000000:347853 | F3: 1 | G3: ИЭИ | I3: =I1 -> Договор с ООО «ГеоСтройТех» №Сибиац-22/1419 от 14.12.22, приложение № 2 | L3: ПИР, тыс. руб | M3: =#REF!+ПИР_2!F30+ПИР_АСУТП!I39+ПИР_Труд.зат.!H39/1000 -> #REF! | N3: Надземная
A4: Шифр: | F4: 1 | G4: ИГМИ | I4: =I1 -> Договор с ООО «ГеоСтройТех» №Сибиац-22/1419 от 14.12.22, приложение № 2 | L4: =IF(B5=списки!G36,CONCATENATE("Экспертиза,",CHAR(10),"тыс. руб"),IF(B5=списки!G37,CONCATENATE("ЭПБ,",CHAR(10),"тыс. руб"),IF(B5=списки!G38,CONCATENATE("Экспертиза,",CHAR(10),"тыс. руб"),""))) -> ЭПБ, тыс. руб | M4: =IF(B5=списки!G36,Эксперт.!F24/1000,IF(B5=списки!G37,ЭПБ!F24/1000,IF(B5=списки!G38,Эксперт.!F24/1000,""))) -> 0 | N4: Рек, Тех. пер. | P4: =O9 -> Общее
A5: Стадия проектирования: | B5: Рабочая документация | F5: ЭПБ | I5: Договор с ООО "Сибирская экспертная компания" №Сибиац-20/1202 от 29.12.20, приложение №3 | L5: Суб.подр.СМ, тыс. руб | M5: =(Суб.подр.СМ_1!F24+Суб.подр.СМ_2!F24)/1000 -> 0 | N5: Стоим. дня в тыс. р./ Всего дней | O5: 14 | P5: =ROUNDDOWN(M3/O5,0) -> #REF!
A6: Наименование проектной организации: | B6: ООО "Сибэнергоэксперт" | F6: Экспертиза | I6: Договор с ООО "СибСтройЭксперт" №СибИАЦ-21/1484 от 28.11.2021, п. 4.1 | L6: ="внесение изменения № "&M6 -> внесение изменения №
A7: 1 ПИР ОБ, РЭ, РР | B7: =IFERROR(#REF!*1000,"") | D7: Название сметы_1 | F7: Наименование работ_1 | I7: Основание договор/КП/смета_1 | L7: Письмо Минстроя России 26.01.2026 г. № 3017-ИФ/09 | N7: 1.68 | O7: Ген. подряд | P7: 0.01
A8: 2 ПИР ОБ, РЭ, РР | B8: =IFERROR(ПИР_2!F28*1000,"") | D8: Название сметы_2 | F8: Наименование работ_2 | I8: Основание договор/КП/смета_2
A9: Общее | D9: Узлы и трубы | E9: Сети | L9: ЦТП | M9: БАГВ | O9: =A9 -> Общее | U9: Трубопроводы | AD9: Узел | AF9: БАГВ | AH9: ЦТП | AI9: МУ | AK9: СБЦП 81-2001-07 | BA9: МУ
A10: Тип объекта | C10: Длина сети, м Кол-во узлов, шт | D10: Кол. труб | E10: Тип прокладки | F10: =коэфф.!A17 -> Глуб. залож. до нижнего габарита, м | G10: Высота опоры надзем. прокл., м | H10: Кол. пересечений с сущ. коммун. | I10: Пересеченн. местность, овраги | J10: Совместный технолог. трубопров. | K10: Стесненность | Q10: Пункт | R10: {='СБЦП 81-02-07-2001'!E1:E1} -> a, тыс. руб. | S10: {='СБЦП 81-02-07-2001'!F1:F1} -> в, тыс. руб. | U10: =коэфф.!B2 -> п. 2.6.5 | V10: =коэфф.!B3 -> п. 2.6.6 | W10: =коэфф.!B4 -> п. 2.6.7 | X10: =коэфф.!B5 -> п. 2.6.8 | Y10: =коэфф.!B7 -> п. 2.6.9 | Z10: =коэфф.!B9 -> п. 2.6.10 | AA10: =коэфф.!B11 -> п. 2.6.11 | AB10: =коэфф.!B11 -> п. 2.6.11 | AC10: =коэфф.!B11 -> п. 2.6.11 | AD10: =коэфф.!B18 -> п. 2.6.12 | AE10: =AD10 -> п. 2.6.12 | AF10: =коэфф.!B20 -> п. 2.6.13 | AG10: =AF10 -> п. 2.6.13 | AH10: =коэфф.!B22 -> п. 2.6.14 | AI10: п. 3.4 | AL10: ИТОГО | AM10: =U10 -> п. 2.6.5 | AN10: =V10 -> п. 2.6.6 | AO10: =W10 -> п. 2.6.7 | AP10: =X10 -> п. 2.6.8 | AQ10: =Y10 -> п. 2.6.9 | AR10: =Z10 -> п. 2.6.10 | AS10: =AA10 -> п. 2.6.11 | AT10: =AB10 -> п. 2.6.11 | ... BA10: =AI10 -> п. 3.4 | BC10: Формула | BD10: Итого
P11: ПИР_1 | Q11: {=IFERROR(IF(OR(A11=списки!$C$41,A11=списки!$C$42,A11=списки!$C$43),INDEX('СБЦП 81-02-07-2001'!$A$3:$A$89,MAX((B11='СБЦП 81-02-07-2001'!$B$3:$B$89)*(C11/1000>'СБЦП 81-02-07-2001'!$C$3:$C$89)*(C11/1000<='СБЦП 81-02-07-2001'!$D$3:$D$89)*ROW('СБЦП 81-02-07-2001'!$C$3:$C$89)-2)),IF(A11=списки!$C$44,VLOOKUP(B11,'СБЦП 81-02-07-2001'!$L$2:$O$9,4,FALSE),IF(A11=списки!$C$45,INDEX('СБЦП 81-02-07-2001'!$P$14:$P$19,MAX((B11>'СБЦП 81-02-07-2001'!$R$14:$R$19)*(B11<='СБЦП 81-02-07-2001'!$S$14:$S$19)*ROW('СБЦП 81-02-07-2001'!$R$14:$R$19))-13),IF(A11=списки!$C$46,INDEX('СБЦП 81-02-07-2001'!$W$23:$W$24,MAX((B11>'СБЦП 81-02-07-2001'!$Y$23:$Y$24)*(B11<='СБЦП 81-02-07-2001'!$Z$23:$Z$24)*ROW('СБЦП 81-02-07-2001'!$W$23:$W$24))-22),IF(A11=списки!$C$47,INDEX('СБЦП 81-02-07-2001'!$AD$29:$AD$35,MAX((B11/1000>'СБЦП 81-02-07-2001'!$AF$29:$AF$35)*(B11/1000<='СБЦП 81-02-07-2001'!$AG$29:$AG$35)*ROW('СБЦП 81-02-07-2001'!$AD$29:$AD$35))-28),""))))),"")} | R11: {=IFERROR(IF(OR(A11=списки!$C$41,A11=списки!$C$42,A11=списки!$C$43),INDEX('СБЦП 81-02-07-2001'!$E$3:$E$89,MAX((B11='СБЦП 81-02-07-2001'!$B$3:$B$89)*(C11/1000>'СБЦП 81-02-07-2001'!$C$3:$C$89)*(C11/1000<='СБЦП 81-02-07-2001'!$D$3:$D$89)*ROW('СБЦП 81-02-07-2001'!$C$3:$C$89)-2)),IF(A11=списки!$C$44,VLOOKUP(B11,'СБЦП 81-02-07-2001'!$L$2:$N$9,2,FALSE),IF(A11=списки!$C$45,INDEX('СБЦП 81-02-07-2001'!$T$14:$T$19,MAX((B11>'СБЦП 81-02-07-2001'!$R$14:$R$19)*(B11<='СБЦП 81-02-07-2001'!$S$14:$S$19)*ROW('СБЦП 81-02-07-2001'!$R$14:$R$19))-13),IF(A11=списки!$C$46,INDEX('СБЦП 81-02-07-2001'!$AA$23:$AA$24,MAX((B11>'СБЦП 81-02-07-2001'!$Y$23:$Y$24)*(B11<='СБЦП 81-02-07-2001'!$Z$23:$Z$24)*ROW('СБЦП 81-02-07-2001'!$AA$23:$AA$24))-22),IF(A11=списки!$C$47,INDEX('СБЦП 81-02-07-2001'!$AH$29:$AH$35,MAX((B11/1000>'СБЦП 81-02-07-2001'!$AF$29:$AF$35)*(B11/1000<='СБЦП 81-02-07-2001'!$AG$29:$AG$35)*ROW('СБЦП 81-02-07-2001'!$AH$29:$AH$35))-28),""))))),"")} | S11: {=IFERROR(IF(OR(A11=списки!$C$41,A11=списки!$C$42,A11=списки!$C$43),INDEX('СБЦП 81-02-07-2001'!$F$3:$F$89,MAX((B11='СБЦП 81-02-07-2001'!$B$3:$B$89)*(C11/1000>'СБЦП 81-02-07-2001'!$C$3:$C$89)*(C11/1000<='СБЦП 81-02-07-2001'!$D$3:$D$89)*ROW('СБЦП 81-02-07-2001'!$C$3:$C$89)-2)),IF(A11=списки!$C$44,VLOOKUP(B11,'СБЦП 81-02-07-2001'!$L$2:$N$9,3,FALSE),IF(A11=списки!$C$45,INDEX('СБЦП 81-02-07-2001'!$U$14:$U$19,MAX((B11>'СБЦП 81-02-07-2001'!$R$14:$R$19)*(B11<='СБЦП 81-02-07-2001'!$S$14:$S$19)*ROW('СБЦП 81-02-07-2001'!$R$14:$R$19))-13),IF(A11=списки!$C$46,INDEX('СБЦП 81-02-07-2001'!$AB$23:$AB$24,MAX((B11>'СБЦП 81-02-07-2001'!$Y$23:$Y$24)*(B11<='СБЦП 81-02-07-2001'!$Z$23:$Z$24)*ROW('СБЦП 81-02-07-2001'!$AB$23:$AB$24))-22),IF(A11=списки!$C$47,INDEX('СБЦП 81-02-07-2001'!$AI$29:$AI$35,MAX((B11/1000>'СБЦП 81-02-07-2001'!$AF$29:$AF$35)*(B11/1000<='СБЦП 81-02-07-2001'!$AG$29:$AG$35)*ROW('СБЦП 81-02-07-2001'!$AI$29:$AI$35))-28),""))))),"")} | U11: =IF(OR(A11=списки!$C$41,A11=списки!$C$42,A11=списки!$C$43),IF(ISBLANK(J11),"",коэфф.!$E$2),"") | V11: =IF(OR(A11=списки!$C$41,A11=списки!$C$42,A11=списки!$C$43),IF(D11-2>0,0.25,""),"") | W11: =IF(OR(A11=списки!$C$42,A11=списки!$C$43)=TRUE,коэфф.!$E$4,"") | X11: =IF(ISBLANK(K11),"",IF(ISBLANK($O$1),1.1,$O$1)) | Y11: {=IF(OR(A11=списки!$C$41,A11=списки!$C$42,A11=списки!$C$43),IF($H11<5,"",INDEX(коэфф.!$E$7:$E$8,MAX((ИД!$H11>=коэфф.!$C$7:$C$8)*(ИД!$H11<=коэфф.!$D$7:$D$8)*ROW(коэфф.!$D$7:$D$8)-6))),"")} | Z11: =IF(OR(A11=списки!$C$41,A11=списки!$C$42,A11=списки!$C$43),IF(ISBLANK(I11),"",коэфф.!$E$9),"") | AA11: =IF(OR(A11=списки!$C$41,A11=списки!$C$42,A11=списки!$C$43),IF(E11=списки!$C$21,IF(ISBLANK(ИД!$O$2),IFERROR(VLOOKUP($E11,коэфф.!$A$11:$E$12,5,FALSE),""),$O$2), IFERROR(VLOOKUP($E11,коэфф.!$A$11:$E$12,5,FALSE),"")),"") | AB11: =IF(OR(A11=списки!$C$41,A11=списки!$C$42,A11=списки!$C$43),IF($E11=списки!$C$22,"",IF($F11>2,коэфф.!$E$17,"")),"") | AC11: =IF(OR(A11=списки!$C$41,A11=списки!$C$42,A11=списки!$C$43),IF($E11=списки!$C$22,IF(ISBLANK($O$3),IF($G11>1.5,коэфф.!$E$15,коэфф.!$E$14),$O$3),""),"") | AD11: =IF(A11=списки!$C$44,IF(ИД!D11>3,коэфф.!$E$18,""),"") | AE11: =IF(A11=списки!$C$44,IF(C11>1,коэфф.!$E$19,""),"") | AF11: =IF(A11=списки!$C$47,IF(ISBLANK(M11),"",коэфф.!$E$20),"") | AG11: =IF(A11=списки!$C$47,IF(ISBLANK(N11),"",коэфф.!$E$21),"") | AH11: =IF(A11=списки!$C$46,IF(ISBLANK(L11),"",коэфф.!$E$22),"") | AI11: =IF(ISBLANK(O11),"",IF(ISBLANK($O$4),1.3,$O$4)) | AK11: =IF(ISBLANK(A11),"",CONCATENATE(,A11," ",_xlfn.IFNA(IF(A11=списки!$C$41,ИД!D11,IF(A11=списки!$C$42,ИД!D11,IF(A11=списки!$C$43,ИД!D11,IF(A11=списки!$C$44,ИД!D11,"")))),""),VLOOKUP(A11,списки!$C$41:$E$47,3,FALSE),B11,VLOOKUP(A11,списки!$C$41:$D$47,2,FALSE),_xlfn.IFNA(IF(A11=списки!$C$41,CONCATENATE(" - ",ИД!C11," м"),IF(A11=списки!$C$42,CONCATENATE(" - ",ИД!C11," м"),IF(A11=списки!$C$43,CONCATENATE(" - ",ИД!C11," м"),""))),""),_xlfn.IFNA(IF(A11=списки!$C$41,CONCATENATE(", ",ИД!E11),IF(A11=списки!$C$42,CONCATENATE(", ",ИД!E11),IF(A11=списки!$C$43,CONCATENATE(", ",ИД!E11),""))),""),_xlfn.IFNA(IF(A11=списки!$C$44,CONCATENATE(" - ",ИД!C11," шт."),""),""))) | AL11: =IF(ISBLANK(A11),"",CONCATENATE("СБЦП 81-02-07-2001 от 24.05.2012 г.",CHAR(10),VLOOKUP($Q11,Списки_3!$B$3:$H$286,7,FALSE),IF(U11="","",CHAR(10)),AM11,IF(V11="","",CHAR(10)),AN11,IF(W11="","",CHAR(10)),AO11,IF(X11="","",CHAR(10)),AP11,IF(Y11="","",CHAR(10)),AQ11,IF(Z11="","",CHAR(10)),AR11,IF(AA11="","",CHAR(10)),AS11,IF(AB11="","",CHAR(10)),AT11,IF(AC11="","",CHAR(10)),AU11,IF(AD11="","",CHAR(10)),AV11,IF(AE11="","",CHAR(10)),AW11,IF(AF11="","",CHAR(10)),AX11,IF(AG11="","",CHAR(10)),AY11,IF(AH11="","",CHAR(10)),AZ11,IF(AI11="","",CHAR(10)),BA11)) | AM11: =IF(U11="","",CONCATENATE($U$10," - прокладка совместно с технологическими трубопроводами - ",U11)) | AN11: =IF(V11="","",CONCATENATE($V$10," - при совместной прокладке тепловых сетей более двух трубопроводов стоимость каждого последующего трубопровода - ",V11)) | AO11: =IF(W11="","",CONCATENATE($W$10," - стоимость проектирования паропроводов и конденсатопроводов тепловых сетей - ",W11)) | AP11: =IF(X11="","",CONCATENATE($X$10," - проектировании тепловой сети, проходящей по территории с коэффициентом застройки от 0.3 до 0.8"," - ",X11)) | AQ11: =IF(Y11="","",CONCATENATE($Y$10," - при пересечении проектируемой тепловой сети ",IF(Y11=1.1,"от 5 до 10","более 10")," существующих коммуникаций"," - ",Y11)) | AR11: =IF(Z11="","",CONCATENATE($Z$10," - при проектировании на пересеченном рельефе местности с оврагами - ",Z11)) | AS11: =IF(AA11="","",CONCATENATE($AA$10," - ",E11," - ",AA11)) | AT11: =IF(AB11="","",CONCATENATE($AB$10," - при глубине заложения тепловой сети более 2 м - ",AB11)) | AU11: =IF(AC11="","",CONCATENATE($AC$10," - надземная прокладка на железобетонных сборных опорах высотой ",IF(AC11=0.85,"до 1.5 м","свыше 1.5 м")," - ",AC11)) | AV11: =IF(AD11="","",CONCATENATE($AD$10," - совмещение нескольких магистралей в одном узле - ",AD11)) | AW11: =IF(AE11="","",CONCATENATE($AE$10," - каждый повторяющийся узел - ",AE11)) | AX11: =IF(AF11="","",CONCATENATE($AF$10," - использование герметика - ",AF11)) | AY11: =IF(AG11="","",CONCATENATE($AG$10," - усиление баков от лавинообразного разрушения - ",AG11)) | AZ11: =IF(AH11="","",CONCATENATE($AH$10," - установка паровых подогревателей, редуцирующих устройств и системы сбора конденсата - ",AH11)) | BA11: =IF(ISBLANK(O11),"",CONCATENATE("Методические указания по применению СБЦ по приказу Минрегиона России №620 от 29.12.2009 г.",CHAR(10),"п. 3.4 - ",O11," объекта - ",AI11)) | BC11: =IF(ISBLANK(A11),"",CONCATENATE("(",R11,"+",S11,"×",(IF(A11=списки!$C$41,C11/1000,IF(A11=списки!$C$42,C11/1000,IF(A11=списки!$C$43,C11/1000,IF(A11=списки!$C$44,1,IF(A11=списки!$C$45,B11,IF(A11=списки!$C$46,B11,IF(A11=списки!$C$47,C11,"")))))))),")",IF(ISNUMBER(U11),CONCATENATE("×",U11),""),IF(ISNUMBER(W11),CONCATENATE("×",W11),""),IF(ISNUMBER(X11),CONCATENATE("×",X11),""),IF(ISNUMBER(Y11),CONCATENATE("×",Y11),""),IF(ISNUMBER(Z11),CONCATENATE("×",Z11),""),IF(ISNUMBER(AA11),CONCATENATE("×",AA11),""),IF(ISNUMBER(AB11),CONCATENATE("×",AB11),""),IF(ISNUMBER(AC11),CONCATENATE("×",AC11),""),IF(ISNUMBER(AF11),CONCATENATE("×",AF11),""),IF(ISNUMBER(AG11),CONCATENATE("×",AG11),""),IF(ISNUMBER(AH11),CONCATENATE("×",AH11),""),IF(ISNUMBER(AD11),CONCATENATE("×",AD11),""),IF(ISNUMBER(AI11),CONCATENATE("×",AI11),""),IF(ISNUMBER(V11),CONCATENATE("+(",R11,"+",S11,"×",(C11/1000),")","×",D11-2,"×",V11),""),IF(ISNUMBER(AE11),CONCATENATE("+(",R11,"+",S11,"×",1,")","×",AD11,"×",C11-1,"×",AE11),""))) | BD11: =ROUND(IF(ISBLANK(A11),"",(R11+S11*(_xlfn.IFNA(IF(A11=списки!$C$41,(C11/1000),IF(A11=списки!$C$42,(C11/1000),IF(A11=списки!$C$43,(C11/1000),IF(A11=списки!$C$44,1,IF(A11=списки!$C$45,B11,IF(A11=списки!$C$46,B11,IF(A11=списки!$C$47,C11,""))))))),"")))*IF(ISNUMBER(U11),U11,1)*IF(ISNUMBER(W11),W11,1)*IF(ISNUMBER(X11),X11,1)*IF(ISNUMBER(Y11),Y11,1)*IF(ISNUMBER(Z11),Z11,1)*IF(ISNUMBER(AA11),AA11,1)*IF(ISNUMBER(AB11),AB11,1)*IF(ISNUMBER(AC11),AC11,1)*IF(ISNUMBER(AD11),AD11,1)*IF(ISNUMBER(AF11),AF11,1)*IF(ISNUMBER(AG11),AG11,1)*IF(ISNUMBER(AH11),AH11,1)*IF(ISNUMBER(AI11),AI11,1)+IF(ISNUMBER(V11),(R11+S11*C11/1000)*(V11*(D11-2)),0)+IF(ISNUMBER(AE11),(R11+S11*1)*AD11*(AE11*(C11-1)),0)),5) -> #VALUE!
Q12: {=IFERROR(IF(OR(A12=списки!$C$41,A12=списки!$C$42,A12=списки!$C$43),INDEX('СБЦП 81-02-07-2001'!$A$3:$A$89,MAX((B12='СБЦП 81-02-07-2001'!$B$3:$B$89)*(C12/1000>'СБЦП 81-02-07-2001'!$C$3:$C$89)*(C12/1000<='СБЦП 81-02-07-2001'!$D$3:$D$89)*ROW('СБЦП 81-02-07-2001'!$C$3:$C$89)-2)),IF(A12=списки!$C$44,VLOOKUP(B12,'СБЦП 81-02-07-2001'!$L$2:$O$9,4,FALSE),IF(A12=списки!$C$45,INDEX('СБЦП 81-02-07-2001'!$P$14:$P$19,MAX((B12>'СБЦП 81-02-07-2001'!$R$14:$R$19)*(B12<='СБЦП 81-02-07-2001'!$S$14:$S$19)*ROW('СБЦП 81-02-07-2001'!$R$14:$R$19))-13),IF(A12=списки!$C$46,INDEX('СБЦП 81-02-07-2001'!$W$23:$W$24,MAX((B12>'СБЦП 81-02-07-2001'!$Y$23:$Y$24)*(B12<='СБЦП 81-02-07-2001'!$Z$23:$Z$24)*ROW('СБЦП 81-02-07-2001'!$W$23:$W$24))-22),IF(A12=списки!$C$47,INDEX('СБЦП 81-02-07-2001'!$AD$29:$AD$35,MAX((B12/1000>'СБЦП 81-02-07-2001'!$AF$29:$AF$35)*(B12/1000<='СБЦП 81-02-07-2001'!$AG$29:$AG$35)*ROW('СБЦП 81-02-07-2001'!$AD$29:$AD$35))-28),""))))),"")} | R12: {=IFERROR(IF(OR(A12=списки!$C$41,A12=списки!$C$42,A12=списки!$C$43),INDEX('СБЦП 81-02-07-2001'!$E$3:$E$89,MAX((B12='СБЦП 81-02-07-2001'!$B$3:$B$89)*(C12/1000>'СБЦП 81-02-07-2001'!$C$3:$C$89)*(C12/1000<='СБЦП 81-02-07-2001'!$D$3:$D$89)*ROW('СБЦП 81-02-07-2001'!$C$3:$C$89)-2)),IF(A12=списки!$C$44,VLOOKUP(B12,'СБЦП 81-02-07-2001'!$L$2:$N$9,2,FALSE),IF(A12=списки!$C$45,INDEX('СБЦП 81-02-07-2001'!$T$14:$T$19,MAX((B12>'СБЦП 81-02-07-2001'!$R$14:$R$19)*(B12<='СБЦП 81-02-07-2001'!$S$14:$S$19)*ROW('СБЦП 81-02-07-2001'!$R$14:$R$19))-13),IF(A12=списки!$C$46,INDEX('СБЦП 81-02-07-2001'!$AA$23:$AA$24,MAX((B12>'СБЦП 81-02-07-2001'!$Y$23:$Y$24)*(B12<='СБЦП 81-02-07-2001'!$Z$23:$Z$24)*ROW('СБЦП 81-02-07-2001'!$AA$23:$AA$24))-22),IF(A12=списки!$C$47,INDEX('СБЦП 81-02-07-2001'!$AH$29:$AH$35,MAX((B12/1000>'СБЦП 81-02-07-2001'!$AF$29:$AF$35)*(B12/1000<='СБЦП 81-02-07-2001'!$AG$29:$AG$35)*ROW('СБЦП 81-02-07-2001'!$AH$29:$AH$35))-28),""))))),"")} | S12: {=IFERROR(IF(OR(A12=списки!$C$41,A12=списки!$C$42,A12=списки!$C$43),INDEX('СБЦП 81-02-07-2001'!$F$3:$F$89,MAX((B12='СБЦП 81-02-07-2001'!$B$3:$B$89)*(C12/1000>'СБЦП 81-02-07-2001'!$C$3:$C$89)*(C12/1000<='СБЦП 81-02-07-2001'!$D$3:$D$89)*ROW('СБЦП 81-02-07-2001'!$C$3:$C$89)-2)),IF(A12=списки!$C$44,VLOOKUP(B12,'СБЦП 81-02-07-2001'!$L$2:$N$9,3,FALSE),IF(A12=списки!$C$45,INDEX('СБЦП 81-02-07-2001'!$U$14:$U$19,MAX((B12>'СБЦП 81-02-07-2001'!$R$14:$R$19)*(B12<='СБЦП 81-02-07-2001'!$S$14:$S$19)*ROW('СБЦП 81-02-07-2001'!$R$14:$R$19))-13),IF(A12=списки!$C$46,INDEX('СБЦП 81-02-07-2001'!$AB$23:$AB$24,MAX((B12>'СБЦП 81-02-07-2001'!$Y$23:$Y$24)*(B12<='СБЦП 81-02-07-2001'!$Z$23:$Z$24)*ROW('СБЦП 81-02-07-2001'!$AB$23:$AB$24))-22),IF(A12=списки!$C$47,INDEX('СБЦП 81-02-07-2001'!$AI$29:$AI$35,MAX((B12/1000>'СБЦП 81-02-07-2001'!$AF$29:$AF$35)*(B12/1000<='СБЦП 81-02-07-2001'!$AG$29:$AG$35)*ROW('СБЦП 81-02-07-2001'!$AI$29:$AI$35))-28),""))))),"")} | U12: =IF(OR(A12=списки!$C$41,A12=списки!$C$42,A12=списки!$C$43),IF(ISBLANK(J12),"",коэфф.!$E$2),"") | V12: =IF(OR(A12=списки!$C$41,A12=списки!$C$42,A12=списки!$C$43),IF(D12-2>0,0.25,""),"") | W12: =IF(OR(A12=списки!$C$42,A12=списки!$C$43)=TRUE,коэфф.!$E$4,"") | X12: =IF(ISBLANK(K12),"",IF(ISBLANK($O$1),1.1,$O$1)) | Y12: {=IF(OR(A12=списки!$C$41,A12=списки!$C$42,A12=списки!$C$43),IF($H12<5,"",INDEX(коэфф.!$E$7:$E$8,MAX((ИД!$H12>=коэфф.!$C$7:$C$8)*(ИД!$H12<=коэфф.!$D$7:$D$8)*ROW(коэфф.!$D$7:$D$8)-6))),"")} | Z12: =IF(OR(A12=списки!$C$41,A12=списки!$C$42,A12=списки!$C$43),IF(ISBLANK(I12),"",коэфф.!$E$9),"") | AA12: =IF(OR(A12=списки!$C$41,A12=списки!$C$42,A12=списки!$C$43),IF(E12=списки!$C$21,IF(ISBLANK(ИД!$O$2),IFERROR(VLOOKUP($E12,коэфф.!$A$11:$E$12,5,FALSE),""),$O$2),IFERROR(VLOOKUP($E12,коэфф.!$A$11:$E$12,5,FALSE),"")),"") | AB12: =IF(OR(A12=списки!$C$41,A12=списки!$C$42,A12=списки!$C$43),IF($E12=списки!$C$22,"",IF($F12>2,коэфф.!$E$17,"")),"") | AC12: =IF(OR(A12=списки!$C$41,A12=списки!$C$42,A12=списки!$C$43),IF($E12=списки!$C$22,IF(ISBLANK($O$3),IF($G12>1.5,коэфф.!$E$15,коэфф.!$E$14),$O$3),""),"") | AD12: =IF(A12=списки!$C$44,IF(ИД!D12>2,коэфф.!$E$18,""),"") | AE12: =IF(A12=списки!$C$44,IF(C12>1,коэфф.!$E$19,""),"") | AF12: =IF(A12=списки!$C$47,IF(ISBLANK(M12),"",коэфф.!$E$20),"") | AG12: =IF(A12=списки!$C$47,IF(ISBLANK(N12),"",коэфф.!$E$21),"") | AH12: =IF(A12=списки!$C$46,IF(ISBLANK(L12),"",коэфф.!$E$22),"") | AI12: =IF(ISBLANK(O12),"",IF(ISBLANK($O$4),1.3,$O$4)) | AK12: =IF(ISBLANK(A12),"",CONCATENATE(,A12," ",_xlfn.IFNA(IF(A12=списки!$C$41,ИД!D12,IF(A12=списки!$C$42,ИД!D12,IF(A12=списки!$C$43,ИД!D12,IF(A12=списки!$C$44,ИД!D12,"")))),""),VLOOKUP(A12,списки!$C$41:$E$47,3,FALSE),B12,VLOOKUP(A12,списки!$C$41:$D$47,2,FALSE),_xlfn.IFNA(IF(A12=списки!$C$41,CONCATENATE(" - ",ИД!C12," м"),IF(A12=списки!$C$42,CONCATENATE(" - ",ИД!C12," м"),IF(A12=списки!$C$43,CONCATENATE(" - ",ИД!C12," м"),""))),""),_xlfn.IFNA(IF(A12=списки!$C$41,CONCATENATE(", ",ИД!E12),IF(A12=списки!$C$42,CONCATENATE(", ",ИД!E12),IF(A12=списки!$C$43,CONCATENATE(", ",ИД!E12),""))),""),_xlfn.IFNA(IF(A12=списки!$C$44,CONCATENATE(" - ",ИД!C12," шт."),""),""))) | AL12: =IF(ISBLANK(A12),"",CONCATENATE("СБЦП 81-02-07-2001 от 24.05.2012 г.",CHAR(10),VLOOKUP($Q12,Списки_3!$B$3:$H$286,7,FALSE),IF(U12="","",CHAR(10)),AM12,IF(V12="","",CHAR(10)),AN12,IF(W12="","",CHAR(10)),AO12,IF(X12="","",CHAR(10)),AP12,IF(Y12="","",CHAR(10)),AQ12,IF(Z12="","",CHAR(10)),AR12,IF(AA12="","",CHAR(10)),AS12,IF(AB12="","",CHAR(10)),AT12,IF(AC12="","",CHAR(10)),AU12,IF(AD12="","",CHAR(10)),AV12,IF(AE12="","",CHAR(10)),AW12,IF(AF12="","",CHAR(10)),AX12,IF(AG12="","",CHAR(10)),AY12,IF(AH12="","",CHAR(10)),AZ12,IF(AI12="","",CHAR(10)),BA12)) | AM12: =IF(U12="","",CONCATENATE($U$10," - прокладка совместно с технологическими трубопроводами - ",U12)) | AN12: =IF(V12="","",CONCATENATE($V$10," - при совместной прокладке тепловых сетей более двух трубопроводов стоимость каждого последующего трубопровода - ",V12)) | AO12: =IF(W12="","",CONCATENATE($W$10," - стоимость проектирования паропроводов и конденсатопроводов тепловых сетей - ",W12)) | AP12: =IF(X12="","",CONCATENATE($X$10," - проектировании тепловой сети, проходящей по территории с коэффициентом застройки от 0.3 до 0.8"," - ",X12)) | AQ12: =IF(Y12="","",CONCATENATE($Y$10," - при пересечении проектируемой тепловой сети ",IF(Y12=1.1,"от 5 до 10","более 10")," существующих коммуникаций"," - ",Y12)) | AR12: =IF(Z12="","",CONCATENATE($Z$10," - при проектировании на пересеченном рельефе местности с оврагами - ",Z12)) | AS12: =IF(AA12="","",CONCATENATE($AA$10," - ",E12," - ",AA12)) | AT12: =IF(AB12="","",CONCATENATE($AB$10," - при глубине заложения тепловой сети более 2 м - ",AB12)) | AU12: =IF(AC12="","",CONCATENATE($AC$10," - надземная прокладка на железобетонных сборных опорах высотой ",IF(AC12=0.85,"до 1.5 м","свыше 1.5 м")," - ",AC12)) | AV12: =IF(AD12="","",CONCATENATE($AD$10," - совмещение нескольких магистралей в одном узле - ",AD12)) | AW12: =IF(AE12="","",CONCATENATE($AE$10," - каждый повторяющийся узел - ",AE12)) | AX12: =IF(AF12="","",CONCATENATE($AF$10," - использование герметика - ",AF12)) | AY12: =IF(AG12="","",CONCATENATE($AG$10," - усиление баков от лавинообразного разрушения - ",AG12)) | AZ12: =IF(AH12="","",CONCATENATE($AH$10," - установка паровых подогревателей, редуцирующих устройств и системы сбора конденсата - ",AH12)) | BA12: =IF(ISBLANK(O12),"",CONCATENATE("Методические указания по применению СБЦ по приказу Минрегиона России №620 от 29.12.2009 г.",CHAR(10),"п. 3.4 - ",O12," объекта - ",AI12)) | BC12: =IF(ISBLANK(A12),"",CONCATENATE("(",R12,"+",S12,"×",(IF(A12=списки!$C$41,C12/1000,IF(A12=списки!$C$42,C12/1000,IF(A12=списки!$C$43,C12/1000,IF(A12=списки!$C$44,1,IF(A12=списки!$C$45,B12,IF(A12=списки!$C$46,B12,IF(A12=списки!$C$47,C12,"")))))))),")",IF(ISNUMBER(U12),CONCATENATE("×",U12),""),IF(ISNUMBER(W12),CONCATENATE("×",W12),""),IF(ISNUMBER(X12),CONCATENATE("×",X12),""),IF(ISNUMBER(Y12),CONCATENATE("×",Y12),""),IF(ISNUMBER(Z12),CONCATENATE("×",Z12),""),IF(ISNUMBER(AA12),CONCATENATE("×",AA12),""),IF(ISNUMBER(AB12),CONCATENATE("×",AB12),""),IF(ISNUMBER(AC12),CONCATENATE("×",AC12),""),IF(ISNUMBER(AF12),CONCATENATE("×",AF12),""),IF(ISNUMBER(AG12),CONCATENATE("×",AG12),""),IF(ISNUMBER(AH12),CONCATENATE("×",AH12),""),IF(ISNUMBER(AD12),CONCATENATE("×",AD12),""),IF(ISNUMBER(AI12),CONCATENATE("×",AI12),""),IF(ISNUMBER(V12),CONCATENATE("+(",R12,"+",S12,"×",(C12/1000),")","×",D12-2,"×",V12),""),IF(ISNUMBER(AE12),CONCATENATE("+(",R12,"+",S12,"×",1,")","×",AD12,"×",C12-1,"×",AE12),""))) | BD12: =ROUND(IF(ISBLANK(A12),"",(R12+S12*(_xlfn.IFNA(IF(A12=списки!$C$41,(C12/1000),IF(A12=списки!$C$42,(C12/1000),IF(A12=списки!$C$43,(C12/1000),IF(A12=списки!$C$44,1,IF(A12=списки!$C$45,B12,IF(A12=списки!$C$46,B12,IF(A12=списки!$C$47,C12,""))))))),"")))*IF(ISNUMBER(U12),U12,1)*IF(ISNUMBER(W12),W12,1)*IF(ISNUMBER(X12),X12,1)*IF(ISNUMBER(Y12),Y12,1)*IF(ISNUMBER(Z12),Z12,1)*IF(ISNUMBER(AA12),AA12,1)*IF(ISNUMBER(AB12),AB12,1)*IF(ISNUMBER(AC12),AC12,1)*IF(ISNUMBER(AD12),AD12,1)*IF(ISNUMBER(AF12),AF12,1)*IF(ISNUMBER(AG12),AG12,1)*IF(ISNUMBER(AH12),AH12,1)*IF(ISNUMBER(AI12),AI12,1)+IF(ISNUMBER(V12),(R12+S12*C12/1000)*(V12*(D12-2)),0)+IF(ISNUMBER(AE12),(R12+S12*1)*AD12*(AE12*(C12-1)),0)),5) -> #VALUE!
Q13: {=IFERROR(IF(OR(A13=списки!$C$41,A13=списки!$C$42,A13=списки!$C$43),INDEX('СБЦП 81-02-07-2001'!$A$3:$A$89,MAX((B13='СБЦП 81-02-07-2001'!$B$3:$B$89)*(C13/1000>'СБЦП 81-02-07-2001'!$C$3:$C$89)*(C13/1000<='СБЦП 81-02-07-2001'!$D$3:$D$89)*ROW('СБЦП 81-02-07-2001'!$C$3:$C$89)-2)),IF(A13=списки!$C$44,VLOOKUP(B13,'СБЦП 81-02-07-2001'!$L$2:$O$9,4,FALSE),IF(A13=списки!$C$45,INDEX('СБЦП 81-02-07-2001'!$P$14:$P$19,MAX((B13>'СБЦП 81-02-07-2001'!$R$14:$R$19)*(B13<='СБЦП 81-02-07-2001'!$S$14:$S$19)*ROW('СБЦП 81-02-07-2001'!$R$14:$R$19))-13),IF(A13=списки!$C$46,INDEX('СБЦП 81-02-07-2001'!$W$23:$W$24,MAX((B13>'СБЦП 81-02-07-2001'!$Y$23:$Y$24)*(B13<='СБЦП 81-02-07-2001'!$Z$23:$Z$24)*ROW('СБЦП 81-02-07-2001'!$W$23:$W$24))-22),IF(A13=списки!$C$47,INDEX('СБЦП 81-02-07-2001'!$AD$29:$AD$35,MAX((B13/1000>'СБЦП 81-02-07-2001'!$AF$29:$AF$35)*(B13/1000<='СБЦП 81-02-07-2001'!$AG$29:$AG$35)*ROW('СБЦП 81-02-07-2001'!$AD$29:$AD$35))-28),""))))),"")} | R13: {=IFERROR(IF(OR(A13=списки!$C$41,A13=списки!$C$42,A13=списки!$C$43),INDEX('СБЦП 81-02-07-2001'!$E$3:$E$89,MAX((B13='СБЦП 81-02-07-2001'!$B$3:$B$89)*(C13/1000>'СБЦП 81-02-07-2001'!$C$3:$C$89)*(C13/1000<='СБЦП 81-02-07-2001'!$D$3:$D$89)*ROW('СБЦП 81-02-07-2001'!$C$3:$C$89)-2)),IF(A13=списки!$C$44,VLOOKUP(B13,'СБЦП 81-02-07-2001'!$L$2:$N$9,2,FALSE),IF(A13=списки!$C$45,INDEX('СБЦП 81-02-07-2001'!$T$14:$T$19,MAX((B13>'СБЦП 81-02-07-2001'!$R$14:$R$19)*(B13<='СБЦП 81-02-07-2001'!$S$14:$S$19)*ROW('СБЦП 81-02-07-2001'!$R$14:$R$19))-13),IF(A13=списки!$C$46,INDEX('СБЦП 81-02-07-2001'!$AA$23:$AA$24,MAX((B13>'СБЦП 81-02-07-2001'!$Y$23:$Y$24)*(B13<='СБЦП 81-02-07-2001'!$Z$23:$Z$24)*ROW('СБЦП 81-02-07-2001'!$AA$23:$AA$24))-22),IF(A13=списки!$C$47,INDEX('СБЦП 81-02-07-2001'!$AH$29:$AH$35,MAX((B13/1000>'СБЦП 81-02-07-2001'!$AF$29:$AF$35)*(B13/1000<='СБЦП 81-02-07-2001'!$AG$29:$AG$35)*ROW('СБЦП 81-02-07-2001'!$AH$29:$AH$35))-28),""))))),"")} | S13: {=IFERROR(IF(OR(A13=списки!$C$41,A13=списки!$C$42,A13=списки!$C$43),INDEX('СБЦП 81-02-07-2001'!$F$3:$F$89,MAX((B13='СБЦП 81-02-07-2001'!$B$3:$B$89)*(C13/1000>'СБЦП 81-02-07-2001'!$C$3:$C$89)*(C13/1000<='СБЦП 81-02-07-2001'!$D$3:$D$89)*ROW('СБЦП 81-02-07-2001'!$C$3:$C$89)-2)),IF(A13=списки!$C$44,VLOOKUP(B13,'СБЦП 81-02-07-2001'!$L$2:$N$9,3,FALSE),IF(A13=списки!$C$45,INDEX('СБЦП 81-02-07-2001'!$U$14:$U$19,MAX((B13>'СБЦП 81-02-07-2001'!$R$14:$R$19)*(B13<='СБЦП 81-02-07-2001'!$S$14:$S$19)*ROW('СБЦП 81-02-07-2001'!$R$14:$R$19))-13),IF(A13=списки!$C$46,INDEX('СБЦП 81-02-07-2001'!$AB$23:$AB$24,MAX((B13>'СБЦП 81-02-07-2001'!$Y$23:$Y$24)*(B13<='СБЦП 81-02-07-2001'!$Z$23:$Z$24)*ROW('СБЦП 81-02-07-2001'!$AB$23:$AB$24))-22),IF(A13=списки!$C$47,INDEX('СБЦП 81-02-07-2001'!$AI$29:$AI$35,MAX((B13/1000>'СБЦП 81-02-07-2001'!$AF$29:$AF$35)*(B13/1000<='СБЦП 81-02-07-2001'!$AG$29:$AG$35)*ROW('СБЦП 81-02-07-2001'!$AI$29:$AI$35))-28),""))))),"")} | U13: =IF(OR(A13=списки!$C$41,A13=списки!$C$42,A13=списки!$C$43),IF(ISBLANK(J13),"",коэфф.!$E$2),"") | V13: =IF(OR(A13=списки!$C$41,A13=списки!$C$42,A13=списки!$C$43),IF(D13-2>0,0.25,""),"") | W13: =IF(OR(A13=списки!$C$42,A13=списки!$C$43)=TRUE,коэфф.!$E$4,"") | X13: =IF(ISBLANK(K13),"",IF(ISBLANK($O$1),1.1,$O$1)) | Y13: {=IF(OR(A13=списки!$C$41,A13=списки!$C$42,A13=списки!$C$43),IF($H13<5,"",INDEX(коэфф.!$E$7:$E$8,MAX((ИД!$H13>=коэфф.!$C$7:$C$8)*(ИД!$H13<=коэфф.!$D$7:$D$8)*ROW(коэфф.!$D$7:$D$8)-6))),"")} | Z13: =IF(OR(A13=списки!$C$41,A13=списки!$C$42,A13=списки!$C$43),IF(ISBLANK(I13),"",коэфф.!$E$9),"") | AA13: =IF(OR(A13=списки!$C$41,A13=списки!$C$42,A13=списки!$C$43),IF(E13=списки!$C$21,IF(ISBLANK(ИД!$O$2),IFERROR(VLOOKUP($E13,коэфф.!$A$11:$E$12,5,FALSE),""),$O$2),IFERROR(VLOOKUP($E13,коэфф.!$A$11:$E$12,5,FALSE),"")),"") | AB13: =IF(OR(A13=списки!$C$41,A13=списки!$C$42,A13=списки!$C$43),IF($E13=списки!$C$22,"",IF($F13>2,коэфф.!$E$17,"")),"") | AC13: =IF(OR(A13=списки!$C$41,A13=списки!$C$42,A13=списки!$C$43),IF($E13=списки!$C$22,IF(ISBLANK($O$3),IF($G13>1.5,коэфф.!$E$15,коэфф.!$E$14),$O$3),""),"") | AD13: =IF(A13=списки!$C$44,IF(ИД!D13>2,коэфф.!$E$18,""),"") | AE13: =IF(A13=списки!$C$44,IF(C13>1,коэфф.!$E$19,""),"") | AF13: =IF(A13=списки!$C$47,IF(ISBLANK(M13),"",коэфф.!$E$20),"") | AG13: =IF(A13=списки!$C$47,IF(ISBLANK(N13),"",коэфф.!$E$21),"") | AH13: =IF(A13=списки!$C$46,IF(ISBLANK(L13),"",коэфф.!$E$22),"") | AI13: =IF(ISBLANK(O13),"",IF(ISBLANK($O$4),1.3,$O$4)) | AK13: =IF(ISBLANK(A13),"",CONCATENATE(,A13," ",_xlfn.IFNA(IF(A13=списки!$C$41,ИД!D13,IF(A13=списки!$C$42,ИД!D13,IF(A13=списки!$C$43,ИД!D13,IF(A13=списки!$C$44,ИД!D13,"")))),""),VLOOKUP(A13,списки!$C$41:$E$47,3,FALSE),B13,VLOOKUP(A13,списки!$C$41:$D$47,2,FALSE),_xlfn.IFNA(IF(A13=списки!$C$41,CONCATENATE(" - ",ИД!C13," м"),IF(A13=списки!$C$42,CONCATENATE(" - ",ИД!C13," м"),IF(A13=списки!$C$43,CONCATENATE(" - ",ИД!C13," м"),""))),""),_xlfn.IFNA(IF(A13=списки!$C$41,CONCATENATE(", ",ИД!E13),IF(A13=списки!$C$42,CONCATENATE(", ",ИД!E13),IF(A13=списки!$C$43,CONCATENATE(", ",ИД!E13),""))),""),_xlfn.IFNA(IF(A13=списки!$C$44,CONCATENATE(" - ",ИД!C13," шт."),""),""))) | AL13: =IF(ISBLANK(A13),"",CONCATENATE("СБЦП 81-02-07-2001 от 24.05.2012 г.",CHAR(10),VLOOKUP($Q13,Списки_3!$B$3:$H$286,7,FALSE),IF(U13="","",CHAR(10)),AM13,IF(V13="","",CHAR(10)),AN13,IF(W13="","",CHAR(10)),AO13,IF(X13="","",CHAR(10)),AP13,IF(Y13="","",CHAR(10)),AQ13,IF(Z13="","",CHAR(10)),AR13,IF(AA13="","",CHAR(10)),AS13,IF(AB13="","",CHAR(10)),AT13,IF(AC13="","",CHAR(10)),AU13,IF(AD13="","",CHAR(10)),AV13,IF(AE13="","",CHAR(10)),AW13,IF(AF13="","",CHAR(10)),AX13,IF(AG13="","",CHAR(10)),AY13,IF(AH13="","",CHAR(10)),AZ13,IF(AI13="","",CHAR(10)),BA13)) | AM13: =IF(U13="","",CONCATENATE($U$10," - прокладка совместно с технологическими трубопроводами - ",U13)) | AN13: =IF(V13="","",CONCATENATE($V$10," - при совместной прокладке тепловых сетей более двух трубопроводов стоимость каждого последующего трубопровода - ",V13)) | AO13: =IF(W13="","",CONCATENATE($W$10," - стоимость проектирования паропроводов и конденсатопроводов тепловых сетей - ",W13)) | AP13: =IF(X13="","",CONCATENATE($X$10," - проектировании тепловой сети, проходящей по территории с коэффициентом застройки от 0.3 до 0.8"," - ",X13)) | AQ13: =IF(Y13="","",CONCATENATE($Y$10," - при пересечении проектируемой тепловой сети ",IF(Y13=1.1,"от 5 до 10","более 10")," существующих коммуникаций"," - ",Y13)) | AR13: =IF(Z13="","",CONCATENATE($Z$10," - при проектировании на пересеченном рельефе местности с оврагами - ",Z13)) | AS13: =IF(AA13="","",CONCATENATE($AA$10," - ",E13," - ",AA13)) | AT13: =IF(AB13="","",CONCATENATE($AB$10," - при глубине заложения тепловой сети более 2 м - ",AB13)) | AU13: =IF(AC13="","",CONCATENATE($AC$10," - надземная прокладка на железобетонных сборных опорах высотой ",IF(AC13=0.85,"до 1.5 м","свыше 1.5 м")," - ",AC13)) | AV13: =IF(AD13="","",CONCATENATE($AD$10," - совмещение нескольких магистралей в одном узле - ",AD13)) | AW13: =IF(AE13="","",CONCATENATE($AE$10," - каждый повторяющийся узел - ",AE13)) | AX13: =IF(AF13="","",CONCATENATE($AF$10," - использование герметика - ",AF13)) | AY13: =IF(AG13="","",CONCATENATE($AG$10," - усиление баков от лавинообразного разрушения - ",AG13)) | AZ13: =IF(AH13="","",CONCATENATE($AH$10," - установка паровых подогревателей, редуцирующих устройств и системы сбора конденсата - ",AH13)) | BA13: =IF(ISBLANK(O13),"",CONCATENATE("Методические указания по применению СБЦ по приказу Минрегиона России №620 от 29.12.2009 г.",CHAR(10),"п. 3.4 - ",O13," объекта - ",AI13)) | BC13: =IF(ISBLANK(A13),"",CONCATENATE("(",R13,"+",S13,"×",(IF(A13=списки!$C$41,C13/1000,IF(A13=списки!$C$42,C13/1000,IF(A13=списки!$C$43,C13/1000,IF(A13=списки!$C$44,1,IF(A13=списки!$C$45,B13,IF(A13=списки!$C$46,B13,IF(A13=списки!$C$47,C13,"")))))))),")",IF(ISNUMBER(U13),CONCATENATE("×",U13),""),IF(ISNUMBER(W13),CONCATENATE("×",W13),""),IF(ISNUMBER(X13),CONCATENATE("×",X13),""),IF(ISNUMBER(Y13),CONCATENATE("×",Y13),""),IF(ISNUMBER(Z13),CONCATENATE("×",Z13),""),IF(ISNUMBER(AA13),CONCATENATE("×",AA13),""),IF(ISNUMBER(AB13),CONCATENATE("×",AB13),""),IF(ISNUMBER(AC13),CONCATENATE("×",AC13),""),IF(ISNUMBER(AF13),CONCATENATE("×",AF13),""),IF(ISNUMBER(AG13),CONCATENATE("×",AG13),""),IF(ISNUMBER(AH13),CONCATENATE("×",AH13),""),IF(ISNUMBER(AD13),CONCATENATE("×",AD13),""),IF(ISNUMBER(AI13),CONCATENATE("×",AI13),""),IF(ISNUMBER(V13),CONCATENATE("+(",R13,"+",S13,"×",(C13/1000),")","×",D13-2,"×",V13),""),IF(ISNUMBER(AE13),CONCATENATE("+(",R13,"+",S13,"×",1,")","×",AD13,"×",C13-1,"×",AE13),""))) | BD13: =ROUND(IF(ISBLANK(A13),"",(R13+S13*(_xlfn.IFNA(IF(A13=списки!$C$41,(C13/1000),IF(A13=списки!$C$42,(C13/1000),IF(A13=списки!$C$43,(C13/1000),IF(A13=списки!$C$44,1,IF(A13=списки!$C$45,B13,IF(A13=списки!$C$46,B13,IF(A13=списки!$C$47,C13,""))))))),"")))*IF(ISNUMBER(U13),U13,1)*IF(ISNUMBER(W13),W13,1)*IF(ISNUMBER(X13),X13,1)*IF(ISNUMBER(Y13),Y13,1)*IF(ISNUMBER(Z13),Z13,1)*IF(ISNUMBER(AA13),AA13,1)*IF(ISNUMBER(AB13),AB13,1)*IF(ISNUMBER(AC13),AC13,1)*IF(ISNUMBER(AD13),AD13,1)*IF(ISNUMBER(AF13),AF13,1)*IF(ISNUMBER(AG13),AG13,1)*IF(ISNUMBER(AH13),AH13,1)*IF(ISNUMBER(AI13),AI13,1)+IF(ISNUMBER(V13),(R13+S13*C13/1000)*(V13*(D13-2)),0)+IF(ISNUMBER(AE13),(R13+S13*1)*AD13*(AE13*(C13-1)),0)),5) -> #VALUE!
Q14: {=IFERROR(IF(OR(A14=списки!$C$41,A14=списки!$C$42,A14=списки!$C$43),INDEX('СБЦП 81-02-07-2001'!$A$3:$A$89,MAX((B14='СБЦП 81-02-07-2001'!$B$3:$B$89)*(C14/1000>'СБЦП 81-02-07-2001'!$C$3:$C$89)*(C14/1000<='СБЦП 81-02-07-2001'!$D$3:$D$89)*ROW('СБЦП 81-02-07-2001'!$C$3:$C$89)-2)),IF(A14=списки!$C$44,VLOOKUP(B14,'СБЦП 81-02-07-2001'!$L$2:$O$9,4,FALSE),IF(A14=списки!$C$45,INDEX('СБЦП 81-02-07-2001'!$P$14:$P$19,MAX((B14>'СБЦП 81-02-07-2001'!$R$14:$R$19)*(B14<='СБЦП 81-02-07-2001'!$S$14:$S$19)*ROW('СБЦП 81-02-07-2001'!$R$14:$R$19))-13),IF(A14=списки!$C$46,INDEX('СБЦП 81-02-07-2001'!$W$23:$W$24,MAX((B14>'СБЦП 81-02-07-2001'!$Y$23:$Y$24)*(B14<='СБЦП 81-02-07-2001'!$Z$23:$Z$24)*ROW('СБЦП 81-02-07-2001'!$W$23:$W$24))-22),IF(A14=списки!$C$47,INDEX('СБЦП 81-02-07-2001'!$AD$29:$AD$35,MAX((B14/1000>'СБЦП 81-02-07-2001'!$AF$29:$AF$35)*(B14/1000<='СБЦП 81-02-07-2001'!$AG$29:$AG$35)*ROW('СБЦП 81-02-07-2001'!$AD$29:$AD$35))-28),""))))),"")} | R14: {=IFERROR(IF(OR(A14=списки!$C$41,A14=списки!$C$42,A14=списки!$C$43),INDEX('СБЦП 81-02-07-2001'!$E$3:$E$89,MAX((B14='СБЦП 81-02-07-2001'!$B$3:$B$89)*(C14/1000>'СБЦП 81-02-07-2001'!$C$3:$C$89)*(C14/1000<='СБЦП 81-02-07-2001'!$D$3:$D$89)*ROW('СБЦП 81-02-07-2001'!$C$3:$C$89)-2)),IF(A14=списки!$C$44,VLOOKUP(B14,'СБЦП 81-02-07-2001'!$L$2:$N$9,2,FALSE),IF(A14=списки!$C$45,INDEX('СБЦП 81-02-07-2001'!$T$14:$T$19,MAX((B14>'СБЦП 81-02-07-2001'!$R$14:$R$19)*(B14<='СБЦП 81-02-07-2001'!$S$14:$S$19)*ROW('СБЦП 81-02-07-2001'!$R$14:$R$19))-13),IF(A14=списки!$C$46,INDEX('СБЦП 81-02-07-2001'!$AA$23:$AA$24,MAX((B14>'СБЦП 81-02-07-2001'!$Y$23:$Y$24)*(B14<='СБЦП 81-02-07-2001'!$Z$23:$Z$24)*ROW('СБЦП 81-02-07-2001'!$AA$23:$AA$24))-22),IF(A14=списки!$C$47,INDEX('СБЦП 81-02-07-2001'!$AH$29:$AH$35,MAX((B14/1000>'СБЦП 81-02-07-2001'!$AF$29:$AF$35)*(B14/1000<='СБЦП 81-02-07-2001'!$AG$29:$AG$35)*ROW('СБЦП 81-02-07-2001'!$AH$29:$AH$35))-28),""))))),"")} | S14: {=IFERROR(IF(OR(A14=списки!$C$41,A14=списки!$C$42,A14=списки!$C$43),INDEX('СБЦП 81-02-07-2001'!$F$3:$F$89,MAX((B14='СБЦП 81-02-07-2001'!$B$3:$B$89)*(C14/1000>'СБЦП 81-02-07-2001'!$C$3:$C$89)*(C14/1000<='СБЦП 81-02-07-2001'!$D$3:$D$89)*ROW('СБЦП 81-02-07-2001'!$C$3:$C$89)-2)),IF(A14=списки!$C$44,VLOOKUP(B14,'СБЦП 81-02-07-2001'!$L$2:$N$9,3,FALSE),IF(A14=списки!$C$45,INDEX('СБЦП 81-02-07-2001'!$U$14:$U$19,MAX((B14>'СБЦП 81-02-07-2001'!$R$14:$R$19)*(B14<='СБЦП 81-02-07-2001'!$S$14:$S$19)*ROW('СБЦП 81-02-07-2001'!$R$14:$R$19))-13),IF(A14=списки!$C$46,INDEX('СБЦП 81-02-07-2001'!$AB$23:$AB$24,MAX((B14>'СБЦП 81-02-07-2001'!$Y$23:$Y$24)*(B14<='СБЦП 81-02-07-2001'!$Z$23:$Z$24)*ROW('СБЦП 81-02-07-2001'!$AB$23:$AB$24))-22),IF(A14=списки!$C$47,INDEX('СБЦП 81-02-07-2001'!$AI$29:$AI$35,MAX((B14/1000>'СБЦП 81-02-07-2001'!$AF$29:$AF$35)*(B14/1000<='СБЦП 81-02-07-2001'!$AG$29:$AG$35)*ROW('СБЦП 81-02-07-2001'!$AI$29:$AI$35))-28),""))))),"")} | U14: =IF(OR(A14=списки!$C$41,A14=списки!$C$42,A14=списки!$C$43),IF(ISBLANK(J14),"",коэфф.!$E$2),"") | V14: =IF(OR(A14=списки!$C$41,A14=списки!$C$42,A14=списки!$C$43),IF(D14-2>0,0.25,""),"") | W14: =IF(OR(A14=списки!$C$42,A14=списки!$C$43)=TRUE,коэфф.!$E$4,"") | X14: =IF(ISBLANK(K14),"",IF(ISBLANK($O$1),1.1,$O$1)) | Y14: {=IF(OR(A14=списки!$C$41,A14=списки!$C$42,A14=списки!$C$43),IF($H14<5,"",INDEX(коэфф.!$E$7:$E$8,MAX((ИД!$H14>=коэфф.!$C$7:$C$8)*(ИД!$H14<=коэфф.!$D$7:$D$8)*ROW(коэфф.!$D$7:$D$8)-6))),"")} | Z14: =IF(OR(A14=списки!$C$41,A14=списки!$C$42,A14=списки!$C$43),IF(ISBLANK(I14),"",коэфф.!$E$9),"") | AA14: =IF(OR(A14=списки!$C$41,A14=списки!$C$42,A14=списки!$C$43),IF(E14=списки!$C$21,IF(ISBLANK(ИД!$O$2),IFERROR(VLOOKUP($E14,коэфф.!$A$11:$E$12,5,FALSE),""),$O$2),IFERROR(VLOOKUP($E14,коэфф.!$A$11:$E$12,5,FALSE),"")),"") | AB14: =IF(OR(A14=списки!$C$41,A14=списки!$C$42,A14=списки!$C$43),IF($E14=списки!$C$22,"",IF($F14>2,коэфф.!$E$17,"")),"") | AC14: =IF(OR(A14=списки!$C$41,A14=списки!$C$42,A14=списки!$C$43),IF($E14=списки!$C$22,IF(ISBLANK($O$3),IF($G14>1.5,коэфф.!$E$15,коэфф.!$E$14),$O$3),""),"") | AD14: =IF(A14=списки!$C$44,IF(ИД!D14>2,коэфф.!$E$18,""),"") | AE14: =IF(A14=списки!$C$44,IF(C14>1,коэфф.!$E$19,""),"") | AF14: =IF(A14=списки!$C$47,IF(ISBLANK(M14),"",коэфф.!$E$20),"") | AG14: =IF(A14=списки!$C$47,IF(ISBLANK(N14),"",коэфф.!$E$21),"") | AH14: =IF(A14=списки!$C$46,IF(ISBLANK(L14),"",коэфф.!$E$22),"") | AI14: =IF(ISBLANK(O14),"",IF(ISBLANK($O$4),1.3,$O$4)) | AK14: =IF(ISBLANK(A14),"",CONCATENATE(,A14," ",_xlfn.IFNA(IF(A14=списки!$C$41,ИД!D14,IF(A14=списки!$C$42,ИД!D14,IF(A14=списки!$C$43,ИД!D14,IF(A14=списки!$C$44,ИД!D14,"")))),""),VLOOKUP(A14,списки!$C$41:$E$47,3,FALSE),B14,VLOOKUP(A14,списки!$C$41:$D$47,2,FALSE),_xlfn.IFNA(IF(A14=списки!$C$41,CONCATENATE(" - ",ИД!C14," м"),IF(A14=списки!$C$42,CONCATENATE(" - ",ИД!C14," м"),IF(A14=списки!$C$43,CONCATENATE(" - ",ИД!C14," м"),""))),""),_xlfn.IFNA(IF(A14=списки!$C$41,CONCATENATE(", ",ИД!E14),IF(A14=списки!$C$42,CONCATENATE(", ",ИД!E14),IF(A14=списки!$C$43,CONCATENATE(", ",ИД!E14),""))),""),_xlfn.IFNA(IF(A14=списки!$C$44,CONCATENATE(" - ",ИД!C14," шт."),""),""))) | AL14: =IF(ISBLANK(A14),"",CONCATENATE("СБЦП 81-02-07-2001 от 24.05.2012 г.",CHAR(10),VLOOKUP($Q14,Списки_3!$B$3:$H$286,7,FALSE),IF(U14="","",CHAR(10)),AM14,IF(V14="","",CHAR(10)),AN14,IF(W14="","",CHAR(10)),AO14,IF(X14="","",CHAR(10)),AP14,IF(Y14="","",CHAR(10)),AQ14,IF(Z14="","",CHAR(10)),AR14,IF(AA14="","",CHAR(10)),AS14,IF(AB14="","",CHAR(10)),AT14,IF(AC14="","",CHAR(10)),AU14,IF(AD14="","",CHAR(10)),AV14,IF(AE14="","",CHAR(10)),AW14,IF(AF14="","",CHAR(10)),AX14,IF(AG14="","",CHAR(10)),AY14,IF(AH14="","",CHAR(10)),AZ14,IF(AI14="","",CHAR(10)),BA14)) | AM14: =IF(U14="","",CONCATENATE($U$10," - прокладка совместно с технологическими трубопроводами - ",U14)) | AN14: =IF(V14="","",CONCATENATE($V$10," - при совместной прокладке тепловых сетей более двух трубопроводов стоимость каждого последующего трубопровода - ",V14)) | AO14: =IF(W14="","",CONCATENATE($W$10," - стоимость проектирования паропроводов и конденсатопроводов тепловых сетей - ",W14)) | AP14: =IF(X14="","",CONCATENATE($X$10," - проектировании тепловой сети, проходящей по территории с коэффициентом застройки от 0.3 до 0.8"," - ",X14)) | AQ14: =IF(Y14="","",CONCATENATE($Y$10," - при пересечении проектируемой тепловой сети ",IF(Y14=1.1,"от 5 до 10","более 10")," существующих коммуникаций"," - ",Y14)) | AR14: =IF(Z14="","",CONCATENATE($Z$10," - при проектировании на пересеченном рельефе местности с оврагами - ",Z14)) | AS14: =IF(AA14="","",CONCATENATE($AA$10," - ",E14," - ",AA14)) | AT14: =IF(AB14="","",CONCATENATE($AB$10," - при глубине заложения тепловой сети более 2 м - ",AB14)) | AU14: =IF(AC14="","",CONCATENATE($AC$10," - надземная прокладка на железобетонных сборных опорах высотой ",IF(AC14=0.85,"до 1.5 м","свыше 1.5 м")," - ",AC14)) | AV14: =IF(AD14="","",CONCATENATE($AD$10," - совмещение нескольких магистралей в одном узле - ",AD14)) | AW14: =IF(AE14="","",CONCATENATE($AE$10," - каждый повторяющийся узел - ",AE14)) | AX14: =IF(AF14="","",CONCATENATE($AF$10," - использование герметика - ",AF14)) | AY14: =IF(AG14="","",CONCATENATE($AG$10," - усиление баков от лавинообразного разрушения - ",AG14)) | AZ14: =IF(AH14="","",CONCATENATE($AH$10," - установка паровых подогревателей, редуцирующих устройств и системы сбора конденсата - ",AH14)) | BA14: =IF(ISBLANK(O14),"",CONCATENATE("Методические указания по применению СБЦ по приказу Минрегиона России №620 от 29.12.2009 г.",CHAR(10),"п. 3.4 - ",O14," объекта - ",AI14)) | BC14: =IF(ISBLANK(A14),"",CONCATENATE("(",R14,"+",S14,"×",(IF(A14=списки!$C$41,C14/1000,IF(A14=списки!$C$42,C14/1000,IF(A14=списки!$C$43,C14/1000,IF(A14=списки!$C$44,1,IF(A14=списки!$C$45,B14,IF(A14=списки!$C$46,B14,IF(A14=списки!$C$47,C14,"")))))))),")",IF(ISNUMBER(U14),CONCATENATE("×",U14),""),IF(ISNUMBER(W14),CONCATENATE("×",W14),""),IF(ISNUMBER(X14),CONCATENATE("×",X14),""),IF(ISNUMBER(Y14),CONCATENATE("×",Y14),""),IF(ISNUMBER(Z14),CONCATENATE("×",Z14),""),IF(ISNUMBER(AA14),CONCATENATE("×",AA14),""),IF(ISNUMBER(AB14),CONCATENATE("×",AB14),""),IF(ISNUMBER(AC14),CONCATENATE("×",AC14),""),IF(ISNUMBER(AF14),CONCATENATE("×",AF14),""),IF(ISNUMBER(AG14),CONCATENATE("×",AG14),""),IF(ISNUMBER(AH14),CONCATENATE("×",AH14),""),IF(ISNUMBER(AD14),CONCATENATE("×",AD14),""),IF(ISNUMBER(AI14),CONCATENATE("×",AI14),""),IF(ISNUMBER(V14),CONCATENATE("+(",R14,"+",S14,"×",(C14/1000),")","×",D14-2,"×",V14),""),IF(ISNUMBER(AE14),CONCATENATE("+(",R14,"+",S14,"×",1,")","×",AD14,"×",C14-1,"×",AE14),""))) | BD14: =ROUND(IF(ISBLANK(A14),"",(R14+S14*(_xlfn.IFNA(IF(A14=списки!$C$41,(C14/1000),IF(A14=списки!$C$42,(C14/1000),IF(A14=списки!$C$43,(C14/1000),IF(A14=списки!$C$44,1,IF(A14=списки!$C$45,B14,IF(A14=списки!$C$46,B14,IF(A14=списки!$C$47,C14,""))))))),"")))*IF(ISNUMBER(U14),U14,1)*IF(ISNUMBER(W14),W14,1)*IF(ISNUMBER(X14),X14,1)*IF(ISNUMBER(Y14),Y14,1)*IF(ISNUMBER(Z14),Z14,1)*IF(ISNUMBER(AA14),AA14,1)*IF(ISNUMBER(AB14),AB14,1)*IF(ISNUMBER(AC14),AC14,1)*IF(ISNUMBER(AD14),AD14,1)*IF(ISNUMBER(AF14),AF14,1)*IF(ISNUMBER(AG14),AG14,1)*IF(ISNUMBER(AH14),AH14,1)*IF(ISNUMBER(AI14),AI14,1)+IF(ISNUMBER(V14),(R14+S14*C14/1000)*(V14*(D14-2)),0)+IF(ISNUMBER(AE14),(R14+S14*1)*AD14*(AE14*(C14-1)),0)),5) -> #VALUE!
Q15: {=IFERROR(IF(OR(A15=списки!$C$41,A15=списки!$C$42,A15=списки!$C$43),INDEX('СБЦП 81-02-07-2001'!$A$3:$A$89,MAX((B15='СБЦП 81-02-07-2001'!$B$3:$B$89)*(C15/1000>'СБЦП 81-02-07-2001'!$C$3:$C$89)*(C15/1000<='СБЦП 81-02-07-2001'!$D$3:$D$89)*ROW('СБЦП 81-02-07-2001'!$C$3:$C$89)-2)),IF(A15=списки!$C$44,VLOOKUP(B15,'СБЦП 81-02-07-2001'!$L$2:$O$9,4,FALSE),IF(A15=списки!$C$45,INDEX('СБЦП 81-02-07-2001'!$P$14:$P$19,MAX((B15>'СБЦП 81-02-07-2001'!$R$14:$R$19)*(B15<='СБЦП 81-02-07-2001'!$S$14:$S$19)*ROW('СБЦП 81-02-07-2001'!$R$14:$R$19))-13),IF(A15=списки!$C$46,INDEX('СБЦП 81-02-07-2001'!$W$23:$W$24,MAX((B15>'СБЦП 81-02-07-2001'!$Y$23:$Y$24)*(B15<='СБЦП 81-02-07-2001'!$Z$23:$Z$24)*ROW('СБЦП 81-02-07-2001'!$W$23:$W$24))-22),IF(A15=списки!$C$47,INDEX('СБЦП 81-02-07-2001'!$AD$29:$AD$35,MAX((B15/1000>'СБЦП 81-02-07-2001'!$AF$29:$AF$35)*(B15/1000<='СБЦП 81-02-07-2001'!$AG$29:$AG$35)*ROW('СБЦП 81-02-07-2001'!$AD$29:$AD$35))-28),""))))),"")} | R15: {=IFERROR(IF(OR(A15=списки!$C$41,A15=списки!$C$42,A15=списки!$C$43),INDEX('СБЦП 81-02-07-2001'!$E$3:$E$89,MAX((B15='СБЦП 81-02-07-2001'!$B$3:$B$89)*(C15/1000>'СБЦП 81-02-07-2001'!$C$3:$C$89)*(C15/1000<='СБЦП 81-02-07-2001'!$D$3:$D$89)*ROW('СБЦП 81-02-07-2001'!$C$3:$C$89)-2)),IF(A15=списки!$C$44,VLOOKUP(B15,'СБЦП 81-02-07-2001'!$L$2:$N$9,2,FALSE),IF(A15=списки!$C$45,INDEX('СБЦП 81-02-07-2001'!$T$14:$T$19,MAX((B15>'СБЦП 81-02-07-2001'!$R$14:$R$19)*(B15<='СБЦП 81-02-07-2001'!$S$14:$S$19)*ROW('СБЦП 81-02-07-2001'!$R$14:$R$19))-13),IF(A15=списки!$C$46,INDEX('СБЦП 81-02-07-2001'!$AA$23:$AA$24,MAX((B15>'СБЦП 81-02-07-2001'!$Y$23:$Y$24)*(B15<='СБЦП 81-02-07-2001'!$Z$23:$Z$24)*ROW('СБЦП 81-02-07-2001'!$AA$23:$AA$24))-22),IF(A15=списки!$C$47,INDEX('СБЦП 81-02-07-2001'!$AH$29:$AH$35,MAX((B15/1000>'СБЦП 81-02-07-2001'!$AF$29:$AF$35)*(B15/1000<='СБЦП 81-02-07-2001'!$AG$29:$AG$35)*ROW('СБЦП 81-02-07-2001'!$AH$29:$AH$35))-28),""))))),"")} | S15: {=IFERROR(IF(OR(A15=списки!$C$41,A15=списки!$C$42,A15=списки!$C$43),INDEX('СБЦП 81-02-07-2001'!$F$3:$F$89,MAX((B15='СБЦП 81-02-07-2001'!$B$3:$B$89)*(C15/1000>'СБЦП 81-02-07-2001'!$C$3:$C$89)*(C15/1000<='СБЦП 81-02-07-2001'!$D$3:$D$89)*ROW('СБЦП 81-02-07-2001'!$C$3:$C$89)-2)),IF(A15=списки!$C$44,VLOOKUP(B15,'СБЦП 81-02-07-2001'!$L$2:$N$9,3,FALSE),IF(A15=списки!$C$45,INDEX('СБЦП 81-02-07-2001'!$U$14:$U$19,MAX((B15>'СБЦП 81-02-07-2001'!$R$14:$R$19)*(B15<='СБЦП 81-02-07-2001'!$S$14:$S$19)*ROW('СБЦП 81-02-07-2001'!$R$14:$R$19))-13),IF(A15=списки!$C$46,INDEX('СБЦП 81-02-07-2001'!$AB$23:$AB$24,MAX((B15>'СБЦП 81-02-07-2001'!$Y$23:$Y$24)*(B15<='СБЦП 81-02-07-2001'!$Z$23:$Z$24)*ROW('СБЦП 81-02-07-2001'!$AB$23:$AB$24))-22),IF(A15=списки!$C$47,INDEX('СБЦП 81-02-07-2001'!$AI$29:$AI$35,MAX((B15/1000>'СБЦП 81-02-07-2001'!$AF$29:$AF$35)*(B15/1000<='СБЦП 81-02-07-2001'!$AG$29:$AG$35)*ROW('СБЦП 81-02-07-2001'!$AI$29:$AI$35))-28),""))))),"")} | U15: =IF(OR(A15=списки!$C$41,A15=списки!$C$42,A15=списки!$C$43),IF(ISBLANK(J15),"",коэфф.!$E$2),"") | V15: =IF(OR(A15=списки!$C$41,A15=списки!$C$42,A15=списки!$C$43),IF(D15-2>0,0.25,""),"") | W15: =IF(OR(A15=списки!$C$42,A15=списки!$C$43)=TRUE,коэфф.!$E$4,"") | X15: =IF(ISBLANK(K15),"",IF(ISBLANK($O$1),1.1,$O$1)) | Y15: {=IF(OR(A15=списки!$C$41,A15=списки!$C$42,A15=списки!$C$43),IF($H15<5,"",INDEX(коэфф.!$E$7:$E$8,MAX((ИД!$H15>=коэфф.!$C$7:$C$8)*(ИД!$H15<=коэфф.!$D$7:$D$8)*ROW(коэфф.!$D$7:$D$8)-6))),"")} | Z15: =IF(OR(A15=списки!$C$41,A15=списки!$C$42,A15=списки!$C$43),IF(ISBLANK(I15),"",коэфф.!$E$9),"") | AA15: =IF(OR(A15=списки!$C$41,A15=списки!$C$42,A15=списки!$C$43),IF(E15=списки!$C$21,IF(ISBLANK(ИД!$O$2),IFERROR(VLOOKUP($E15,коэфф.!$A$11:$E$12,5,FALSE),""),$O$2),IFERROR(VLOOKUP($E15,коэфф.!$A$11:$E$12,5,FALSE),"")),"") | AB15: =IF(OR(A15=списки!$C$41,A15=списки!$C$42,A15=списки!$C$43),IF($E15=списки!$C$22,"",IF($F15>2,коэфф.!$E$17,"")),"") | AC15: =IF(OR(A15=списки!$C$41,A15=списки!$C$42,A15=списки!$C$43),IF($E15=списки!$C$22,IF(ISBLANK($O$3),IF($G15>1.5,коэфф.!$E$15,коэфф.!$E$14),$O$3),""),"") | AD15: =IF(A15=списки!$C$44,IF(ИД!D15>2,коэфф.!$E$18,""),"") | AE15: =IF(A15=списки!$C$44,IF(C15>1,коэфф.!$E$19,""),"") | AF15: =IF(A15=списки!$C$47,IF(ISBLANK(M15),"",коэфф.!$E$20),"") | AG15: =IF(A15=списки!$C$47,IF(ISBLANK(N15),"",коэфф.!$E$21),"") | AH15: =IF(A15=списки!$C$46,IF(ISBLANK(L15),"",коэфф.!$E$22),"") | AI15: =IF(ISBLANK(O15),"",IF(ISBLANK($O$4),1.3,$O$4)) | AK15: =IF(ISBLANK(A15),"",CONCATENATE(,A15," ",_xlfn.IFNA(IF(A15=списки!$C$41,ИД!D15,IF(A15=списки!$C$42,ИД!D15,IF(A15=списки!$C$43,ИД!D15,IF(A15=списки!$C$44,ИД!D15,"")))),""),VLOOKUP(A15,списки!$C$41:$E$47,3,FALSE),B15,VLOOKUP(A15,списки!$C$41:$D$47,2,FALSE),_xlfn.IFNA(IF(A15=списки!$C$41,CONCATENATE(" - ",ИД!C15," м"),IF(A15=списки!$C$42,CONCATENATE(" - ",ИД!C15," м"),IF(A15=списки!$C$43,CONCATENATE(" - ",ИД!C15," м"),""))),""),_xlfn.IFNA(IF(A15=списки!$C$41,CONCATENATE(", ",ИД!E15),IF(A15=списки!$C$42,CONCATENATE(", ",ИД!E15),IF(A15=списки!$C$43,CONCATENATE(", ",ИД!E15),""))),""),_xlfn.IFNA(IF(A15=списки!$C$44,CONCATENATE(" - ",ИД!C15," шт."),""),""))) | AL15: =IF(ISBLANK(A15),"",CONCATENATE("СБЦП 81-02-07-2001 от 24.05.2012 г.",CHAR(10),VLOOKUP($Q15,Списки_3!$B$3:$H$286,7,FALSE),IF(U15="","",CHAR(10)),AM15,IF(V15="","",CHAR(10)),AN15,IF(W15="","",CHAR(10)),AO15,IF(X15="","",CHAR(10)),AP15,IF(Y15="","",CHAR(10)),AQ15,IF(Z15="","",CHAR(10)),AR15,IF(AA15="","",CHAR(10)),AS15,IF(AB15="","",CHAR(10)),AT15,IF(AC15="","",CHAR(10)),AU15,IF(AD15="","",CHAR(10)),AV15,IF(AE15="","",CHAR(10)),AW15,IF(AF15="","",CHAR(10)),AX15,IF(AG15="","",CHAR(10)),AY15,IF(AH15="","",CHAR(10)),AZ15,IF(AI15="","",CHAR(10)),BA15)) | AM15: =IF(U15="","",CONCATENATE($U$10," - прокладка совместно с технологическими трубопроводами - ",U15)) | AN15: =IF(V15="","",CONCATENATE($V$10," - при совместной прокладке тепловых сетей более двух трубопроводов стоимость каждого последующего трубопровода - ",V15)) | AO15: =IF(W15="","",CONCATENATE($W$10," - стоимость проектирования паропроводов и конденсатопроводов тепловых сетей - ",W15)) | AP15: =IF(X15="","",CONCATENATE($X$10," - проектировании тепловой сети, проходящей по территории с коэффициентом застройки от 0.3 до 0.8"," - ",X15)) | AQ15: =IF(Y15="","",CONCATENATE($Y$10," - при пересечении проектируемой тепловой сети ",IF(Y15=1.1,"от 5 до 10","более 10")," существующих коммуникаций"," - ",Y15)) | AR15: =IF(Z15="","",CONCATENATE($Z$10," - при проектировании на пересеченном рельефе местности с оврагами - ",Z15)) | AS15: =IF(AA15="","",CONCATENATE($AA$10," - ",E15," - ",AA15)) | AT15: =IF(AB15="","",CONCATENATE($AB$10," - при глубине заложения тепловой сети более 2 м - ",AB15)) | AU15: =IF(AC15="","",CONCATENATE($AC$10," - надземная прокладка на железобетонных сборных опорах высотой ",IF(AC15=0.85,"до 1.5 м","свыше 1.5 м")," - ",AC15)) | AV15: =IF(AD15="","",CONCATENATE($AD$10," - совмещение нескольких магистралей в одном узле - ",AD15)) | AW15: =IF(AE15="","",CONCATENATE($AE$10," - каждый повторяющийся узел - ",AE15)) | AX15: =IF(AF15="","",CONCATENATE($AF$10," - использование герметика - ",AF15)) | AY15: =IF(AG15="","",CONCATENATE($AG$10," - усиление баков от лавинообразного разрушения - ",AG15)) | AZ15: =IF(AH15="","",CONCATENATE($AH$10," - установка паровых подогревателей, редуцирующих устройств и системы сбора конденсата - ",AH15)) | BA15: =IF(ISBLANK(O15),"",CONCATENATE("Методические указания по применению СБЦ по приказу Минрегиона России №620 от 29.12.2009 г.",CHAR(10),"п. 3.4 - ",O15," объекта - ",AI15)) | BC15: =IF(ISBLANK(A15),"",CONCATENATE("(",R15,"+",S15,"×",(IF(A15=списки!$C$41,C15/1000,IF(A15=списки!$C$42,C15/1000,IF(A15=списки!$C$43,C15/1000,IF(A15=списки!$C$44,1,IF(A15=списки!$C$45,B15,IF(A15=списки!$C$46,B15,IF(A15=списки!$C$47,C15,"")))))))),")",IF(ISNUMBER(U15),CONCATENATE("×",U15),""),IF(ISNUMBER(W15),CONCATENATE("×",W15),""),IF(ISNUMBER(X15),CONCATENATE("×",X15),""),IF(ISNUMBER(Y15),CONCATENATE("×",Y15),""),IF(ISNUMBER(Z15),CONCATENATE("×",Z15),""),IF(ISNUMBER(AA15),CONCATENATE("×",AA15),""),IF(ISNUMBER(AB15),CONCATENATE("×",AB15),""),IF(ISNUMBER(AC15),CONCATENATE("×",AC15),""),IF(ISNUMBER(AF15),CONCATENATE("×",AF15),""),IF(ISNUMBER(AG15),CONCATENATE("×",AG15),""),IF(ISNUMBER(AH15),CONCATENATE("×",AH15),""),IF(ISNUMBER(AD15),CONCATENATE("×",AD15),""),IF(ISNUMBER(AI15),CONCATENATE("×",AI15),""),IF(ISNUMBER(V15),CONCATENATE("+(",R15,"+",S15,"×",(C15/1000),")","×",D15-2,"×",V15),""),IF(ISNUMBER(AE15),CONCATENATE("+(",R15,"+",S15,"×",1,")","×",AD15,"×",C15-1,"×",AE15),""))) | BD15: =ROUND(IF(ISBLANK(A15),"",(R15+S15*(_xlfn.IFNA(IF(A15=списки!$C$41,(C15/1000),IF(A15=списки!$C$42,(C15/1000),IF(A15=списки!$C$43,(C15/1000),IF(A15=списки!$C$44,1,IF(A15=списки!$C$45,B15,IF(A15=списки!$C$46,B15,IF(A15=списки!$C$47,C15,""))))))),"")))*IF(ISNUMBER(U15),U15,1)*IF(ISNUMBER(W15),W15,1)*IF(ISNUMBER(X15),X15,1)*IF(ISNUMBER(Y15),Y15,1)*IF(ISNUMBER(Z15),Z15,1)*IF(ISNUMBER(AA15),AA15,1)*IF(ISNUMBER(AB15),AB15,1)*IF(ISNUMBER(AC15),AC15,1)*IF(ISNUMBER(AD15),AD15,1)*IF(ISNUMBER(AF15),AF15,1)*IF(ISNUMBER(AG15),AG15,1)*IF(ISNUMBER(AH15),AH15,1)*IF(ISNUMBER(AI15),AI15,1)+IF(ISNUMBER(V15),(R15+S15*C15/1000)*(V15*(D15-2)),0)+IF(ISNUMBER(AE15),(R15+S15*1)*AD15*(AE15*(C15-1)),0)),5) -> #VALUE!
