Workbook

Sheet Смета по ФСНБ 421+557прРИМ
A1: Наименование редакции сметных нормативов | F1: =IF(Source!CQ12 <> "", Source!CQ12, "") -> Приказ Минстроя России от 30.12.2021 г. № 1046/пр; Приказ Минстроя России от 04.08.2020 г. № 421/пр; Приказ Минстроя России от 21.12.2020 г. № 812/пр; Приказ Минстроя России от 11.12.2020 г. № 774/пр | CO1: =IF(Source!CQ12 <> "", Source!CQ12, "") -> Приказ Минстроя России от 30.12.2021 г. № 1046/пр; Приказ Минстроя России от 04.08.2020 г. № 421/пр; Приказ Минстроя России от 21.12.2020 г. № 812/пр; Приказ Минстроя России от 11.12.2020 г. № 774/пр
A3: Реквизиты приказа Минстроя России об утверждении дополнений и изменений к сметным нормативам | F3: =IF(Source!CV12 <> "", Source!CV12, "") -> Приказ Минстроя России от 18.05.2022 г. № 378/пр; Приказ Минстроя России от 26.08.2022 г. № 703/пр; Приказ Минстроя России от 26.10.2022 г. № 905/пр; Приказ Минстроя России от 27.12.2022 г. № 1133/пр; Приказ Минстроя России от 10.02.2023 г. № 84/пр; Приказ Минстроя России от 11.05.2023 г. № 335/пр; Приказ Минстроя России от 02.08.2023 г. № 551/пр; Приказ Минстроя России от 14.11.2023 г. № 817/пр; Приказ Минстроя России от 16.02.2024 г. № 102/пр; Приказ Минстроя России от 13.05.2024 г. № 323/пр; Приказ Минстроя России от 09.08.2024 г. № 524/пр; Приказ Минстроя России от 07.11.2024 г. № 747/пр; Приказ Минстроя России от 07.02.2025 г. № 69/пр; Приказ Минстроя России от 19.05.2025 г. № 299/пр; Приказ Минстроя России от 14.08.2025 г. № 490/пр; Приказ Минстроя России от 12.11.2025 г. № 696/пр; Приказ Минстроя России от 17.02.2026 г. № 91/пр; Приказ Минстроя России от 15.05.2026 г. № 301/пр; Приказ Минстроя России от 07.07.2022 г. № 557/пр; Приказ Минстроя России от 30.01.2024 г. № 55/пр; Приказ Минстроя России от 23.01.2025 г. № 30/пр; Приказ Минстроя России от 02.09.2021 г. № 636/пр; Приказ Минстроя России от 26.07.2022 г. № 611/пр; Приказ Минстроя России от 22.04.2022 г. № 317/пр | CO3: =IF(Source!CV12 <> "", Source!CV12, "") -> Приказ Минстроя России от 18.05.2022 г. № 378/пр; Приказ Минстроя России от 26.08.2022 г. № 703/пр; Приказ Минстроя России от 26.10.2022 г. № 905/пр; Приказ Минстроя России от 27.12.2022 г. № 1133/пр; Приказ Минстроя России от 10.02.2023 г. № 84/пр; Приказ Минстроя России от 11.05.2023 г. № 335/пр; Приказ Минстроя России от 02.08.2023 г. № 551/пр; Приказ Минстроя России от 14.11.2023 г. № 817/пр; Приказ Минстроя России от 16.02.2024 г. № 102/пр; Приказ Минстроя России от 13.05.2024 г. № 323/пр; Приказ Минстроя России от 09.08.2024 г. № 524/пр; Приказ Минстроя России от 07.11.2024 г. № 747/пр; Приказ Минстроя России от 07.02.2025 г. № 69/пр; Приказ Минстроя России от 19.05.2025 г. № 299/пр; Приказ Минстроя России от 14.08.2025 г. № 490/пр; Приказ Минстроя России от 12.11.2025 г. № 696/пр; Приказ Минстроя России от 17.02.2026 г. № 91/пр; Приказ Минстроя России от 15.05.2026 г. № 301/пр; Приказ Минстроя России от 07.07.2022 г. № 557/пр; Приказ Минстроя России от 30.01.2024 г. № 55/пр; Приказ Минстроя России от 23.01.2025 г. № 30/пр; Приказ Минстроя России от 02.09.2021 г. № 636/пр; Приказ Минстроя России от 26.07.2022 г. № 611/пр; Приказ Минстроя России от 22.04.2022 г. № 317/пр
A5: Реквизиты письма Минстроя России об индексах изменения сметной стоимости строительства, включаемые в федеральный реестр сметных нормативов и размещаемые в федеральной государственной информационной системе ценообразования в строительстве, подготовленного в соответствии с пунктом 85 Методики расчета индексов изменения сметной стоимости строительства, утвержденной приказом Министерства строительства и жилищно-коммунального хозяйства Российской Федерации от 5 июня 2019 г. N 326/пр | F5: Письмо Минстроя России от 22.05.2026 № 31076-ИФ/09
A7: Реквизиты нормативного правового акта об утверждении оплаты труда, утверждаемый в соответствии с пунктом 22(1) Правилами мониторинга цен, утвержденными постановлением Правительства Российской Федерации от 23 декабря 2016 г. N 1452 | F7: Приказ Министерства градостроительства и архитектуры Пензенской области от 06.03.2026 г. № 250/оп
A9: Обоснование принятых текущих цен на строительные ресурсы | F9: ФГИС ЦС, конъюнктурный анализ
A11: Наименование субъекта Российской Федерации | F11: Пензенская область
A13: Наименование зоны субъекта Российской Федерации | F13: Пензенская область
A15: Газопровод высокого и низкого давления к нежилому зданию,расположенному по адресу: Пензенская область,Кузнецкий район,р.п.Евлашево(кн 58:14:0130201:451)
A17: (наименование стройки)
A19: =IF(Source!G12<>"Новый объект", Source!G12, "") -> Газопровод высокого и низкого давления к нежилому зданию,расположенному по адресу: Пензенская область,Кузнецкий район,р.п.Евлашево(кн 58:14:0130201:451) | CN19: =IF(Source!G12<>"Новый объект", Source!G12, "") -> Газопровод высокого и низкого давления к нежилому зданию,расположенному по адресу: Пензенская область,Кузнецкий район,р.п.Евлашево(кн 58:14:0130201:451)
A20: (наименование объекта капитального строительства)
A22: ЛОКАЛЬНАЯ СМЕТА №ЛС-01-01-01
A23: =IF(Source!G20<>"Новая локальная смета", Source!G20, "") -> Газопровод высокого и низкого давления
A24: (наименование работ и затрат)
A25: Составлен | C25: Ресурсно-индексным | D25: методом
A27: Основание | C27: проект шифр 2105-26-П-ГСН.С
C28: (проектная и (или) иная техническая документация)
A29: Составлен(а) в текущем уровне цен на июнь 2026 года
A31: Сметная стоимость | C31: =C34+C35+C36+C37 -> 1334.01 | E31: тыс. руб.
G32: Средства на оплату труда рабочих | K32: =ROUND(SUM(AR44:AR2708)/1000, 2) -> 127.44 | L32: тыс. руб.
B33: в том числе: | G33: Средства на оплату труда машинистов | K33: =ROUND(SUM(AT44:AT2708)/1000, 2) -> 31.69 | L33: тыс. руб.
B34: строительных работ | C34: =ROUND((Source!F824)/1000, 2) -> 1091.83 | E34: тыс. руб. | G34: Нормативные затраты труда рабочих | K34: =Source!F829 -> 329.4059 | L34: чел.-ч.
B35: монтажных работ | C35: =ROUND((Source!F825)/1000, 2) -> 120.05 | E35: тыс. руб. | G35: Нормативные затраты труда машинистов | K35: =Source!F830 -> 64.249007 | L35: чел.-ч.
B36: оборудования | C36: =ROUND((Source!F816)/1000, 2) -> 122.13 | E36: тыс. руб.
B37: прочих затрат | C37: =ROUND((Source!F826)/1000, 2) -> 0 | E37: тыс. руб.
A38: № п/п | B38: Обоснование | C38: Наименование работ и затрат | D38: Единица измерения | E38: Количество | H38: Сметная стоимость, руб.
E42: на единицу измерения | F42: коэффициенты | G42: всего с учетом коэффициентов | H42: на единицу измерения в базисном уровне цен | I42: индекс | J42: на единицу измерения в текущем уровне цен | K42: коэффициенты | L42: всего в текущем уровне цен
A43: 1 | B43: 2 | C43: 3 | D43: 4 | E43: 5 | F43: 6 | G43: 7 | H43: 8 | I43: 9 | J43: 10 | K43: 11 | L43: 12
A44: Раздел: Газопровод высокого давления
A46: Подраздел: Земляные работы
A47: 1 | B47: ГЭСН 01-01-009-14 | C47: =Source!G32 -> Разработка грунта в траншеях экскаватором «обратная лопата» с ковшом вместимостью 0,5 (0,5-0,63) м3, в отвал группа грунтов: 2 | D47: =Source!H32 -> 1000 м3 | E47: =Source!K32 -> 0.368 | G47: =Source!I32 -> 0.368
C48: ="Объем: "&Source!I32&"=368/"&"1000" -> Объем: 0,368=368/1000
B49: 2 | C49: ЭМ | L49: =SUM(L50:L52)-SUMIF(CE50:CE52, 1, L50:L52) -> 13253.96
C50: ОТм(ЗТм) | D50: чел.-ч. | G50: =Source!V32 -> 9.384 | L50: =SUMIF(CE51:CE52, 1, L51:L52) -> 4965.17 | CE50: 1
B51: 91.01.05-085 | C51: Экскаваторы одноковшовые дизельные на гусеничном ходу, объем ковша 0,5 м3 | D51: маш.-ч | E51: 25.5 | G51: =SmtRes!CX2 -> 9.384 | H51: =SmtRes!CZ2 -> 1054.03 | I51: =SmtRes!AJ2 -> 1.34 | J51: =ROUND(H51*I51, 2) -> 1412.4 | L51: =SmtRes!DG2 -> 13253.96
B52: 4-100-060 | C52: ОТм(ЗТм) Средний разряд машинистов 6 | D52: чел.-ч. | E52: =SmtRes!DO2*SmtRes!AT2 -> 25.5 | G52: =ROUND(E52*G47, 7) -> 9.384 | J52: =ROUND(SmtRes!AG2/SmtRes!DO2, 2) -> 529.11 | L52: =SmtRes!DH2 -> 4965.17 | CE52: 1
C53: Итого прямые затраты | L53: =L49+L50 -> 18219.13
C54: ФОТ | L54: =SUM(AR47:AR57)+SUM(AS47:AS57)+SUM(AT47:AT57)+SUM(AU47:AU57)+SUM(AV47:AV57) -> 4965.17
B55: Пр/812-001.1-1 | C55: НР Земляные работы, выполняемые: механизированным способом | D55: % | E55: =Source!BZ32 -> 92 | G55: =Source!AT32 -> 92 | L55: =SUM(AZ47:AZ57) -> 4567.96
B56: Пр/774-001.1 | C56: СП Земляные работы, выполняемые: механизированным способом | D56: % | E56: =Source!CA32 -> 46 | G56: =Source!AU32 -> 46 | L56: =SUM(BA47:BA57) -> 2283.98
...

Sheet Конъюнктурный анализ
A2: Сводная таблица результатов конъюнктурного анализа
A4: По объекту: Газопровод высокого и низкого давления к нежилому зданию,расположенному по адресу: Пензенская область,Кузнецкий район,р.п.Евлашево(кн 58:14:0130201:451)
A5: (наименование объекта капитального строительства)
U7: Уровень цен составления сметной документации
U8: Наименование субъекта Российской Федерации
U9: Ценовая зона субъекта Российской Федерации
U10: Отраслевая организация
A12: Номер по порядку | B12: Код строительного ресурса | C12: Наименование ресурса, затрат в соответствии с проектной документацией | D12: Полное наименование ресурса, затрат в обосновывающем документе | E12: Единица измерения ресурса, затрат в соответствии с проектной документацией | F12: Единица измерения ресурса, затрат в обосновывающем документе | G12: Текущая отпускная цена за единицу измерения в обосновывающем документе с учетом НДС, рублей | H12: Текущая отпускная цена за единицу измерения в обосновывающем документе без учета НДС, рублей / Сметная цена строительного ресурса в базисном или в текущем уровне цен, размещенная в ФГИС ЦС, применяемая при РИМ, рублей | I12: Месяц и год составления обосновывающего документа / Квартал (для сметных цен строительных ресурсов в текущем уровне цен и индексов по ГОСР, размещенных в ФГИС, приметяемых при РИМ) | J12: Индекс фактической инфляции / Индекс по ГОСР | K12: Коэффициент пересчета в единицу измерения в соответствии с графой 5 | L12: Текущая отпускная цена за единицу измерения без учета НДС, рублей в соответствии с графой 5 в уровне цен составления сметной документации | M12: Затраты на перевозку | O12: Заготовительно-складские расходы | Q12: Дополнительные затраты, предусмотренные пунктами 88, 117, 119–121 Методики | T12: Сметная цена без учета НДС, рублей за единицу измерения в соответствии с графой 5 | U12: Полное и (или) сокращенное (при наличии) наименования производителя (поставщика) | V12: Страна производителя оборудования, производственного и хозяйственного инвентаря | W12: КПП организации | X12: ИНН организации | Y12: Гиперссылка на веб-сайт производителя (поставщика) | Z12: Населенный пункт расположения склада производителя (поставщика) | AA12: Статус организации (Производитель (1) ; Поставщик (2) | AB12: Наименование обосновывающего документа | AC12: Номер страницы
M16: % | N16: рублей за единицу измерения в соответствии с графой 5 без учета НДС | O16: % | P16: рублей | Q16: Наименование затрат | R16: % | S16: рублей
A19: 1 | B19: 2 | C19: 3 | D19: 4 | E19: 5 | F19: 6 | G19: 7 | H19: 8 | I19: 9 | J19: 10 | K19: 11 | L19: 12 | M19: 13 | N19: 14 | O19: 15 | P19: 16 | Q19: 17 | R19: 18 | S19: 19 | T19: 20 | U19: 21 | V19: 22 | W19: 23 | X19: 24 | Y19: 25 | Z19: 26 | AA19: 27 | AB19: 28 | AC19: 29
A20: =SrcKA!E14 -> Конъюнктурный анализ
A21: 1.1 | B21: =SrcKA!D15 -> ТЦ_66.00.00.00_64_6454104668_13.07.2026_01_1.1 | C21: =IF((SrcKA!AI15<>""), SrcKA!AI15,"") -> Газорегуляторный пункт шкафной ГРПШ-07-2У1 с двумя линиями редуцирования с регуляторами РДНК-1000 | D21: =IF((SrcKA!E15<>""), SrcKA!E15,"") -> Газорегуляторный пункт шкафной ГРПШ-07-2У1 с двумя линиями редуцирования с регуляторами РДНК-1000 | E21: =IF((SrcKA!AH15<>""), SrcKA!AH15,"") -> ШТ | F21: =IF((SrcKA!G15<>""), SrcKA!G15,"") -> ШТ | G21: =IF((SrcKA!I15<>""), SrcKA!I15,"") -> 149000 | H21: =IF((SrcKA!H15<>""), SrcKA!H15,"") -> 122131.15 | I21: 13.07.2026 | K21: =IF((SrcKA!AB15<>""), SrcKA!AB15,"") | L21: =IF((SrcKA!AC15<>""), SrcKA!AC15,"") -> 122131.15 | M21: =IF((SrcKA!AA15<>""), SrcKA!AA15,"") -> 0 | N21: =IF((SrcKA!J15<>""), SrcKA!J15,"") -> 0 | O21: =IF((SrcKA!U15<>""), SrcKA!U15,"") -> 0 | P21: =IF((SrcKA!V15<>""), SrcKA!V15,"") -> 0 | S21: =IF((SrcKA!AE15<>""), SrcKA!AE15,"") -> 0 | T21: =IF((SrcKA!K15<>""), SrcKA!K15,"") -> 122131.15 | U21: =IF((SrcKA!O15<>""), SrcKA!O15,"") -> ООО "ГК ГАЗГАРАНТ" | V21: =IF((SrcKA!Z15<>""), SrcKA!Z15,"") -> Россия | W21: =IF((SrcKA!R15<>""), SrcKA!R15,"") -> 645501001 | X21: =IF((SrcKA!Q15<>""), SrcKA!Q15,"") -> 6454104668 | Y21: =IF((SrcKA!S15<>""), SrcKA!S15,"") -> Счет на оплату №263 от 13.07.2026г | Z21: =IF((SrcKA!P15<>""), SrcKA!P15,"") -> г.Саратов | AA21: =IF((SrcKA!N15<>""), SrcKA!N15,"") -> 2 | AB21: =IF((SrcKA!Y15<>""), SrcKA!Y15,"") | AC21: =IF((SrcKA!AV15<>""), SrcKA!AV15,"")
A22: 1.2 | B22: =SrcKA!D16 -> ТЦ_66.00.00.00_64_6453135060_13.07.2026_01_1.2 | C22: =IF((SrcKA!AI16<>""), SrcKA!AI16,"") -> Газорегуляторный пункт шкафной ГРПШ-07-2У1 с двумя линиями редуцирования с регуляторами РДНК-1000 | D22: =IF((SrcKA!E16<>""), SrcKA!E16,"") -> Газорегуляторный пункт шкафной ГРПШ-07-2У1 с двумя линиями редуцирования с регуляторами РДНК-1000 | E22: =IF((SrcKA!AH16<>""), SrcKA!AH16,"") -> ШТ | F22: =IF((SrcKA!G16<>""), SrcKA!G16,"") -> ШТ | G22: =IF((SrcKA!I16<>""), SrcKA!I16,"") -> 157940 | H22: =IF((SrcKA!H16<>""), SrcKA!H16,"") -> 129459.02 | I22: 13.07.2026 | K22: =IF((SrcKA!AB16<>""), SrcKA!AB16,"") | L22: =IF((SrcKA!AC16<>""), SrcKA!AC16,"") -> 129459.02 | M22: =IF((SrcKA!AA16<>""), SrcKA!AA16,"") -> 0 | N22: =IF((SrcKA!J16<>""), SrcKA!J16,"") -> 0 | O22: =IF((SrcKA!U16<>""), SrcKA!U16,"") -> 0 | P22: =IF((SrcKA!V16<>""), SrcKA!V16,"") -> 0 | S22: =IF((SrcKA!AE16<>""), SrcKA!AE16,"") -> 0 | T22: =IF((SrcKA!K16<>""), SrcKA!K16,"") -> 129459.02 | U22: =IF((SrcKA!O16<>""), SrcKA!O16,"") -> ООО "ПТК Газгарант" | V22: =IF((SrcKA!Z16<>""), SrcKA!Z16,"") -> Россия | W22: =IF((SrcKA!R16<>""), SrcKA!R16,"") -> 645401001 | X22: =IF((SrcKA!Q16<>""), SrcKA!Q16,"") -> 6453135060 | Y22: =IF((SrcKA!S16<>""), SrcKA!S16,"") -> коммерческое предложение №5 от 29.06.2026г | Z22: =IF((SrcKA!P16<>""), SrcKA!P16,"") -> г.Саратов | AA22: =IF((SrcKA!N16<>""), SrcKA!N16,"") -> 2 | AB22: =IF((SrcKA!Y16<>""), SrcKA!Y16,"") | AC22: =IF((SrcKA!AV16<>""), SrcKA!AV16,"")
A23: 1.3 | B23: =SrcKA!D17 -> ТЦ_66.00.00.00_64_6455068074_29.06.2026_01_1.3 | C23: =IF((SrcKA!AI17<>""), SrcKA!AI17,"") -> Газорегуляторный пункт шкафной ГРПШ-07-2У1 с двумя линиями редуцирования с регуляторами РДНК-1000 | D23: =IF((SrcKA!E17<>""), SrcKA!E17,"") -> Газорегуляторный пункт шкафной ГРПШ-07-2У1 с двумя линиями редуцирования с регуляторами РДНК-1000 | E23: =IF((SrcKA!AH17<>""), SrcKA!AH17,"") -> ШТ | F23: =IF((SrcKA!G17<>""), SrcKA!G17,"") -> ШТ | G23: =IF((SrcKA!I17<>""), SrcKA!I17,"") -> 156450 | H23: =IF((SrcKA!H17<>""), SrcKA!H17,"") -> 128237.7 | I23: 29.06.2026 | K23: =IF((SrcKA!AB17<>""), SrcKA!AB17,"") | L23: =IF((SrcKA!AC17<>""), SrcKA!AC17,"") -> 128237.7 | M23: =IF((SrcKA!AA17<>""), SrcKA!AA17,"") -> 0 | N23: =IF((SrcKA!J17<>""), SrcKA!J17,"") -> 0 | O23: =IF((SrcKA!U17<>""), SrcKA!U17,"") -> 0 | P23: =IF((SrcKA!V17<>""), SrcKA!V17,"") -> 0 | S23: =IF((SrcKA!AE17<>""), SrcKA!AE17,"") -> 0 | T23: =IF((SrcKA!K17<>""), SrcKA!K17,"") -> 128237.7 | U23: =IF((SrcKA!O17<>""), SrcKA!O17,"") -> ООО "Континент-Газ" | V23: =IF((SrcKA!Z17<>""), SrcKA!Z17,"") -> Россия | W23: =IF((SrcKA!R17<>""), SrcKA!R17,"") -> 645501001 | X23: =IF((SrcKA!Q17<>""), SrcKA!Q17,"") -> 6455068074 | Y23: =IF((SrcKA!S17<>""), SrcKA!S17,"") -> коммерческое предложение от 29.06.2026г | Z23: =IF((SrcKA!P17<>""), SrcKA!P17,"") -> г.Саратов | AA23: =IF((SrcKA!N17<>""), SrcKA!N17,"") -> 2 | AB23: =IF((SrcKA!Y17<>""), SrcKA!Y17,"") | AC23: =IF((SrcKA!AV17<>""), SrcKA!AV17,"")
A24: 2.1 | B24: =SrcKA!D18 -> ТЦ_24.00.00.00_64_6454104668_26.08.2026_01_2.1 | C24: =IF((SrcKA!AI18<>""), SrcKA!AI18,"") -> Изолирующее фланцевое соединение Ру 1,6 МПА д.200 | D24: =IF((SrcKA!E18<>""), SrcKA!E18,"") -> Изолирующее фланцевое соединение Ру 1,6 МПа д.200 | E24: =IF((SrcKA!AH18<>""), SrcKA!AH18,"") -> ШТ | F24: =IF((SrcKA!G18<>""), SrcKA!G18,"") -> ШТ | G24: =IF((SrcKA!I18<>""), SrcKA!I18,"") -> 8276.4 | H24: =IF((SrcKA!H18<>""), SrcKA!H18,"") -> 6783.93 | I24: 26.08.2026 | K24: =IF((SrcKA!AB18<>""), SrcKA!AB18,"") | L24: =IF((SrcKA!AC18<>""), SrcKA!AC18,"") -> 6783.93 | M24: =IF((SrcKA!AA18<>""), SrcKA!AA18,"") -> 0 | N24: =IF((SrcKA!J18<>""), SrcKA!J18,"") -> 0 | O24: =IF((SrcKA!U18<>""), SrcKA!U18,"") -> 0 | P24: =IF((SrcKA!V18<>""), SrcKA!V18,"") -> 0 | S24: =IF((SrcKA!AE18<>""), SrcKA!AE18,"") -> 0 | T24: =IF((SrcKA!K18<>""), SrcKA!K18,"") -> 6783.93 | U24: =IF((SrcKA!O18<>""), SrcKA!O18,"") -> ООО "ГК ГАЗГАРАНТ" | V24: =IF((SrcKA!Z18<>""), SrcKA!Z18,"") -> Россия | W24: =IF((SrcKA!R18<>""), SrcKA!R18,"") -> 645401001 | X24: =IF((SrcKA!Q18<>""), SrcKA!Q18,"") -> 6454104668 | Y24: =IF((SrcKA!S18<>""), SrcKA!S18,"") -> счет на оплату "321 от 26 августа 2026г | Z24: =IF((SrcKA!P18<>""), SrcKA!P18,"") -> г.Саратов | AA24: =IF((SrcKA!N18<>""), SrcKA!N18,"") -> 2 | AB24: =IF((SrcKA!Y18<>""), SrcKA!Y18,"") | AC24: =IF((SrcKA!AV18<>""), SrcKA!AV18,"")
A25: 2.2 | B25: =SrcKA!D19 -> ТЦ_24.00.00.00_64_6449085297_26.08.2026_01_2.2 | C25: =IF((SrcKA!AI19<>""), SrcKA!AI19,"") -> Изолирующее фланцевое соединение Ру 1,6 МПА д.200 | D25: =IF((SrcKA!E19<>""), SrcKA!E19,"") -> Изолирующее фланцевое соединение Ру 1,6МПа д.200 | E25: =IF((SrcKA!AH19<>""), SrcKA!AH19,"") -> ШТ | F25: =IF((SrcKA!G19<>""), SrcKA!G19,"") -> ШТ | G25: =IF((SrcKA!I19<>""), SrcKA!I19,"") -> 9385.44 | H25: =IF((SrcKA!H19<>""), SrcKA!H19,"") -> 7692.98 | I25: 26.08.2026 | K25: =IF((SrcKA!AB19<>""), SrcKA!AB19,"") | L25: =IF((SrcKA!AC19<>""), SrcKA!AC19,"") -> 7692.98 | M25: =IF((SrcKA!AA19<>""), SrcKA!AA19,"") -> 0 | N25: =IF((SrcKA!J19<>""), SrcKA!J19,"") -> 0 | O25: =IF((SrcKA!U19<>""), SrcKA!U19,"") -> 0 | P25: =IF((SrcKA!V19<>""), SrcKA!V19,"") -> 0 | S25: =IF((SrcKA!AE19<>""), SrcKA!AE19,"") -> 0 | T25: =IF((SrcKA!K19<>""), SrcKA!K19,"") -> 7692.98 | U25: =IF((SrcKA!O19<>""), SrcKA!O19,"") -> ПО "РОБУСТ ГРУПП" | V25: =IF((SrcKA!Z19<>""), SrcKA!Z19,"") -> Россия | W25: =IF((SrcKA!R19<>""), SrcKA!R19,"") -> 644901001 | X25: =IF((SrcKA!Q19<>""), SrcKA!Q19,"") -> 6449085297 | Y25: =IF((SrcKA!S19<>""), SrcKA!S19,"") -> коммерческое предложение б/н от 26.08.2026г | Z25: =IF((SrcKA!P19<>""), SrcKA!P19,"") -> г.Энгельс-2 | AA25: =IF((SrcKA!N19<>""), SrcKA!N19,"") -> 2 | AB25: =IF((SrcKA!Y19<>""), SrcKA!Y19,"") | AC25: =IF((SrcKA!AV19<>""), SrcKA!AV19,"")
A26: 2.3 | B26: =SrcKA!D20 -> ТЦ_24.00.00.00_64_6455068074_26.08.2026_01_2.3 | C26: =IF((SrcKA!AI20<>""), SrcKA!AI20,"") -> Изолирующее фланцевое соединение Ру 1,6 МПА д.200 | D26: =IF((SrcKA!E20<>""), SrcKA!E20,"") -> Изолирующее фланцевое соединение Ру 1,6МПа д.200 | E26: =IF((SrcKA!AH20<>""), SrcKA!AH20,"") -> ШТ | F26: =IF((SrcKA!G20<>""), SrcKA!G20,"") -> ШТ | G26: =IF((SrcKA!I20<>""), SrcKA!I20,"") -> 8690.22 | H26: =IF((SrcKA!H20<>""), SrcKA!H20,"") -> 7123.13 | I26: 26.08.2026 | K26: =IF((SrcKA!AB20<>""), SrcKA!AB20,"") | L26: =IF((SrcKA!AC20<>""), SrcKA!AC20,"") -> 7123.13 | M26: =IF((SrcKA!AA20<>""), SrcKA!AA20,"") -> 0 | N26: =IF((SrcKA!J20<>""), SrcKA!J20,"") -> 0 | O26: =IF((SrcKA!U20<>""), SrcKA!U20,"") -> 0 | P26: =IF((SrcKA!V20<>""), SrcKA!V20,"") -> 0 | S26: =IF((SrcKA!AE20<>""), SrcKA!AE20,"") -> 0 | T26: =IF((SrcKA!K20<>""), SrcKA!K20,"") -> 7123.13 | U26: =IF((SrcKA!O20<>""), SrcKA!O20,"") -> ООО "Континент-Газ" | V26: =IF((SrcKA!Z20<>""), SrcKA!Z20,"") -> Россия | W26: =IF((SrcKA!R20<>""), SrcKA!R20,"") -> 645501001 | X26: =IF((SrcKA!Q20<>""), SrcKA!Q20,"") -> 6455068074 | Y26: =IF((SrcKA!S20<>""), SrcKA!S20,"") -> коммерческое предложение б/н от 26.08.2026г | Z26: =IF((SrcKA!P20<>""), SrcKA!P20,"") -> г.Саратов | AA26: =IF((SrcKA!N20<>""), SrcKA!N20,"") -> 2 | AB26: =IF((SrcKA!Y20<>""), SrcKA!Y20,"") | AC26: =IF((SrcKA!AV20<>""), SrcKA!AV20,"")
A27: 3.1 | B27: =SrcKA!D21 -> ТЦ_24.00.00.00_64_6454104668_26.08.2026_01_3.1 | C27: =IF((SrcKA!AI21<>""), SrcKA!AI21,"") -> Переход электросварной с закладными нагревателями ПЭ100 SDR 11 д.160*110 | D27: =IF((SrcKA!E21<>""), SrcKA!E21,"") -> Переход электросварной с закладными нагревателями ПЭ100 SDR 11 д.160*110 | E27: =IF((SrcKA!AH21<>""), SrcKA!AH21,"") -> ШТ | F27: =IF((SrcKA!G21<>""), SrcKA!G21,"") -> ШТ | G27: =IF((SrcKA!I21<>""), SrcKA!I21,"") -> 4161.94 | H27: =IF((SrcKA!H21<>""), SrcKA!H21,"") -> 3411.43 | I27: 26.08.2026 | K27: =IF((SrcKA!AB21<>""), SrcKA!AB21,"") | L27: =IF((SrcKA!AC21<>""), SrcKA!AC21,"") -> 3411.43 | M27: =IF((SrcKA!AA21<>""), SrcKA!AA21,"") -> 0 | N27: =IF((SrcKA!J21<>""), SrcKA!J21,"") -> 0 | O27: =IF((SrcKA!U21<>""), SrcKA!U21,"") -> 0 | P27: =IF((SrcKA!V21<>""), SrcKA!V21,"") -> 0 | S27: =IF((SrcKA!AE21<>""), SrcKA!AE21,"") -> 0 | T27: =IF((SrcKA!K21<>""), SrcKA!K21,"") -> 3411.43 | U27: =IF((SrcKA!O21<>""), SrcKA!O21,"") -> ООО "ГК ГАЗГАРАНТ" | V27: =IF((SrcKA!Z21<>""), SrcKA!Z21,"") -> Россия | W27: =IF((SrcKA!R21<>""), SrcKA!R21,"") -> 645401001 | X27: =IF((SrcKA!Q21<>""), SrcKA!Q21,"") -> 6454104668 | Y27: =IF((SrcKA!S21<>""), SrcKA!S21,"") -> счет на оплату №321 от 26 августа 2026г | Z27: =IF((SrcKA!P21<>""), SrcKA!P21,"") -> г.Саратов | AA27: =IF((SrcKA!N21<>""), SrcKA!N21,"") -> 2 | AB27: =IF((SrcKA!Y21<>""), SrcKA!Y21,"") | AC27: =IF((SrcKA!AV21<>""), SrcKA!AV21,"")
A28: 3.2 | B28: =SrcKA!D22 -> ТЦ_24.00.00.00_64_6449085297_26.08.2026_01_3.2 | C28: =IF((SrcKA!AI22<>""), SrcKA!AI22,"") -> Переход электросварной с закладными нагревателями ПЭ100 SDR 11 д.160*110 | D28: =IF((SrcKA!E22<>""), SrcKA!E22,"") -> Переход электросварной с закладными нагревателями ПЭ100 SDR 11 д.160*110 | E28: =IF((SrcKA!AH22<>""), SrcKA!AH22,"") -> ШТ | F28: =IF((SrcKA!G22<>""), SrcKA!G22,"") -> ШТ | G28: =IF((SrcKA!I22<>""), SrcKA!I22,"") -> 4719.64 | H28: =IF((SrcKA!H22<>""), SrcKA!H22,"") -> 3868.56 | I28: 26.08.2026 | K28: =IF((SrcKA!AB22<>""), SrcKA!AB22,"") | L28: =IF((SrcKA!AC22<>""), SrcKA!AC22,"") -> 3868.56 | M28: =IF((SrcKA!AA22<>""), SrcKA!AA22,"") -> 0 | N28: =IF((SrcKA!J22<>""), SrcKA!J22,"") -> 0 | O28: =IF((SrcKA!U22<>""), SrcKA!U22,"") -> 0 | P28: =IF((SrcKA!V22<>""), SrcKA!V22,"") -> 0 | S28: =IF((SrcKA!AE22<>""), SrcKA!AE22,"") -> 0 | T28: =IF((SrcKA!K22<>""), SrcKA!K22,"") -> 3868.56 | U28: =IF((SrcKA!O22<>""), SrcKA!O22,"") -> ПО "РОБУСТ ГРУПП" | V28: =IF((SrcKA!Z22<>""), SrcKA!Z22,"") -> Россия | W28: =IF((SrcKA!R22<>""), SrcKA!R22,"") -> 644901001 | X28: =IF((SrcKA!Q22<>""), SrcKA!Q22,"") -> 6449085297 | Y28: =IF((SrcKA!S22<>""), SrcKA!S22,"") -> коммерческое предложение б/н от 26.08.2026г | Z28: =IF((SrcKA!P22<>""), SrcKA!P22,"") -> г.Саратов | AA28: =IF((SrcKA!N22<>""), SrcKA!N22,"") -> 2 | AB28: =IF((SrcKA!Y22<>""), SrcKA!Y22,"") | AC28: =IF((SrcKA!AV22<>""), SrcKA!AV22,"")
A29: 3.3 | B29: =SrcKA!D23 -> ТЦ_24.00.00.00_64_6455068074_26.08.2026_01_3.3 | C29: =IF((SrcKA!AI23<>""), SrcKA!AI23,"") -> Переход электросварной с закладными нагревателями ПЭ100 SDR 11 д.160*110 | D29: =IF((SrcKA!E23<>""), SrcKA!E23,"") -> Переход электросварной с закладными нагревателями ПЭ100 SDR 11 д.160*110 | E29: =IF((SrcKA!AH23<>""), SrcKA!AH23,"") -> ШТ | F29: =IF((SrcKA!G23<>""), SrcKA!G23,"") -> ШТ | G29: =IF((SrcKA!I23<>""), SrcKA!I23,"") -> 4370.01 | H29: =IF((SrcKA!H23<>""), SrcKA!H23,"") -> 3581.98 | I29: 26.08.2026 | K29: =IF((SrcKA!AB23<>""), SrcKA!AB23,"") | L29: =IF((SrcKA!AC23<>""), SrcKA!AC23,"") -> 3581.98 | M29: =IF((SrcKA!AA23<>""), SrcKA!AA23,"") -> 0 | N29: =IF((SrcKA!J23<>""), SrcKA!J23,"") -> 0 | O29: =IF((SrcKA!U23<>""), SrcKA!U23,"") -> 0 | P29: =IF((SrcKA!V23<>""), SrcKA!V23,"") -> 0 | S29: =IF((SrcKA!AE23<>""), SrcKA!AE23,"") -> 0 | T29: =IF((SrcKA!K23<>""), SrcKA!K23,"") -> 3581.98 | U29: =IF((SrcKA!O23<>""), SrcKA!O23,"") -> ООО "Континент-Газ" | V29: =IF((SrcKA!Z23<>""), SrcKA!Z23,"") -> Россия | W29: =IF((SrcKA!R23<>""), SrcKA!R23,"") -> 645501001 | X29: =IF((SrcKA!Q23<>""), SrcKA!Q23,"") -> 6455068074 | Y29: =IF((SrcKA!S23<>""), SrcKA!S23,"") -> коммерческое предложение б/н от 26.08.2026 | Z29: =IF((SrcKA!P23<>""), SrcKA!P23,"") -> г.Сарато | AA29: =IF((SrcKA!N23<>""), SrcKA!N23,"") -> 2 | AB29: =IF((SrcKA!Y23<>""), SrcKA!Y23,"") | AC29: =IF((SrcKA!AV23<>""), SrcKA!AV23,"")
A30: 4.1 | B30: =SrcKA!D24 -> ТЦ_24.00.00.00_64_6454104668_26.08.2026_01_4.1 | C30: =IF((SrcKA!AI24<>""), SrcKA!AI24,"") -> Переход электросварной с закладными нагревателями ПЭ100 SDR 11 д.110*90 | D30: =IF((SrcKA!E24<>""), SrcKA!E24,"") -> Переход электросварной с закладными нагревателями ПЭ100 SDR 11 д.110*90 | E30: =IF((SrcKA!AH24<>""), SrcKA!AH24,"") -> ШТ | F30: =IF((SrcKA!G24<>""), SrcKA!G24,"") -> ШТ | G30: =IF((SrcKA!I24<>""), SrcKA!I24,"") -> 2122.32 | H30: =IF((SrcKA!H24<>""), SrcKA!H24,"") -> 1739.61 | I30: 26.08.2026 | K30: =IF((SrcKA!AB24<>""), SrcKA!AB24,"") | L30: =IF((SrcKA!AC24<>""), SrcKA!AC24,"") -> 1739.61 | M30: =IF((SrcKA!AA24<>""), SrcKA!AA24,"") -> 0 | N30: =IF((SrcKA!J24<>""), SrcKA!J24,"") -> 0 | O30: =IF((SrcKA!U24<>""), SrcKA!U24,"") -> 0 | P30: =IF((SrcKA!V24<>""), SrcKA!V24,"") -> 0 | S30: =IF((SrcKA!AE24<>""), SrcKA!AE24,"") -> 0 | T30: =IF((SrcKA!K24<>""), SrcKA!K24,"") -> 1739.61 | U30: =IF((SrcKA!O24<>""), SrcKA!O24,"") -> ООО "ГК ГАЗГАРАНТ" | V30: =IF((SrcKA!Z24<>""), SrcKA!Z24,"") -> Россия | W30: =IF((SrcKA!R24<>""), SrcKA!R24,"") -> 645401001 | X30: =IF((SrcKA!Q24<>""), SrcKA!Q24,"") -> 6454104668 | Y30: =IF((SrcKA!S24<>""), SrcKA!S24,"") -> счет на оплату №321 от 26 августа 2026г | Z30: =IF((SrcKA!P24<>""), SrcKA!P24,"") -> г.Саратов | AA30: =IF((SrcKA!N24<>""), SrcKA!N24,"") -> 2 | AB30: =IF((SrcKA!Y24<>""), SrcKA!Y24,"") | AC30: =IF((SrcKA!AV24<>""), SrcKA!AV24,"")
A31: 4.2 | B31: =SrcKA!D25 -> ТЦ_24.00.00.00_64_6449085297_26.08.2026_01_4.2 | C31: =IF((SrcKA!AI25<>""), SrcKA!AI25,"") -> Переход электросварной с закладными нагревателями ПЭ100 SDR 11 д.110*90 | D31: =IF((SrcKA!E25<>""), SrcKA!E25,"") -> Переход электросварной с закладными нагревателями ПЭ100 SDR 11 д.110*90 | E31: =IF((SrcKA!AH25<>""), SrcKA!AH25,"") -> ШТ | F31: =IF((SrcKA!G25<>""), SrcKA!G25,"") -> ШТ | G31: =IF((SrcKA!I25<>""), SrcKA!I25,"") -> 2406.72 | H31: =IF((SrcKA!H25<>""), SrcKA!H25,"") -> 1972.72 | I31: 26.08.2026 | K31: =IF((SrcKA!AB25<>""), SrcKA!AB25,"") | L31: =IF((SrcKA!AC25<>""), SrcKA!AC25,"") -> 1972.72 | M31: =IF((SrcKA!AA25<>""), SrcKA!AA25,"") -> 0 | N31: =IF((SrcKA!J25<>""), SrcKA!J25,"") -> 0 | O31: =IF((SrcKA!U25<>""), SrcKA!U25,"") -> 0 | P31: =IF((SrcKA!V25<>""), SrcKA!V25,"") -> 0 | S31: =IF((SrcKA!AE25<>""), SrcKA!AE25,"") -> 0 | T31: =IF((SrcKA!K25<>""), SrcKA!K25,"") -> 1972.72 | U31: =IF((SrcKA!O25<>""), SrcKA!O25,"") -> ПО "РОБУСТ ГРУПП" | V31: =IF((SrcKA!Z25<>""), SrcKA!Z25,"") -> Россия | W31: =IF((SrcKA!R25<>""), SrcKA!R25,"") -> 644901001 | X31: =IF((SrcKA!Q25<>""), SrcKA!Q25,"") -> 6449085297 | Y31: =IF((SrcKA!S25<>""), SrcKA!S25,"") -> коммерческое предложение б/н от 26.08.2026г | Z31: =IF((SrcKA!P25<>""), SrcKA!P25,"") -> г.Саратов | AA31: =IF((SrcKA!N25<>""), SrcKA!N25,"") -> 2 | AB31: =IF((SrcKA!Y25<>""), SrcKA!Y25,"") | AC31: =IF((SrcKA!AV25<>""), SrcKA!AV25,"")
A32: 4.3 | B32: =SrcKA!D26 -> ТЦ_24.00.00.00_64_6455068074_26.08.2026_01_4.3 | C32: =IF((SrcKA!AI26<>""), SrcKA!AI26,"") -> Переход электросварной с закладными нагревателями ПЭ100 SDR 11 д.110*90 | D32: =IF((SrcKA!E26<>""), SrcKA!E26,"") -> Переход электросварной с закладными нагревателями ПЭ100 SDR 11 д.1110*90 | E32: =IF((SrcKA!AH26<>""), SrcKA!AH26,"") -> ШТ | F32: =IF((SrcKA!G26<>""), SrcKA!G26,"") -> ШТ | G32: =IF((SrcKA!I26<>""), SrcKA!I26,"") -> 2228.44 | H32: =IF((SrcKA!H26<>""), SrcKA!H26,"") -> 1826.59 | I32: 26.08.2026 | K32: =IF((SrcKA!AB26<>""), SrcKA!AB26,"") | L32: =IF((SrcKA!AC26<>""), SrcKA!AC26,"") -> 1826.59 | M32: =IF((SrcKA!AA26<>""), SrcKA!AA26,"") -> 0 | N32: =IF((SrcKA!J26<>""), SrcKA!J26,"") -> 0 | O32: =IF((SrcKA!U26<>""), SrcKA!U26,"") -> 0 | P32: =IF((SrcKA!V26<>""), SrcKA!V26,"") -> 0 | S32: =IF((SrcKA!AE26<>""), SrcKA!AE26,"") -> 0 | T32: =IF((SrcKA!K26<>""), SrcKA!K26,"") -> 1826.59 | U32: =IF((SrcKA!O26<>""), SrcKA!O26,"") -> ООО "Континент-Газ" | V32: =IF((SrcKA!Z26<>""), SrcKA!Z26,"") -> Россия | W32: =IF((SrcKA!R26<>""), SrcKA!R26,"") -> 645501001 | X32: =IF((SrcKA!Q26<>""), SrcKA!Q26,"") -> 6455068074 | Y32: =IF((SrcKA!S26<>""), SrcKA!S26,"") -> коммерческое предложение б/н от 26.08.2026 | Z32: =IF((SrcKA!P26<>""), SrcKA!P26,"") -> г.Саратов | AA32: =IF((SrcKA!N26<>""), SrcKA!N26,"") -> 2 | AB32: =IF((SrcKA!Y26<>""), SrcKA!Y26,"") | AC32: =IF((SrcKA!AV26<>""), SrcKA!AV26,"")
... A35: 5.3 | B35: =SrcKA!D29 -> ТЦ_21.00.00.00_64_6455068074_13.07.2026_01_5.3 | C35: =IF((SrcKA!AI29<>""), SrcKA!AI29,"") -> Провод П-274М | D35: =IF((SrcKA!E29<>""), SrcKA!E29,"") -> Провод П-274М | E35: =IF((SrcKA!AH29<>""), SrcKA!AH29,"") -> м | F35: =IF((SrcKA!G29<>""), SrcKA!G29,"") -> м | G35: =IF((SrcKA!I29<>""), SrcKA!I29,"") -> 54.6 | H35: =IF((SrcKA!H29<>""), SrcKA!H29,"") -> 44.75 | I35: 13.07.2026 | K35: =IF((SrcKA!AB29<>""), SrcKA!AB29,"") | L35: =IF((SrcKA!AC29<>""), SrcKA!AC29,"") -> 44.75 | M35: =IF((SrcKA!AA29<>""), SrcKA!AA29,"") -> 0 | N35: =IF((SrcKA!J29<>""), SrcKA!J29,"") -> 0 | O35: =IF((SrcKA!U29<>""), SrcKA!U29,"") -> 0 | P35: =IF((SrcKA!V29<>""), SrcKA!V29,"") -> 0 | S35: =IF((SrcKA!AE29<>""), SrcKA!AE29,"") -> 0 | T35: =IF((SrcKA!K29<>""), SrcKA!K29,"") -> 44.75 | U35: =IF((SrcKA!O29<>""), SrcKA!O29,"") -> ООО "Континент-Газ" | V35: =IF((SrcKA!Z29<>""), SrcKA!Z29,"") -> Россия | W35: =IF((SrcKA!R29<>""), SrcKA!R29,"") -> 645501001 | X35: =IF((SrcKA!Q29<>""), SrcKA!Q29,"") -> 6455068074 | Y35: =IF((SrcKA!S29<>""), SrcKA!S29,"") -> коммерческое предложение б/н от 13.07.2026г | Z35: =IF((SrcKA!P29<>""), SrcKA!P29,"") -> г.саратов | AA35: =IF((SrcKA!N29<>""), SrcKA!N29,"") -> 2 | AB35: =IF((SrcKA!Y29<>""), SrcKA!Y29,"") | AC35: =IF((SrcKA!AV29<>""), SrcKA!AV29,"")
D38: Составил
E39: [должность,подпись(инициалы,фамилия)]
D41: Проверил
E42: [должность,подпись(инициалы,фамилия)]
D44: Застройщик (технический заказчик)
E45: [должность,подпись(инициалы,фамилия)]

Sheet Source
A1: 0 | B1: Smeta.RU (495) 974-1589 | D1: _PS_ | F1: 0 | G1: 0 | H1: 0 | I1: Smeta.RU | K1: 1 | L1: 28180 | M1: 10 | N1: 12 | O1: 1 | P1: 0 | Q1: 5
A12: 1 | B12: 902 | C12: 0 | D12: =ROW(A837) -> 837 | E12: 0 | F12: Новый объект_(Копия)_(Копия)_(Копия)_(Копия)_(Копия) | G12: Газопровод высокого и низкого давления к нежилому зданию,расположенному по адресу: Пензенская область,Кузнецкий район,р.п.Евлашево(кн 58:14:0130201:451) | I12: 0 | K12: 0 | L12: 0 | M12: 523 | O12: 0 | P12: 0 | Q12: 7 | R12: 0 | T12: 4 | V12: 0 | BB12: 0 | BH12: Сметные нормы списания | BI12: Коды ценников | BJ12: 1 | BK12: 1 | BL12: 0 | BM12: 0 | BN12: 1 | BO12: 0 | BP12: 6 | BQ12: 2 | BR12: 1 | BS12: 1 | BT12: 0 | BU12: 0 | BV12: 0 | BW12: 0 | BX12: 0 | BY12: ФСНБ-2022_И18 | BZ12: Версия 1.18.0 для ФСНБ-2022 И18 | CA12: ФСНБ-2022 - Изменения И18 | CB12: ФСНБ-2022 - Изменения И18 | CC12: ФСНБ-2022 - Изменения И18 | CD12: ФСНБ-2022 - Изменения И18 | CE12: Поправки для ФСНБ-2022 от 21.05.2026 г И18 (55/пр) Строительство | CF12: 0 | CG12: 0 | CH12: 487096328 | CK12: 18 | CQ12: Приказ Минстроя России от 30.12.2021 г. № 1046/пр; Приказ Минстроя России от 04.08.2020 г. № 421/пр; Приказ Минстроя России от 21.12.2020 г. № 812/пр; Приказ Минстроя России от 11.12.2020 г. № 774/пр | CR12: ГСН | CS12: 46161 | CT12: 567 | CU12: 18 | CV12: Приказ Минстроя России от 18.05.2022 г. № 378/пр; Приказ Минстроя России от 26.08.2022 г. № 703/пр; Приказ Минстроя России от 26.10.2022 г. № 905/пр; Приказ Минстроя России от 27.12.2022 г. № 1133/пр; Приказ Минстроя России от 10.02.2023 г. № 84/пр; Приказ Минстроя России от 11.05.2023 г. № 335/пр; Приказ Минстроя России от 02.08.2023 г. № 551/пр; Приказ Минстроя России от 14.11.2023 г. № 817/пр; Приказ Минстроя России от 16.02.2024 г. № 102/пр; Приказ Минстроя России от 13.05.2024 г. № 323/пр; Приказ Минстроя России от 09.08.2024 г. № 524/пр; Приказ Минстроя России от 07.11.2024 г. № 747/пр; Приказ Минстроя России от 07.02.2025 г. № 69/пр; Приказ Минстроя России от 19.05.2025 г. № 299/пр; Приказ Минстроя России от 14.08.2025 г. № 490/пр; Приказ Минстроя России от 12.11.2025 г. № 696/пр; Приказ Минстроя России от 17.02.2026 г. № 91/пр; Приказ Минстроя России от 15.05.2026 г. № 301/пр; Приказ Минстроя России от 07.07.2022 г. № 557/пр; Приказ Минстроя России от 30.01.2024 г. № 55/пр; Приказ Минстроя России от 23.01.2025 г. № 30/пр; Приказ Минстроя России от 02.09.2021 г. № 636/пр; Приказ Минстроя России от 26.07.2022 г. № 611/пр; Приказ Минстроя России от 22.04.2022 г. № 317/пр | CY12: 0 | EC12: 0
A15: 15 | B15: 1
A18: 52 | B18: =B837 -> 902 | C18: =C837 -> 1 | D18: =D837 -> 12 | E18: =E837 -> 0 | F18: =F837 -> Новый объект_(Копия)_(Копия)_(Копия)_(Копия)_(Копия) | G18: =G837 -> Газопровод высокого и низкого давления к нежилому зданию,расположенному по адресу: Пензенская область,Кузнецкий район,р.п.Евлашево(кн 58:14:0130201:451) | O18: =O837 -> 1058585.9 | P18: =P837 -> 797900.99 | Q18: =Q837 -> 101560.21 | R18: =R837 -> 31689 | S18: =S837 -> 127435.71 | T18: =T837 -> 0 | U18: =U837 -> 329.4059 | V18: =V837 -> 64.249007 | ... GX18: =GX837 -> 0
A20: 3 | B20: 1 | D20: =ROW(A807) -> 807 | F20: Новая локальная смета | G20: Газопровод высокого и низкого давления | I20: 0 | K20: -1 | L20: Новая локальная смета | S20: 0 | V20: 0 | BX20: 0 | CF20: 0 | CG20: 0
A22: 52 | B22: =B807 -> 1 | C22: =C807 -> 3 | D22: =D807 -> 20 | E22: =E807 -> 0 | F22: =F807 -> Новая локальная смета | G22: =G807 -> Газопровод высокого и низкого давления | O22: =O807 -> 1058585.9 | P22: =P807 -> 797900.99 | Q22: =Q807 -> 101560.21 | R22: =R807 -> 31689 | S22: =S807 -> 127435.71 | T22: =T807 -> 0 | U22: =U807 -> 329.4059 | V22: =V807 -> 64.249007 | ... GX22: =GX807 -> 0
A24: 4 | B24: 1 | D24: =ROW(A234) -> 234 | F24: Новый раздел | G24: Газопровод высокого давления | I24: 0 | K24: 0 | S24: 0 | V24: 0 | BX24: 0 | CJ24: 0
A26: 52 | B26: =B234 -> 1 | C26: =C234 -> 4 | D26: =D234 -> 24 | E26: =E234 -> 0 | F26: =F234 -> Новый раздел | G26: =G234 -> Газопровод высокого давления | O26: =O234 -> 265632.38 | P26: =P234 -> 166857.85 | Q26: =Q234 -> 29949.95 | R26: =R234 -> 10414.59 | S26: =S234 -> 58409.99 | T26: =T234 -> 0 | U26: =U234 -> 156.14429 | V26: =V234 -> 21.548994 | ... GX26: =GX234 -> 0
A28: 5 | B28: 1 | D28: =ROW(A37) -> 37 | F28: Новый подраздел | G28: Земляные работы | I28: 0 | K28: 0 | S28: 0 | V28: 0 | BX28: 0 | CJ28: 0
A30: 52 | B30: =B37 -> 1 | C30: =C37 -> 5 | D30: =D37 -> 28 | E30: =E37 -> 0 | F30: =F37 -> Новый подраздел | G30: =G37 -> Земляные работы | O30: =O37 -> 41217.99 | P30: =P37 -> 0 | Q30: =Q37 -> 16786.34 | R30: =R37 -> 6344.34 | S30: =S37 -> 18087.31 | T30: =T37 -> 0 | U30: =U37 -> 56.892 | V30: =V37 -> 12.43068 | ... GX30: =GX37 -> 0
A32: 17 | B32: 1 | C32: =ROW(SmtRes!A2) -> 2 | D32: =ROW(EtalonRes!A2) -> 2 | E32: 1 | F32: 01-01-009-14 | G32: Разработка грунта в траншеях экскаватором «обратная лопата» с ковшом вместимостью 0,5 (0,5-0,63) м3, в отвал группа грунтов: 2 | H32: 1000 м3 | I32: =ROUND(368/1000,7) -> 0.368 | J32: 0 | K32: =ROUND(368/1000,7) -> 0.368 | O32: =ROUND(CP32,2) -> 18219.13 | P32: =SUMIF(SmtRes!AQ1:'SmtRes'!AQ2,"=1",SmtRes!DF1:'SmtRes'!DF2) -> 0 | Q32: =SUMIF(SmtRes!AQ1:'SmtRes'!AQ2,"=1",SmtRes!DG1:'SmtRes'!DG2) -> 13253.96 | R32: =SUMIF(SmtRes!AQ1:'SmtRes'!AQ2,"=1",SmtRes!DH1:'SmtRes'!DH2) -> 4965.17 | S32: =SUMIF(SmtRes!AQ1:'SmtRes'!AQ2,"=1",SmtRes!DI1:'SmtRes'!DI2) -> 0 | T32: =ROUND(CU32*I32,2) -> 0 | U32: =SUMIF(SmtRes!AQ1:'SmtRes'!AQ2,"=1",SmtRes!CV1:'SmtRes'!CV2) -> 0 | V32: =SUMIF(SmtRes!AQ1:'SmtRes'!AQ2,"=1",SmtRes!CW1:'SmtRes'!CW2) -> 9.384 | W32: =ROUND(CX32*I32,2) -> 0 | X32: =ROUND(CY32,2) -> 4567.96 | Y32: =ROUND(CZ32,2) -> 2283.98 | AA32: 72309884 | AB32: =ROUND((AC32+AD32+AF32),6) -> 26877.765 | AC32: =ROUND((0),6) -> 0 | AD32: =ROUND((((SUM(SmtRes!BR1:'SmtRes'!BR2))-(SUM(SmtRes!BS1:'SmtRes'!BS2)))+AE32),6) -> 26877.765 | AE32: =ROUND((SUM(SmtRes!BS1:'SmtRes'!BS2)),6) -> 13492.305 | AF32: =ROUND((0),6) -> 0 | AG32: =ROUND((AP32),6) -> 0 | AH32: =(0) -> 0 | AI32: =(SUM(SmtRes!BV1:'SmtRes'!BV2)) -> 25.5 | AJ32: =(AS32) -> 0 | AK32: 40370.07 | AL32: 0 | AM32: 26877.765 | AN32: 13492.305 | AO32: 0 | AP32: 0 | AQ32: 0 | AR32: 25.5 | AS32: 0 | AT32: 92 | AU32: 46 | AV32: 1 | AW32: 1 | AZ32: 1 | BA32: 1 | BB32: 1 | BC32: 1 | BH32: 0 | BI32: 1 | BJ32: ГЭСН-2022, 01-01-009-14, приказ Минстроя России от 18.05.2022 г. № 378/пр | BM32: 1001 | BN32: 0 | BP32: 0 | BQ32: 2 | BR32: 0 | BS32: 1 | BT32: 1 | BU32: 1 | BV32: 1 | BW32: 1 | BX32: 1 | BZ32: 92 | CA32: 46 | CE32: 0 | CF32: 0 | CG32: 0 | CM32: 0 | CO32: 0 | CP32: =(P32+Q32+S32+R32) -> 18219.13 | CQ32: =SUMIF(SmtRes!AQ1:'SmtRes'!AQ2,"=1",SmtRes!AA1:'SmtRes'!AA2) -> 0 | CR32: =SUMIF(SmtRes!AQ1:'SmtRes'!AQ2,"=1",SmtRes!AB1:'SmtRes'!AB2) -> 1412.4 | CS32: =SUMIF(SmtRes!AQ1:'SmtRes'!AQ2,"=1",SmtRes!AC1:'SmtRes'!AC2) -> 529.11 | CT32: =SUMIF(SmtRes!AQ1:'SmtRes'!AQ2,"=1",SmtRes!AD1:'SmtRes'!AD2) -> 0 | CU32: =AG32 -> 0 | CV32: =SUMIF(SmtRes!AQ1:'SmtRes'!AQ2,"=1",SmtRes!BU1:'SmtRes'!BU2) -> 0 | CW32: =SUMIF(SmtRes!AQ1:'SmtRes'!AQ2,"=1",SmtRes!BV1:'SmtRes'!BV2) -> 25.5 | CX32: =AJ32 -> 0 | CY32: =(((S32+R32)*AT32)/100) -> 4567.9564 | CZ32: =(((S32+R32)*AU32)/100) -> 2283.9782 | DN32: 0 | DO32: 0 | DP32: 1 | DQ32: 1 | DU32: 1007 | DV32: 1000 м3 | DW32: 1000 м3 | DX32: 1000 | EE32: 70312908 | EF32: 2 | EG32: Общестроительные работы | EH32: 1 | EI32: Земляные работы | EJ32: 1 | EK32: 1001 | EL32: Земляные работы, выполняемые: механизированным способом | EM32: ФЕР-01 | EQ32: 0 | ER32: 0 | ES32: 0 | ET32: 0 | EU32: 0 | EV32: 0 | EW32: 0 | EX32: 25.5 | EY32: 0 | FQ32: 0 | FR32: 0 | FS32: 0 | FX32: 92 | FY32: 46 | GD32: 1 | GF32: -838664745 | GG32: 2 | GH32: 1 | GI32: -2 | GJ32: 0 | GK32: 0 | GL32: =ROUND(IF(AND(BH32=3,BI32=3,FS32<>0),P32,0),2) -> 0 | GM32: =ROUND(O32+X32+Y32,2)+GX32 -> 25071.07 | GN32: =IF(OR(BI32=0,BI32=1),GM32-GX32,0) -> 25071.07 | GO32: =IF(BI32=2,GM32-GX32,0) -> 0 | GP32: =IF(BI32=4,GM32-GX32,0) -> 0 | GR32: 0 | GS32: 3 | GT32: 0 | GV32: =ROUND((GT32),6) -> 0 | GW32: 1 | GX32: =ROUND(HC32*I32,2) -> 0 | HA32: 0 | HB32: 0 | HC32: =GV32*GW32 -> 0 | HN32: Пр/812-001.1-1 | HO32: Пр/774-001.1 | HP32: Земляные работы, выполняемые: механизированным способом | HQ32: Земляные работы, выполняемые: механизированным способом | HS32: 0 | IK32: 0
A33: 17 | B33: 1 | C33: =ROW(SmtRes!A3) -> 3 | D33: =ROW(EtalonRes!A3) -> 3 | E33: 2 | F33: 01-02-057-02 | G33: Добор грунта вручную в траншеях глубиной до 2 м без креплений с откосами, группа грунтов: 2 | H33: 100 м3 | I33: =ROUND(30/100,7) -> 0.3 | J33: 0 | K33: =ROUND(30/100,7) -> 0.3 | O33: =ROUND(CP33,2) -> 14802.94 | P33: =SUMIF(SmtRes!AQ3:'SmtRes'!AQ3,"=1",SmtRes!DF3:'SmtRes'!DF3) -> 0 | Q33: =SUMIF(SmtRes!AQ3:'SmtRes'!AQ3,"=1",SmtRes!DG3:'SmtRes'!DG3) -> 0 | R33: =SUMIF(SmtRes!AQ3:'SmtRes'!AQ3,"=1",SmtRes!DH3:'SmtRes'!DH3) -> 0 | S33: =SUMIF(SmtRes!AQ3:'SmtRes'!AQ3,"=1",SmtRes!DI3:'SmtRes'!DI3) -> 14802.94 | T33: =ROUND(CU33*I33,2) -> 0 | U33: =SUMIF(SmtRes!AQ3:'SmtRes'!AQ3,"=1",SmtRes!CV3:'SmtRes'!CV3) -> 46.2 | V33: =SUMIF(SmtRes!AQ3:'SmtRes'!AQ3,"=1",SmtRes!CW3:'SmtRes'!CW3) -> 0 | W33: =ROUND(CX33*I33,2) -> 0 | X33: =ROUND(CY33,2) -> 13174.62 | Y33: =ROUND(CZ33,2) -> 5921.18 | AA33: 72309884 | AB33: =ROUND((AC33+AD33+AF33),6) -> 49343.14 | AC33: =ROUND((0),6) -> 0 | AD33: =ROUND((((0)-(0))+AE33),6) -> 0 | AE33: =ROUND((0),6) -> 0 | AF33: =ROUND((SUM(SmtRes!BT3:'SmtRes'!BT3)),6) -> 49343.14 | AG33: =ROUND((AP33),6) -> 0 | AH33: =(SUM(SmtRes!BU3:'SmtRes'!BU3)) -> 154 | AI33: =(0) -> 0 | AJ33: =(AS33) -> 0 | AK33: 49343.14 | AL33: 0 | AM33: 0 | AN33: 0 | AO33: 49343.14 | AP33: 0 | AQ33: 154 | AR33: 0 | AS33: 0 | AT33: 89 | AU33: 40 | AV33: 1 | AW33: 1 | AZ33: 1 | BA33: 1 | BB33: 1 | BC33: 1 | BH33: 0 | BI33: 1 | BJ33: ГЭСН-2022, 01-02-057-02, приказ Минстроя России от 18.05.2022 г. № 378/пр | BM33: 1003 | BN33: 0 | BP33: 0 | BQ33: 2 | BR33: 0 | BS33: 1 | BT33: 1 | BU33: 1 | BV33: 1 | BW33: 1 | BX33: 1 | BZ33: 89 | CA33: 40 | CE33: 0 | CF33: 0 | CG33: 0 | CM33: 0 | CO33: 0 | CP33: =(P33+Q33+S33+R33) -> 14802.94 | CQ33: =SUMIF(SmtRes!AQ3:'SmtRes'!AQ3,"=1",SmtRes!AA3:'SmtRes'!AA3) -> 0 | CR33: =SUMIF(SmtRes!AQ3:'SmtRes'!AQ3,"=1",SmtRes!AB3:'SmtRes'!AB3) -> 0 | CS33: =SUMIF(SmtRes!AQ3:'SmtRes'!AQ3,"=1",SmtRes!AC3:'SmtRes'!AC3) -> 0 | CT33: =SUMIF(SmtRes!AQ3:'SmtRes'!AQ3,"=1",SmtRes!AD3:'SmtRes'!AD3) -> 320.41 | CU33: =AG33 -> 0 | CV33: =SUMIF(SmtRes!AQ3:'SmtRes'!AQ3,"=1",SmtRes!BU3:'SmtRes'!BU3) -> 154 | CW33: =SUMIF(SmtRes!AQ3:'SmtRes'!AQ3,"=1",SmtRes!BV3:'SmtRes'!BV3) -> 0 | CX33: =AJ33 -> 0 | CY33: =(((S33+R33)*AT33)/100) -> 13174.617 | CZ33: =(((S33+R33)*AU33)/100) -> 5921.176 | DN33: 0 | DO33: 0 | DP33: 1 | DQ33: 1 | DU33: 1007 | DV33: 100 м3 | DW33: 100 м3 | DX33: 100 | EE33: 70312910 | EF33: 2 | EG33: Общестроительные работы | EH33: 1 | EI33: Земляные работы | EJ33: 1 | EK33: 1003 | EL33: Земляные работы, выполняемые: ручным способом | EM33: ФЕР-01 | EQ33: 0 | ER33: 0 | ES33: 0 | ET33: 0 | EU33: 0 | EV33: 0 | EW33: 154 | EX33: 0 | EY33: 0 | FQ33: 0 | FR33: 0 | FS33: 0 | FX33: 89 | FY33: 40 | GD33: 1 | GF33: -1871578151 | GG33: 2 | GH33: 1 | GI33: -2 | GJ33: 0 | GK33: 0 | GL33: =ROUND(IF(AND(BH33=3,BI33=3,FS33<>0),P33,0),2) -> 0 | GM33: =ROUND(O33+X33+Y33,2)+GX33 -> 33898.74 | GN33: =IF(OR(BI33=0,BI33=1),GM33-GX33,0) -> 33898.74 | GO33: =IF(BI33=2,GM33-GX33,0) -> 0 | GP33: =IF(BI33=4,GM33-GX33,0) -> 0 | GR33: 0 | GS33: 3 | GT33: 0 | GV33: =ROUND((GT33),6) -> 0 | GW33: 1 | GX33: =ROUND(HC33*I33,2) -> 0 | HA33: 0 | HB33: 0 | HC33: =GV33*GW33 -> 0 | HN33: Пр/812-001.2-1 | HO33: Пр/774-001.2 | HP33: Земляные работы, выполняемые: ручным способом | HQ33: Земляные работы, выполняемые: ручным способом | HS33: 0 | IK33: 0
A34: 17 | B34: 1 | C34: =ROW(SmtRes!A5) -> 5 | D34: =ROW(EtalonRes!A5) -> 5 | E34: 3 | F34: 01-01-033-02 | G34: Засыпка траншей и котлованов с перемещением грунта до 5 м бульдозерами мощностью: 59 кВт (80 л.с.), группа грунтов 2 | H34: 1000 м3 | I34: =ROUND(378/1000,7) -> 0.378 | J34: 0 | K34: =ROUND(378/1000,7) -> 0.378 | O34: =ROUND(CP34,2) -> 4911.55 | P34: =SUMIF(SmtRes!AQ4:'SmtRes'!AQ5,"=1",SmtRes!DF4:'SmtRes'!DF5) -> 0 | Q34: =SUMIF(SmtRes!AQ4:'SmtRes'!AQ5,"=1",SmtRes!DG4:'SmtRes'!DG5) -> 3532.38 | R34: =SUMIF(SmtRes!AQ4:'SmtRes'!AQ5,"=1",SmtRes!DH4:'SmtRes'!DH5) -> 1379.17 | S34: =SUMIF(SmtRes!AQ4:'SmtRes'!AQ5,"=1",SmtRes!DI4:'SmtRes'!DI5) -> 0 | T34: =ROUND(CU34*I34,2) -> 0 | U34: =SUMIF(SmtRes!AQ4:'SmtRes'!AQ5,"=1",SmtRes!CV4:'SmtRes'!CV5) -> 0 | V34: =SUMIF(SmtRes!AQ4:'SmtRes'!AQ5,"=1",SmtRes!CW4:'SmtRes'!CW5) -> 3.04668 | W34: =ROUND(CX34*I34,2) -> 0 | X34: =ROUND(CY34,2) -> 1268.84 | Y34: =ROUND(CZ34,2) -> 634.42 | AA34: 72309884 | AB34: =ROUND((AC34+AD34+AF34),6) -> 6674.9696 | AC34: =ROUND((0),6) -> 0 | AD34: =ROUND((((SUM(SmtRes!BR4:'SmtRes'!BR5))-(SUM(SmtRes!BS4:'SmtRes'!BS5)))+AE34),6) -> 6674.9696 | AE34: =ROUND((SUM(SmtRes!BS4:'SmtRes'!BS5)),6) -> 3648.6008 | AF34: =ROUND((0),6) -> 0 | AG34: =ROUND((AP34),6) -> 0 | AH34: =(0) -> 0 | AI34: =(SUM(SmtRes!BV4:'SmtRes'!BV5)) -> 8.06 | AJ34: =(AS34) -> 0 | AK34: 10323.57 | AL34: 0 | AM34: 6674.9696 | AN34: 3648.6008 | AO34: 0 | AP34: 0 | AQ34: 0 | AR34: 8.06 | AS34: 0 | AT34: 92 | AU34: 46 | AV34: 1 | AW34: 1 | AZ34: 1 | BA34: 1 | BB34: 1 | BC34: 1 | BH34: 0 | BI34: 1 | BJ34: ГЭСН-2022, 01-01-033-02, приказ Минстроя России от 18.05.2022 г. № 378/пр | BM34: 1001 | BN34: 0 | BP34: 0 | BQ34: 2 | BR34: 0 | BS34: 1 | BT34: 1 | BU34: 1 | BV34: 1 | BW34: 1 | BX34: 1 | BZ34: 92 | CA34: 46 | CE34: 0 | CF34: 0 | CG34: 0 | CM34: 0 | CO34: 0 | CP34: =(P34+Q34+S34+R34) -> 4911.55 | CQ34: =SUMIF(SmtRes!AQ4:'SmtRes'!AQ5,"=1",SmtRes!AA4:'SmtRes'!AA5) -> 0 | CR34: =SUMIF(SmtRes!AQ4:'SmtRes'!AQ5,"=1",SmtRes!AB4:'SmtRes'!AB5) -> 1159.42 | CS34: =SUMIF(SmtRes!AQ4:'SmtRes'!AQ5,"=1",SmtRes!AC4:'SmtRes'!AC5) -> 452.68 | CT34: =SUMIF(SmtRes!AQ4:'SmtRes'!AQ5,"=1",SmtRes!AD4:'SmtRes'!AD5) -> 0 | CU34: =AG34 -> 0 | CV34: =SUMIF(SmtRes!AQ4:'SmtRes'!AQ5,"=1",SmtRes!BU4:'SmtRes'!BU5) -> 0 | CW34: =SUMIF(SmtRes!AQ4:'SmtRes'!AQ5,"=1",SmtRes!BV4:'SmtRes'!BV5) -> 8.06 | CX34: =AJ34 -> 0 | CY34: =(((S34+R34)*AT34)/100) -> 1268.8364 | CZ34: =(((S34+R34)*AU34)/100) -> 634.4182 | DN34: 0 | DO34: 0 | DP34: 1 | DQ34: 1 | DU34: 1007 | DV34: 1000 м3 | DW34: 1000 м3 | DX34: 1000 | EE34: 70312908 | EF34: 2 | EG34: Общестроительные работы | EH34: 1 | EI34: Земляные работы | EJ34: 1 | EK34: 1001 | EL34: Земляные работы, выполняемые: механизированным способом | EM34: ФЕР-01 | EQ34: 0 | ER34: 0 | ES34: 0 | ET34: 0 | EU34: 0 | EV34: 0 | EW34: 0 | EX34: 8.06 | EY34: 0 | FQ34: 0 | FR34: 0 | FS34: 0 | FX34: 92 | FY34: 46 | GD34: 1 | GF34: 1607513880 | GG34: 2 | GH34: 1 | GI34: -2 | GJ34: 0 | GK34: 0 | GL34: =ROUND(IF(AND(BH34=3,BI34=3,FS34<>0),P34,0),2) -> 0 | GM34: =ROUND(O34+X34+Y34,2)+GX34 -> 6814.81 | GN34: =IF(OR(BI34=0,BI34=1),GM34-GX34,0) -> 6814.81 | GO34: =IF(BI34=2,GM34-GX34,0) -> 0 | GP34: =IF(BI34=4,GM34-GX34,0) -> 0 | GR34: 0 | GS34: 0 | GT34: 0 | GV34: =ROUND((GT34),6) -> 0 | GW34: 1 | GX34: =ROUND(HC34*I34,2) -> 0 | HA34: 0 | HB34: 0 | HC34: =GV34*GW34 -> 0 | HN34: Пр/812-001.1-1 | HO34: Пр/774-001.1 | HP34: Земляные работы, выполняемые: механизированным способом | HQ34: Земляные работы, выполняемые: механизированным способом | HS34: 0 | IK34: 0
A35: 17 | B35: 1 | C35: =ROW(SmtRes!A6) -> 6 | D35: =ROW(EtalonRes!A6) -> 6 | E35: 4 | F35: 01-02-061-02 | G35: Засыпка вручную траншей, пазух котлованов и ям, группа грунтов: 2 | H35: 100 м3 | I35: =ROUND(11/100,7) -> 0.11 | J35: 0 | K35: =ROUND(11/100,7) -> 0.11 | O35: =ROUND(CP35,2) -> 3284.37 | P35: =SUMIF(SmtRes!AQ6:'SmtRes'!AQ6,"=1",SmtRes!DF6:'SmtRes'!DF6) -> 0 | Q35: =SUMIF(SmtRes!AQ6:'SmtRes'!AQ6,"=1",SmtRes!DG6:'SmtRes'!DG6) -> 0 | R35: =SUMIF(SmtRes!AQ6:'SmtRes'!AQ6,"=1",SmtRes!DH6:'SmtRes'!DH6) -> 0 | S35: =SUMIF(SmtRes!AQ6:'SmtRes'!AQ6,"=1",SmtRes!DI6:'SmtRes'!DI6) -> 3284.37 | T35: =ROUND(CU35*I35,2) -> 0 | U35: =SUMIF(SmtRes!AQ6:'SmtRes'!AQ6,"=1",SmtRes!CV6:'SmtRes'!CV6) -> 10.692 | V35: =SUMIF(SmtRes!AQ6:'SmtRes'!AQ6,"=1",SmtRes!CW6:'SmtRes'!CW6) -> 0 | W35: =ROUND(CX35*I35,2) -> 0 | X35: =ROUND(CY35,2) -> 2923.09 | Y35: =ROUND(CZ35,2) -> 1313.75 | AA35: 72309884 | AB35: =ROUND((AC35+AD35+AF35),6) -> 29857.896 | AC35: =ROUND((0),6) -> 0 | AD35: =ROUND((((0)-(0))+AE35),6) -> 0 | AE35: =ROUND((0),6) -> 0 | AF35: =ROUND((SUM(SmtRes!BT6:'SmtRes'!BT6)),6) -> 29857.896 | AG35: =ROUND((AP35),6) -> 0 | AH35: =(SUM(SmtRes!BU6:'SmtRes'!BU6)) -> 97.2 | AI35: =(0) -> 0 | AJ35: =(AS35) -> 0 | AK35: 29857.896 | AL35: 0 | AM35: 0 | AN35: 0 | AO35: 29857.896 | AP35: 0 | AQ35: 97.2 | AR35: 0 | AS35: 0 | AT35: 89 | AU35: 40 | AV35: 1 | AW35: 1 | AZ35: 1 | BA35: 1 | BB35: 1 | BC35: 1 | BH35: 0 | BI35: 1 | BJ35: ГЭСН-2022, 01-02-061-02, приказ Минстроя России от 18.05.2022 г. № 378/пр | BM35: 1003 | BN35: 0 | BP35: 0 | BQ35: 2 | BR35: 0 | BS35: 1 | BT35: 1 | BU35: 1 | BV35: 1 | BW35: 1 | BX35: 1 | BZ35: 89 | CA35: 40 | CE35: 0 | CF35: 0 | CG35: 0 | CM35: 0 | CO35: 0 | CP35: =(P35+Q35+S35+R35) -> 3284.37 | CQ35: =SUMIF(SmtRes!AQ6:'SmtRes'!AQ6,"=1",SmtRes!AA6:'SmtRes'!AA6) -> 0 | CR35: =SUMIF(SmtRes!AQ6:'SmtRes'!AQ6,"=1",SmtRes!AB6:'SmtRes'!AB6) -> 0 | CS35: =SUMIF(SmtRes!AQ6:'SmtRes'!AQ6,"=1",SmtRes!AC6:'SmtRes'!AC6) -> 0 | CT35: =SUMIF(SmtRes!AQ6:'SmtRes'!AQ6,"=1",SmtRes!AD6:'SmtRes'!AD6) -> 307.18 | CU35: =AG35 -> 0 | CV35: =SUMIF(SmtRes!AQ6:'SmtRes'!AQ6,"=1",SmtRes!BU6:'SmtRes'!BU6) -> 97.2 | CW35: =SUMIF(SmtRes!AQ6:'SmtRes'!AQ6,"=1",SmtRes!BV6:'SmtRes'!BV6) -> 0 | CX35: =AJ35 -> 0 | CY35: =(((S35+R35)*AT35)/100) -> 2923.0893 | CZ35: =(((S35+R35)*AU35)/100) -> 1313.748 | DN35: 0 | DO35: 0 | DP35: 1 | DQ35: 1 | DU35: 1007 | DV35: 100 м3 | DW35: 100 м3 | DX35: 100 | EE35: 70312910 | EF35: 2 | EG35: Общестроительные работы | EH35: 1 | EI35: Земляные работы | EJ35: 1 | EK35: 1003 | EL35: Земляные работы, выполняемые: ручным способом | EM35: ФЕР-01 | EQ35: 0 | ER35: 0 | ES35: 0 | ET35: 0 | EU35: 0 | EV35: 0 | EW35: 97.2 | EX35: 0 | EY35: 0 | FQ35: 0 | FR35: 0 | FS35: 0 | FX35: 89 | FY35: 40 | GD35: 1 | GF35: -1673785635 | GG35: 2 | GH35: 1 | GI35: -2 | GJ35: 0 | GK35: 0 | GL35: =ROUND(IF(AND(BH35=3,BI35=3,FS35<>0),P35,0),2) -> 0 | GM35: =ROUND(O35+X35+Y35,2)+GX35 -> 7521.21 | GN35: =IF(OR(BI35=0,BI35=1),GM35-GX35,0) -> 7521.21 | GO35: =IF(BI35=2,GM35-GX35,0) -> 0 | GP35: =IF(BI35=4,GM35-GX35,0) -> 0 | GR35: 0 | GS35: 0 | GT35: 0 | GV35: =ROUND((GT35),6) -> 0 | GW35: 1 | GX35: =ROUND(HC35*I35,2) -> 0 | HA35: 0 | HB35: 0 | HC35: =GV35*GW35 -> 0 | HN35: Пр/812-001.2-1 | HO35: Пр/774-001.2 | HP35: Земляные работы, выполняемые: ручным способом | HQ35: Земляные работы, выполняемые: ручным способом | HS35: 0 | IK35: 0
A37: 51 | B37: =B28 -> 1 | C37: =A28 -> 5 | D37: =ROW(A28) -> 28 | F37: =IF(F28<>"",F28,"") -> Новый подраздел | G37: =IF(G28<>"",G28,"") -> Земляные работы | H37: 0 | O37: =ROUND(AB37,2) -> 41217.99 | P37: =ROUND(AC37,2) -> 0 | Q37: =ROUND(AD37,2) -> 16786.34 | R37: =ROUND(AE37,2) -> 6344.34 | S37: =ROUND(AF37,2) -> 18087.31 | T37: =ROUND(AG37,2) -> 0 | U37: =AH37 -> 56.892 | V37: =AI37 -> 12.43068 | W37: =ROUND(AJ37,2) -> 0 | X37: =ROUND(AK37,2) -> 21934.51 | Y37: =ROUND(AL37,2) -> 10153.33 | AB37: =ROUND(SUMIF(AA32:AA35,"=72309884",O32:O35),2) -> 41217.99 | AC37: =ROUND(SUMIF(AA32:AA35,"=72309884",P32:P35),2) -> 0 | AD37: =ROUND(SUMIF(AA32:AA35,"=72309884",Q32:Q35),2) -> 16786.34 | AE37: =ROUND(SUMIF(AA32:AA35,"=72309884",R32:R35),2) -> 6344.34 | AF37: =ROUND(SUMIF(AA32:AA35,"=72309884",S32:S35),2) -> 18087.31 | AG37: =ROUND(SUMIF(AA32:AA35,"=72309884",T32:T35),2) -> 0 | AH37: =SUMIF(AA32:AA35,"=72309884",U32:U35) -> 56.892 | AI37: =SUMIF(AA32:AA35,"=72309884",V32:V35) -> 12.43068 | AJ37: =ROUND(SUMIF(AA32:AA35,"=72309884",W32:W35),2) -> 0 | AK37: =ROUND(SUMIF(AA32:AA35,"=72309884",X32:X35),2) -> 21934.51 | AL37: =ROUND(SUMIF(AA32:AA35,"=72309884",Y32:Y35),2) -> 10153.33 | AO37: =ROUND(BX37,2) -> 0 | AP37: =ROUND(BY37,2) -> 0 | AQ37: =ROUND(BZ37,2) -> 0 | AR37: =ROUND(CA37,2) -> 73305.83 | AS37: =ROUND(CB37,2) -> 73305.83 | AT37: =ROUND(CC37,2) -> 0 | AU37: =ROUND(CD37,2) -> 0 | AV37: =ROUND(CE37,2) -> 0 | ... BD37: =ROUND(CM37,2) -> 0 | BX37: =ROUND(SUMIF(AA32:AA35,"=72309884",FQ32:FQ35),2) -> 0 | BY37: =ROUND(SUMIF(AA32:AA35,"=72309884",FR32:FR35),2) -> 0 | BZ37: =ROUND(SUMIF(AA32:AA35,"=72309884",GL32:GL35),2) -> 0 | CA37: =ROUND(SUMIF(AA32:AA35,"=72309884",GM32:GM35),2) -> 73305.83 | CB37: =ROUND(SUMIF(AA32:AA35,"=72309884",GN32:GN35),2) -> 73305.83 | CC37: =ROUND(SUMIF(AA32:AA35,"=72309884",GO32:GO35),2) -> 0 | CD37: =ROUND(SUMIF(AA32:AA35,"=72309884",GP32:GP35),2) -> 0 | CE37: =AC37-BX37 -> 0 | CF37: =AC37-BY37 -> 0 | CG37: =BX37-BZ37 -> 0 | CH37: =AC37-BX37-BY37+BZ37 -> 0 | CI37: =BY37-BZ37 -> 0 | CJ37: =ROUND(SUMIF(AA32:AA35,"=72309884",GX32:GX35),2) -> 0 | CK37: =ROUND(SUMIF(AA32:AA35,"=72309884",GY32:GY35),2) -> 0 | CL37: =ROUND(SUMIF(AA32:AA35,"=72309884",GZ32:GZ35),2) -> 0 | CM37: =ROUND(SUMIF(AA32:AA35,"=72309884",HD32:HD35),2) -> 0 | GX37: 0
A39: 50 | B39: 0 | C39: 0 | D39: 1 | E39: 201 | F39: =ROUND(Source!O37,O39) -> 41217.99 | G39: ПЗ | H39: Прямые затраты | K39: 201 | L39: 1 | M39: 3 | O39: 2 | W39: 41217.99 | X39: 1 | Y39: 41217.99
A40: 50 | B40: 0 | C40: 0 | D40: 1 | E40: 202 | F40: =ROUND(Source!P37,O40) -> 0 | G40: СтМатОб | H40: Стоимость материальных ресурсов (всего) | K40: 202 | L40: 2 | M40: 3 | O40: 2 | W40: 0 | X40: 1 | Y40: 0
A41: 50 | B41: 0 | C41: 0 | D41: 1 | E41: 222 | F41: =ROUND(Source!AO37,O41) -> 0 | G41: СтМатОбЗак | H41: Стоимость материалов и оборудования заказчика | K41: 222 | L41: 3 | M41: 3 | O41: 2 | W41: 0 | X41: 1 | Y41: 0
A42: 50 | B42: 0 | C42: 0 | D42: 1 | E42: 225 | F42: =ROUND(Source!AV37,O42) -> 0 | G42: СтМатОбПод | H42: Стоимость материалов и оборудования подрядчика | K42: 225 | L42: 4 | M42: 3 | O42: 2 | W42: 0 | X42: 1 | Y42: 0
A43: 50 | B43: 0 | C43: 0 | D43: 1 | E43: 226 | F43: =ROUND(Source!AW37,O43) -> 0 | G43: СтМат | H43: Стоимость материалов (всего) | K43: 226 | L43: 5 | M43: 3 | O43: 2 | W43: 0 | X43: 1 | Y43: 0
A44: 50 | B44: 0 | C44: 0 | D44: 1 | E44: 227 | F44: =ROUND(Source!AX37,O44) -> 0 | G44: СтМатЗак | H44: Стоимость материалов заказчика | K44: 227 | L44: 6 | M44: 3 | O44: 2 | W44: 0 | X44: 1 | Y44: 0
A45: 50 | B45: 0 | C45: 0 | D45: 1 | E45: 228 | F45: =ROUND(Source!AY37,O45) -> 0 | G45: СтМатПод | H45: Стоимость материалов подрядчика | K45: 228 | L45: 7 | M45: 3 | O45: 2 | W45: 0 | X45: 1 | Y45: 0
A46: 50 | B46: 0 | C46: 0 | D46: 1 | E46: 216 | F46: =ROUND(Source!AP37,O46) -> 0 | G46: Оборуд | H46: Стоимость оборудования (всего) | K46: 216 | L46: 8 | M46: 3 | O46: 2 | W46: 0 | X46: 1 | Y46: 0
A47: 50 | B47: 0 | C47: 0 | D47: 1 | E47: 223 | F47: =ROUND(Source!AQ37,O47) -> 0 | G47: ОборудЗак | H47: Стоимость оборудования заказчика | K47: 223 | L47: 9 | M47: 3 | O47: 2 | W47: 0 | X47: 1 | Y47: 0
A48: 50 | B48: 0 | C48: 0 | D48: 1 | E48: 229 | F48: =ROUND(Source!AZ37,O48) -> 0 | G48: ОборудПод | H48: Стоимость оборудования подрядчика | K48: 229 | L48: 10 | M48: 3 | O48: 2 | W48: 0 | X48: 1 | Y48: 0
A49: 50 | B49: 0 | C49: 0 | D49: 1 | E49: 203 | F49: =ROUND(Source!Q37,O49) -> 16786.34 | G49: ЭММ | H49: Эксплуатация машин | K49: 203 | L49: 11 | M49: 3 | O49: 2 | W49: 16786.34 | X49: 1 | Y49: 16786.34
A50: 50 | B50: 0 | C50: 0 | D50: 1 | E50: 231 | F50: =ROUND(Source!BB37,O50) -> 0 | G50: ЭММсНРиСП | H50: Эксплуатация машин по ТСН-2001.16 | K50: 231 | L50: 12 | M50: 3 | O50: 2 | W50: 0 | X50: 1 | Y50: 0
A51: 50 | B51: 0 | C51: 0 | D51: 1 | E51: 204 | F51: =ROUND(Source!R37,O51) -> 6344.34 | G51: ЗПМ | H51: ЗП машинистов | K51: 204 | L51: 13 | M51: 3 | O51: 2 | W51: 6344.34 | X51: 1 | Y51: 6344.34
A52: 50 | B52: 0 | C52: 0 | D52: 1 | E52: 205 | F52: =ROUND(Source!S37,O52) -> 18087.31 | G52: ОЗП | H52: Основная ЗП рабочих | K52: 205 | L52: 14 | M52: 3 | O52: 2 | W52: 18087.31 | X52: 1 | Y52: 18087.31
A53: 50 | B53: 0 | C53: 0 | D53: 1 | E53: 232 | F53: =ROUND(Source!BC37,O53) -> 0 | G53: ОЗПсНРиСП | H53: Основная ЗП рабочих по ТСН-2001.16 | K53: 232 | L53: 15 | M53: 3 | O53: 2 | W53: 0 | X53: 1 | Y53: 0
A54: 50 | B54: 0 | C54: 0 | D54: 1 | E54: 214 | F54: =ROUND(Source!AS37,O54) -> 73305.83 | G54: Строит | H54: Строительные работы с НР и СП | K54: 214 | L54: 16 | M54: 3 | O54: 2 | W54: 73305.83 | X54: 1 | Y54: 73305.83
A55: 50 | B55: 0 | C55: 0 | D55: 1 | E55: 215 | F55: =ROUND(Source!AT37,O55) -> 0 | G55: Монтаж | H55: Монтажные работы с НР и СП | K55: 215 | L55: 17 | M55: 3 | O55: 2 | W55: 0 | X55: 1 | Y55: 0
A56: 50 | B56: 0 | C56: 0 | D56: 1 | E56: 217 | F56: =ROUND(Source!AU37,O56) -> 0 | G56: Прочие | H56: Прочие работы с НР и СП | K56: 217 | L56: 18 | M56: 3 | O56: 2 | W56: 0 | X56: 1 | Y56: 0
A57: 50 | B57: 0 | C57: 0 | D57: 1 | E57: 230 | F57: =ROUND(Source!BA37,O57) -> 0 | G57: ПрочиеЗатр | H57: Прочие затраты по ТСН-2001.16 | K57: 230 | L57: 19 | M57: 3 | O57: 2 | W57: 0 | X57: 1 | Y57: 0
A58: 50 | B58: 0 | C58: 0 | D58: 1 | E58: 206 | F58: =ROUND(Source!T37,O58) -> 0 | G58: ВозврМат | H58: Возврат материалов | K58: 206 | L58: 20 | M58: 3 | O58: 2 | W58: 0 | X58: 1 | Y58: 0
A59: 50 | B59: 0 | C59: 0 | D59: 1 | E59: 207 | F59: =ROUND(Source!U37,O59) -> 56.892 | G59: ТрудСтр | H59: Трудозатраты строителей | K59: 207 | L59: 21 | M59: 3 | O59: 7 | W59: 56.892 | X59: 1 | Y59: 56.892
A60: 50 | B60: 0 | C60: 0 | D60: 1 | E60: 208 | F60: =ROUND(Source!V37,O60) -> 12.43068 | G60: ТрудМаш | H60: Трудозатраты машинистов | K60: 208 | L60: 22 | M60: 3 | O60: 7 | W60: 12.43068 | X60: 1 | Y60: 12.43068
A61: 50 | B61: 0 | C61: 0 | D61: 1 | E61: 209 | F61: =ROUND(Source!W37,O61) -> 0 | G61: ТранспМат | H61: Транспорт материалов | K61: 209 | L61: 23 | M61: 3 | O61: 2 | W61: 0 | X61: 1 | Y61: 0
A62: 50 | B62: 0 | C62: 0 | D62: 1 | E62: 233 | F62: =ROUND(Source!BD37,O62) -> 0 | G62: Перевозка | H62: Перевозка грузов | K62: 233 | L62: 24 | M62: 3 | O62: 2 | W62: 0 | X62: 1 | Y62: 0
A63: 50 | B63: 0 | C63: 0 | D63: 1 | E63: 210 | F63: =ROUND(Source!X37,O63) -> 21934.51 | G63: НР | H63: Накладные расходы | K63: 210 | L63: 25 | M63: 3 | O63: 2 | W63: 21934.51 | X63: 1 | Y63: 21934.51
...

Sheet SourceObSm
A1: 0 | B1: Smeta.RU (495) 974-1589 | D1: _OBSM_ | F1: 0 | G1: 0 | H1: 0 | I1: Smeta.RU | K1: 1 | L1: 28180 | M1: 10 | N1: 12 | O1: 1 | P1: 0 | Q1: 5
A12: 1 | B12: 59 | C12: 0 | E12: 0 | F12: Новый объект_(Копия)_(Копия)_(Копия)_(Копия)_(Копия) | G12: Газопровод высокого и низкого давления к нежилому зданию,расположенному по адресу: Пензенская область,Кузнецкий район,р.п.Евлашево(кн 58:14:0130201:451) | I12: 0 | K12: 0 | L12: 0 | M12: 523 | O12: 0 | P12: 0 | Q12: 7 | R12: 0 | T12: 4 | V12: 0 | BB12: 0 | BH12: Сметные нормы списания | BI12: Коды ценников | BJ12: 1 | BK12: 1 | BL12: 0 | BM12: 0 | BN12: 1 | BO12: 0 | BP12: 6 | BQ12: 2 | BR12: 1 | BS12: 1 | BT12: 0 | BU12: 0 | BV12: 0 | BW12: 0 | BX12: 0 | BY12: ФСНБ-2022_И18 | BZ12: Версия 1.18.0 для ФСНБ-2022 И18 | CA12: ФСНБ-2022 - Изменения И18 | CB12: ФСНБ-2022 - Изменения И18 | CC12: ФСНБ-2022 - Изменения И18 | CD12: ФСНБ-2022 - Изменения И18 | CE12: Поправки для ФСНБ-2022 от 21.05.2026 г И18 (55/пр) Строительство | CF12: 0 | CG12: 0 | CH12: 487096328 | CK12: 18 | CQ12: Приказ Минстроя России от 30.12.2021 г. № 1046/пр; Приказ Минстроя России от 04.08.2020 г. № 421/пр; Приказ Минстроя России от 21.12.2020 г. № 812/пр; Приказ Минстроя России от 11.12.2020 г. № 774/пр | CR12: ГСН | CS12: 46161 | CT12: 567 | CU12: 18 | CV12: Приказ Минстроя России от 18.05.2022 г. № 378/пр; Приказ Минстроя России от 26.08.2022 г. № 703/пр; Приказ Минстроя России от 26.10.2022 г. № 905/пр; Приказ Минстроя России от 27.12.2022 г. № 1133/пр; Приказ Минстроя России от 10.02.2023 г. № 84/пр; Приказ Минстроя России от 11.05.2023 г. № 335/пр; Приказ Минстроя России от 02.08.2023 г. № 551/пр; Приказ Минстроя России от 14.11.2023 г. № 817/пр; Приказ Минстроя России от 16.02.2024 г. № 102/пр; Приказ Минстроя России от 13.05.2024 г. № 323/пр; Приказ Минстроя России от 09.08.2024 г. № 524/пр; Приказ Минстроя России от 07.11.2024 г. № 747/пр; Приказ Минстроя России от 07.02.2025 г. № 69/пр; Приказ Минстроя России от 19.05.2025 г. № 299/пр; Приказ Минстроя России от 14.08.2025 г. № 490/пр; Приказ Минстроя России от 12.11.2025 г. № 696/пр; Приказ Минстроя России от 17.02.2026 г. № 91/пр; Приказ Минстроя России от 15.05.2026 г. № 301/пр; Приказ Минстроя России от 07.07.2022 г. № 557/пр; Приказ Минстроя России от 30.01.2024 г. № 55/пр; Приказ Минстроя России от 23.01.2025 г. № 30/пр; Приказ Минстроя России от 02.09.2021 г. № 636/пр; Приказ Минстроя России от 26.07.2022 г. № 611/пр; Приказ Минстроя России от 22.04.2022 г. № 317/пр | CY12: 0 | EC12: 0
A14: 22 | B14: 1 | C14: 0 | D14: 72309884 | E14: 0 | F14: 2 | G14: 1
A16: 3 | B16: 1 | C16: Новая локальная смета | D16: Газопровод высокого и низкого давления | E16: =ROUND((Source!F824)/1000,2) -> 1091.83 | F16: =ROUND((Source!F825)/1000,2) -> 120.05 | G16: =ROUND((Source!F816)/1000,2) -> 122.13 | H16: =ROUND((Source!F826)/1000+(Source!F827)/1000,2) -> 0 | I16: =E16+F16+G16+H16 -> 1334.01 | J16: =ROUND((Source!F822+Source!F821)/1000,2) -> 159.12 | K16: 1856.49 | L16: 0 | M16: 0 | N16: =I16+L16+M16 -> 1334.01 | AI16: 0 | AJ16: -1 | AN16: 0 | AT16: 936454.76 | AU16: 797900.99 | AV16: 0 | AW16: 122131.15 | AX16: 0 | AY16: 101560.21 | AZ16: 31689 | BA16: 127435.71 | BB16: 1091825 | BC16: 120051.85 | BD16: 0 | BE16: 0 | BF16: 329.4059 | BG16: 64.249007 | BH16: 0 | BI16: 174390.39 | BJ16: 101031.71 | BK16: 1334008
A18: 51 | E18: 1091.83 | F18: 120.05 | G18: 122.13 | H18: 0 | I18: 1334.01 | J18: 159.12 | K18: 1856.49 | L18: 0 | M18: 0 | N18: 1334.01
A20: 50 | B20: 0 | C20: 0 | D20: 1 | E20: 0 | F20: 936454.76 | G20: ПЗ | H20: Прямые затраты | K20: 201 | L20: 1 | M20: 3 | O20: 2
A21: 50 | B21: 0 | C21: 0 | D21: 1 | E21: 202 | F21: 797900.99 | G21: СтМатОб | H21: Стоимость материальных ресурсов (всего) | K21: 202 | L21: 2 | M21: 3 | O21: 2
A22: 50 | B22: 0 | C22: 0 | D22: 1 | E22: 222 | F22: 0 | G22: СтМатОбЗак | H22: Стоимость материалов и оборудования заказчика | K22: 222 | L22: 3 | M22: 3 | O22: 2
A23: 50 | B23: 0 | C23: 0 | D23: 1 | E23: 225 | F23: 797900.99 | G23: СтМатОбПод | H23: Стоимость материалов и оборудования подрядчика | K23: 225 | L23: 4 | M23: 3 | O23: 2
