Workbook

Sheet Смета по ФСНБ 421+557прРИМ_1
A1: Наименование редакции сметных нормативов | F1: =IF(Source!CQ12 <> "", Source!CQ12, "") -> Приказ Минстроя России от 30.12.2021 г. № 1046/пр; Приказ Минстроя России от 04.08.2020 г. № 421/пр; Приказ Минстроя России от 21.12.2020 г. № 812/пр; Приказ Минстроя России от 11.12.2020 г. № 774/пр | CO1: =IF(Source!CQ12 <> "", Source!CQ12, "") -> Приказ Минстроя России от 30.12.2021 г. № 1046/пр; Приказ Минстроя России от 04.08.2020 г. № 421/пр; Приказ Минстроя России от 21.12.2020 г. № 812/пр; Приказ Минстроя России от 11.12.2020 г. № 774/пр
A3: Реквизиты приказа Минстроя России об утверждении дополнений и изменений к сметным нормативам | F3: =IF(Source!CV12 <> "", Source!CV12, "") -> Приказ Минстроя России от 18.05.2022 г. № 378/пр; Приказ Минстроя России от 26.08.2022 г. № 703/пр; Приказ Минстроя России от 26.10.2022 г. № 905/пр; Приказ Минстроя России от 27.12.2022 г. № 1133/пр; Приказ Минстроя России от 10.02.2023 г. № 84/пр; Приказ Минстроя России от 11.05.2023 г. № 335/пр; Приказ Минстроя России от 02.08.2023 г. № 551/пр; Приказ Минстроя России от 14.11.2023 г. № 817/пр; Приказ Минстроя России от 16.02.2024 г. № 102/пр; Приказ Минстроя России от 13.05.2024 г. № 323/пр; Приказ Минстроя России от 09.08.2024 г. № 524/пр; Приказ Минстроя России от 07.11.2024 г. № 747/пр; Приказ Минстроя России от 07.02.2025 г. № 69/пр; Приказ Минстроя России от 19.05.2025 г. № 299/пр; Приказ Минстроя России от 14.08.2025 г. № 490/пр; Приказ Минстроя России от 12.11.2025 г. № 696/пр; Приказ Минстроя России от 17.02.2026 г. № 91/пр; Приказ Минстроя России от 15.05.2026 г. № 301/пр; Приказ Минстроя России от 12.08.2026 г. № 527/пр; Приказ Минстроя России от 07.07.2022 г. № 557/пр; Приказ Минстроя России от 30.01.2024 г. № 55/пр; Приказ Минстроя России от 23.01.2025 г. № 30/пр; Приказ Минстроя России от 02.09.2021 г. № 636/пр; Приказ Минстроя России от 26.07.2022 г. № 611/пр; Приказ Минстроя России от 22.04.2022 г. № 317/пр | CO3: =IF(Source!CV12 <> "", Source!CV12, "") -> Приказ Минстроя России от 18.05.2022 г. № 378/пр; Приказ Минстроя России от 26.08.2022 г. № 703/пр; Приказ Минстроя России от 26.10.2022 г. № 905/пр; Приказ Минстроя России от 27.12.2022 г. № 1133/пр; Приказ Минстроя России от 10.02.2023 г. № 84/пр; Приказ Минстроя России от 11.05.2023 г. № 335/пр; Приказ Минстроя России от 02.08.2023 г. № 551/пр; Приказ Минстроя России от 14.11.2023 г. № 817/пр; Приказ Минстроя России от 16.02.2024 г. № 102/пр; Приказ Минстроя России от 13.05.2024 г. № 323/пр; Приказ Минстроя России от 09.08.2024 г. № 524/пр; Приказ Минстроя России от 07.11.2024 г. № 747/пр; Приказ Минстроя России от 07.02.2025 г. № 69/пр; Приказ Минстроя России от 19.05.2025 г. № 299/пр; Приказ Минстроя России от 14.08.2025 г. № 490/пр; Приказ Минстроя России от 12.11.2025 г. № 696/пр; Приказ Минстроя России от 17.02.2026 г. № 91/пр; Приказ Минстроя России от 15.05.2026 г. № 301/пр; Приказ Минстроя России от 12.08.2026 г. № 527/пр; Приказ Минстроя России от 07.07.2022 г. № 557/пр; Приказ Минстроя России от 30.01.2024 г. № 55/пр; Приказ Минстроя России от 23.01.2025 г. № 30/пр; Приказ Минстроя России от 02.09.2021 г. № 636/пр; Приказ Минстроя России от 26.07.2022 г. № 611/пр; Приказ Минстроя России от 22.04.2022 г. № 317/пр
A5: Реквизиты письма Минстроя России об индексах изменения сметной стоимости строительства, включаемые в федеральный реестр сметных нормативов и размещаемые в федеральной государственной информационной системе ценообразования в строительстве, подготовленного в соответствии с пунктом 85 Методики расчета индексов изменения сметной стоимости строительства, утвержденной приказом Министерства строительства и жилищно-коммунального хозяйства Российской Федерации от 5 июня 2019 г. N 326/пр | F5: Письмо Минстроя России от 24.08.2026 № 52419-ИФ/09
A7: Реквизиты нормативного правового акта об утверждении оплаты труда, утверждаемый в соответствии с пунктом 22(1) Правилами мониторинга цен, утвержденными постановлением Правительства Российской Федерации от 23 декабря 2016 г. N 1452 | F7: Приказ Министерства градостроительства и архитектуры Пензенской области от 06.03.2026 г. № 250/оп
A9: Обоснование принятых текущих цен на строительные ресурсы | F9: ФГИС ЦС, конъюнктурный анализ
A11: Наименование субъекта Российской Федерации | F11: Пензенская область
A12: Наименование зоны субъекта Российской Федерации | F12: Пензенская область
A14: Газопровод низкого давления к жилому дому,расположенному по адресу: Пензенская область,Лопатинский район,Старовершаутский сельсовет
A16: (наименование стройки)
A18: =IF(Source!G12<>"Новый объект", Source!G12, "") -> Газопровод низкого давления к жилому дому,расположенному по адресу: Пензенская область,Лопатинский район,Старовершаутский сельсовет | CN18: =IF(Source!G12<>"Новый объект", Source!G12, "") -> Газопровод низкого давления к жилому дому,расположенному по адресу: Пензенская область,Лопатинский район,Старовершаутский сельсовет
A19: (наименование объекта капитального строительства)
A21: ЛОКАЛЬНАЯ СМЕТА №ЛС-01-01-01
A22: =IF(Source!G20<>"Новая локальная смета", Source!G20, "") -> Газопровод низкого давленияя
A23: (наименование работ и затрат)
A24: Составлен | C24: Ресурсно-индексным | D24: методом
A26: Основание | C26: шифр 09/02-2026-ГСН
C27: (проектная и (или) иная техническая документация)
A28: Составлен(а) в текущем уровне цен на сентябрь 2026 года
A30: Сметная стоимость | C30: =C33+C34+C35+C36 -> 425.42 | E30: тыс. руб.
G31: Средства на оплату труда рабочих | K31: =ROUND(SUM(AR43:AR579)/1000, 2) -> 46.6 | L31: тыс. руб.
B32: в том числе: | G32: Средства на оплату труда машинистов | K32: =ROUND(SUM(AT43:AT579)/1000, 2) -> 12.6 | L32: тыс. руб.
B33: строительных работ | C33: =ROUND((Source!F149)/1000, 2) -> 394.08 | E33: тыс. руб. | G33: Нормативные затраты труда рабочих | K33: =Source!F154 -> 123.9438 | L33: чел.-ч.
B34: монтажных работ | C34: =ROUND((Source!F150)/1000, 2) -> 31.34 | E34: тыс. руб. | G34: Нормативные затраты труда машинистов | K34: =Source!F155 -> 26.642112 | L34: чел.-ч.
B35: оборудования | C35: =ROUND((Source!F141)/1000, 2) -> 0 | E35: тыс. руб.
B36: прочих затрат | C36: =ROUND((Source!F151)/1000, 2) -> 0 | E36: тыс. руб.
A37: № п/п | B37: Обоснование | C37: Наименование работ и затрат | D37: Единица измерения | E37: Количество | H37: Сметная стоимость, руб.
E41: на единицу измерения | F41: коэффициенты | G41: всего с учетом коэффициентов | H41: на единицу измерения в базисном уровне цен | I41: индекс | J41: на единицу измерения в текущем уровне цен | K41: коэффициенты | L41: всего в текущем уровне цен
A42: 1 | B42: 2 | C42: 3 | D42: 4 | E42: 5 | F42: 6 | G42: 7 | H42: 8 | I42: 9 | J42: 10 | K42: 11 | L42: 12
A44: Раздел: Земляные работы
A45: 1 | B45: ГЭСН 01-01-009-14 | C45: =Source!G28 -> Разработка грунта в траншеях экскаватором «обратная лопата» с ковшом вместимостью 0,5 (0,5-0,63) м3, в отвал группа грунтов: 2 | D45: =Source!H28 -> 1000 м3 | E45: =Source!K28 -> 0.262 | G45: =Source!I28 -> 0.262
C46: ="Объем: "&Source!I28&"=262/"&"1000" -> Объем: 0,262=262/1000
B47: 2 | C47: ЭМ | L47: =SUM(L48:L50)-SUMIF(CE48:CE50, 1, L48:L50) -> 9577.08
C48: ОТм(ЗТм) | D48: чел.-ч. | G48: =Source!V28 -> 6.681 | L48: =SUMIF(CE49:CE50, 1, L49:L50) -> 3591.97 | CE48: 1
B49: 91.01.05-085 | C49: Экскаваторы одноковшовые дизельные на гусеничном ходу, объем ковша 0,5 м3 | D49: маш.-ч | E49: 25.5 | G49: =SmtRes!CX2 -> 6.681 | H49: =SmtRes!CZ2 -> 1054.03 | I49: =SmtRes!AJ2 -> 1.36 | J49: =ROUND(H49*I49, 2) -> 1433.48 | L49: =SmtRes!DG2 -> 9577.08
B50: 4-100-060 | C50: ОТм(ЗТм) Средний разряд машинистов 6 | D50: чел.-ч. | E50: =SmtRes!DO2*SmtRes!AT2 -> 25.5 | G50: =ROUND(E50*G45, 7) -> 6.681 | J50: =ROUND(SmtRes!AG2/SmtRes!DO2, 2) -> 537.64 | L50: =SmtRes!DH2 -> 3591.97 | CE50: 1
C51: Итого прямые затраты | L51: =L47+L48 -> 13169.05
C52: ФОТ | L52: =SUM(AR45:AR55)+SUM(AS45:AS55)+SUM(AT45:AT55)+SUM(AU45:AU55)+SUM(AV45:AV55) -> 3591.97
B53: Пр/812-001.1-1 | C53: НР Земляные работы, выполняемые: механизированным способом | D53: % | E53: =Source!BZ28 -> 92 | G53: =Source!AT28 -> 92 | L53: =SUM(AZ45:AZ55) -> 3304.61
B54: Пр/774-001.1 | C54: СП Земляные работы, выполняемые: механизированным способом | D54: % | E54: =Source!CA28 -> 46 | G54: =Source!AU28 -> 46 | L54: =SUM(BA45:BA55) -> 1652.31
C55: Всего по позиции | I55: =IF(E45<>0,K55/E45, 0) -> 69183.092 | K55: =L47+L53+L54+L48 -> 18125.97 | AD55: =ROUND((Source!AT28/100)*((ROUND(SUMIF(SmtRes!AQ1:'SmtRes'!AQ2,"=1",SmtRes!AD1:'SmtRes'!AD2)*Source!I28, 2)+ROUND(SUMIF(SmtRes!AQ1:'SmtRes'!AQ2,"=1",SmtRes!AC1:'SmtRes'!AC2)*Source!I28, 2))), 2) -> 129.59 | AE55: =ROUND((Source!AU28/100)*((ROUND(SUMIF(SmtRes!AQ1:'SmtRes'!AQ2,"=1",SmtRes!AD1:'SmtRes'!AD2)*Source!I28, 2)+ROUND(SUMIF(SmtRes!AQ1:'SmtRes'!AQ2,"=1",SmtRes!AC1:'SmtRes'!AC2)*Source!I28, 2))), 2) -> 64.8 | AN55: =L47+L53+L54+L48 -> 18125.97 | AO55: =L47 -> 9577.08 | AQ55: = | AR55: =0 -> 0 | AT55: =L48 -> 3591.97 | AV55: = | AW55: =0 -> 0 | AZ55: =Source!X28 -> 3304.61 | BA55: =Source!Y28 -> 1652.31 | CD55: 1
...

Sheet Source
A1: 0 | B1: Smeta.RU (495) 974-1589 | D1: _PS_ | F1: 0 | G1: 0 | H1: 0 | I1: Smeta.RU | K1: 1 | L1: 28180 | M1: 10 | N1: 12 | O1: 1 | P1: 0 | Q1: 5
A12: 1 | B12: 227 | C12: 0 | D12: =ROW(A162) -> 162 | E12: 0 | F12: Новый объект_(Копия)_(Копия)_(Копия)_(Копия)_(Копия)_(Копия) | G12: Газопровод низкого давления к жилому дому,расположенному по адресу: Пензенская область,Лопатинский район,Старовершаутский сельсовет | I12: 0 | K12: 0 | L12: 0 | M12: 523 | O12: 0 | P12: 0 | Q12: 7 | R12: 0 | T12: 4 | V12: 0 | BB12: 0 | BH12: Сметные нормы списания | BI12: Коды ценников | BJ12: 1 | BK12: 1 | BL12: 0 | BM12: 0 | BN12: 1 | BO12: 0 | BP12: 6 | BQ12: 2 | BR12: 1 | BS12: 1 | BT12: 0 | BU12: 0 | BV12: 0 | BW12: 0 | BX12: 0 | BY12: ФСНБ-2022_И19 | BZ12: Версия 1.19.0 для ФСНБ-2022 И19 | CA12: ФСНБ-2022 - Изменения И19 | CB12: ФСНБ-2022 - Изменения И19 | CC12: ФСНБ-2022 - Изменения И19 | CD12: ФСНБ-2022 - Изменения И19 | CE12: Поправки для ФСНБ-2022 от 21.08.2026 г И19 (55/пр) Строительство | CF12: 0 | CG12: 0 | CH12: 487096328 | CK12: 19 | CQ12: Приказ Минстроя России от 30.12.2021 г. № 1046/пр; Приказ Минстроя России от 04.08.2020 г. № 421/пр; Приказ Минстроя России от 21.12.2020 г. № 812/пр; Приказ Минстроя России от 11.12.2020 г. № 774/пр | CR12: ГСН | CS12: 46248 | CT12: 570 | CU12: 19 | CV12: Приказ Минстроя России от 18.05.2022 г. № 378/пр; Приказ Минстроя России от 26.08.2022 г. № 703/пр; Приказ Минстроя России от 26.10.2022 г. № 905/пр; Приказ Минстроя России от 27.12.2022 г. № 1133/пр; Приказ Минстроя России от 10.02.2023 г. № 84/пр; Приказ Минстроя России от 11.05.2023 г. № 335/пр; Приказ Минстроя России от 02.08.2023 г. № 551/пр; Приказ Минстроя России от 14.11.2023 г. № 817/пр; Приказ Минстроя России от 16.02.2024 г. № 102/пр; Приказ Минстроя России от 13.05.2024 г. № 323/пр; Приказ Минстроя России от 09.08.2024 г. № 524/пр; Приказ Минстроя России от 07.11.2024 г. № 747/пр; Приказ Минстроя России от 07.02.2025 г. № 69/пр; Приказ Минстроя России от 19.05.2025 г. № 299/пр; Приказ Минстроя России от 14.08.2025 г. № 490/пр; Приказ Минстроя России от 12.11.2025 г. № 696/пр; Приказ Минстроя России от 17.02.2026 г. № 91/пр; Приказ Минстроя России от 15.05.2026 г. № 301/пр; Приказ Минстроя России от 12.08.2026 г. № 527/пр; Приказ Минстроя России от 07.07.2022 г. № 557/пр; Приказ Минстроя России от 30.01.2024 г. № 55/пр; Приказ Минстроя России от 23.01.2025 г. № 30/пр; Приказ Минстроя России от 02.09.2021 г. № 636/пр; Приказ Минстроя России от 26.07.2022 г. № 611/пр; Приказ Минстроя России от 22.04.2022 г. № 317/пр | CY12: 0 | EC12: 0
A15: 15 | B15: 1
A18: 52 | B18: =B162 -> 227 | C18: =C162 -> 1 | D18: =D162 -> 12 | E18: =E162 -> 0 | F18: =F162 -> Новый объект_(Копия)_(Копия)_(Копия)_(Копия)_(Копия)_(Копия) | G18: =G162 -> Газопровод низкого давления к жилому дому,расположенному по адресу: Пензенская область,Лопатинский район,Старовершаутский сельсовет | O18: =O162 -> 320052.19 | P18: =P162 -> 228739.22 | Q18: =Q162 -> 32115.91 | R18: =R162 -> 12598.52 | S18: =S162 -> 46598.54 | T18: =T162 -> 0 | U18: =U162 -> 123.9438 | V18: =V162 -> 26.642112 | ... GX18: =GX162 -> 0
A20: 3 | B20: 1 | D20: =ROW(A132) -> 132 | F20: Новая локальная смета | G20: Газопровод низкого давленияя | I20: 0 | K20: -1 | L20: Новая локальная смета | S20: 0 | V20: 0 | BX20: 0 | CF20: 0 | CG20: 0
A22: 52 | B22: =B132 -> 1 | C22: =C132 -> 3 | D22: =D132 -> 20 | E22: =E132 -> 0 | F22: =F132 -> Новая локальная смета | G22: =G132 -> Газопровод низкого давленияя | O22: =O132 -> 320052.19 | P22: =P132 -> 228739.22 | Q22: =Q132 -> 32115.91 | R22: =R132 -> 12598.52 | S22: =S132 -> 46598.54 | T22: =T132 -> 0 | U22: =U132 -> 123.9438 | V22: =V132 -> 26.642112 | ... GX22: =GX132 -> 0
A24: 4 | B24: 1 | D24: =ROW(A35) -> 35 | F24: Новый раздел | G24: Земляные работы | I24: 0 | K24: -1 | S24: 0 | V24: 0 | BX24: 0 | CJ24: 0
A26: 52 | B26: =B35 -> 1 | C26: =C35 -> 4 | D26: =D35 -> 24 | E26: =E35 -> 0 | F26: =F35 -> Новый раздел | G26: =G35 -> Земляные работы | O26: =O35 -> 101815.54 | P26: =P35 -> 66153.95 | Q26: =Q35 -> 13414.23 | R26: =R35 -> 4894.17 | S26: =S35 -> 17353.19 | T26: =T35 -> 0 | U26: =U35 -> 52.07 | V26: =V35 -> 9.51198 | ... GX26: =GX35 -> 0
A28: 17 | B28: 1 | C28: =ROW(SmtRes!A2) -> 2 | D28: =ROW(EtalonRes!A2) -> 2 | E28: 1 | F28: 01-01-009-14 | G28: Разработка грунта в траншеях экскаватором «обратная лопата» с ковшом вместимостью 0,5 (0,5-0,63) м3, в отвал группа грунтов: 2 | H28: 1000 м3 | I28: =ROUND(262/1000,7) -> 0.262 | J28: 0 | K28: =ROUND(262/1000,7) -> 0.262 | O28: =ROUND(CP28,2) -> 13169.05 | P28: =SUMIF(SmtRes!AQ1:'SmtRes'!AQ2,"=1",SmtRes!DF1:'SmtRes'!DF2) -> 0 | Q28: =SUMIF(SmtRes!AQ1:'SmtRes'!AQ2,"=1",SmtRes!DG1:'SmtRes'!DG2) -> 9577.08 | R28: =SUMIF(SmtRes!AQ1:'SmtRes'!AQ2,"=1",SmtRes!DH1:'SmtRes'!DH2) -> 3591.97 | S28: =SUMIF(SmtRes!AQ1:'SmtRes'!AQ2,"=1",SmtRes!DI1:'SmtRes'!DI2) -> 0 | T28: =ROUND(CU28*I28,2) -> 0 | U28: =SUMIF(SmtRes!AQ1:'SmtRes'!AQ2,"=1",SmtRes!CV1:'SmtRes'!CV2) -> 0 | V28: =SUMIF(SmtRes!AQ1:'SmtRes'!AQ2,"=1",SmtRes!CW1:'SmtRes'!CW2) -> 6.681 | W28: =ROUND(CX28*I28,2) -> 0 | X28: =ROUND(CY28,2) -> 3304.61 | Y28: =ROUND(CZ28,2) -> 1652.31 | AA28: 73953415 | AB28: =ROUND((AC28+AD28+AF28),6) -> 26877.765 | AC28: =ROUND((0),6) -> 0 | AD28: =ROUND((((SUM(SmtRes!BR1:'SmtRes'!BR2))-(SUM(SmtRes!BS1:'SmtRes'!BS2)))+AE28),6) -> 26877.765 | AE28: =ROUND((SUM(SmtRes!BS1:'SmtRes'!BS2)),6) -> 13709.82 | AF28: =ROUND((0),6) -> 0 | AG28: =ROUND((AP28),6) -> 0 | AH28: =(0) -> 0 | AI28: =(SUM(SmtRes!BV1:'SmtRes'!BV2)) -> 25.5 | AJ28: =(AS28) -> 0 | AK28: 40587.585 | AL28: 0 | AM28: 26877.765 | AN28: 13709.82 | AO28: 0 | AP28: 0 | AQ28: 0 | AR28: 25.5 | AS28: 0 | AT28: 92 | AU28: 46 | AV28: 1 | AW28: 1 | AZ28: 1 | BA28: 1 | BB28: 1 | BC28: 1 | BH28: 0 | BI28: 1 | BJ28: ГЭСН-2022, 01-01-009-14, приказ Минстроя России от 18.05.2022 г. № 378/пр | BM28: 1001 | BN28: 0 | BP28: 0 | BQ28: 2 | BR28: 0 | BS28: 1 | BT28: 1 | BU28: 1 | BV28: 1 | BW28: 1 | BX28: 1 | BZ28: 92 | CA28: 46 | CE28: 0 | CF28: 0 | CG28: 0 | CM28: 0 | CO28: 0 | CP28: =(P28+Q28+S28+R28) -> 13169.05 | CQ28: =SUMIF(SmtRes!AQ1:'SmtRes'!AQ2,"=1",SmtRes!AA1:'SmtRes'!AA2) -> 0 | CR28: =SUMIF(SmtRes!AQ1:'SmtRes'!AQ2,"=1",SmtRes!AB1:'SmtRes'!AB2) -> 1433.48 | CS28: =SUMIF(SmtRes!AQ1:'SmtRes'!AQ2,"=1",SmtRes!AC1:'SmtRes'!AC2) -> 537.64 | CT28: =SUMIF(SmtRes!AQ1:'SmtRes'!AQ2,"=1",SmtRes!AD1:'SmtRes'!AD2) -> 0 | CU28: =AG28 -> 0 | CV28: =SUMIF(SmtRes!AQ1:'SmtRes'!AQ2,"=1",SmtRes!BU1:'SmtRes'!BU2) -> 0 | CW28: =SUMIF(SmtRes!AQ1:'SmtRes'!AQ2,"=1",SmtRes!BV1:'SmtRes'!BV2) -> 25.5 | CX28: =AJ28 -> 0 | CY28: =(((S28+R28)*AT28)/100) -> 3304.6124 | CZ28: =(((S28+R28)*AU28)/100) -> 1652.3062 | DN28: 0 | DO28: 0 | DP28: 1 | DQ28: 1 | DU28: 1007 | DV28: 1000 м3 | DW28: 1000 м3 | DX28: 1000 | EE28: 72340571 | EF28: 2 | EG28: Общестроительные работы | EH28: 1 | EI28: Земляные работы | EJ28: 1 | EK28: 1001 | EL28: Земляные работы, выполняемые: механизированным способом | EM28: ФЕР-01 | EQ28: 0 | ER28: 0 | ES28: 0 | ET28: 0 | EU28: 0 | EV28: 0 | EW28: 0 | EX28: 25.5 | EY28: 0 | FQ28: 0 | FR28: 0 | FS28: 0 | FX28: 92 | FY28: 46 | GD28: 1 | GF28: 1103103698 | GG28: 2 | GH28: 1 | GI28: -2 | GJ28: 0 | GK28: 0 | GL28: =ROUND(IF(AND(BH28=3,BI28=3,FS28<>0),P28,0),2) -> 0 | GM28: =ROUND(O28+X28+Y28,2)+GX28 -> 18125.97 | GN28: =IF(OR(BI28=0,BI28=1),GM28-GX28,0) -> 18125.97 | GO28: =IF(BI28=2,GM28-GX28,0) -> 0 | GP28: =IF(BI28=4,GM28-GX28,0) -> 0 | GR28: 0 | GS28: 3 | GT28: 0 | GV28: =ROUND((GT28),6) -> 0 | GW28: 1 | GX28: =ROUND(HC28*I28,2) -> 0 | HA28: 0 | HB28: 0 | HC28: =GV28*GW28 -> 0 | HN28: Пр/812-001.1-1 | HO28: Пр/774-001.1 | HP28: Земляные работы, выполняемые: механизированным способом | HQ28: Земляные работы, выполняемые: механизированным способом | HS28: 0 | IK28: 0
A29: 17 | B29: 1 | C29: =ROW(SmtRes!A3) -> 3 | D29: =ROW(EtalonRes!A3) -> 3 | E29: 2 | F29: 01-02-057-02 | G29: Добор грунта вручную в траншеях глубиной до 2 м без креплений с откосами, группа грунтов: 2 | H29: 100 м3 | I29: =ROUND(8/100,7) -> 0.08 | J29: 0 | K29: =ROUND(8/100,7) -> 0.08 | O29: =ROUND(CP29,2) -> 4011.02 | P29: =SUMIF(SmtRes!AQ3:'SmtRes'!AQ3,"=1",SmtRes!DF3:'SmtRes'!DF3) -> 0 | Q29: =SUMIF(SmtRes!AQ3:'SmtRes'!AQ3,"=1",SmtRes!DG3:'SmtRes'!DG3) -> 0 | R29: =SUMIF(SmtRes!AQ3:'SmtRes'!AQ3,"=1",SmtRes!DH3:'SmtRes'!DH3) -> 0 | S29: =SUMIF(SmtRes!AQ3:'SmtRes'!AQ3,"=1",SmtRes!DI3:'SmtRes'!DI3) -> 4011.02 | T29: =ROUND(CU29*I29,2) -> 0 | U29: =SUMIF(SmtRes!AQ3:'SmtRes'!AQ3,"=1",SmtRes!CV3:'SmtRes'!CV3) -> 12.32 | V29: =SUMIF(SmtRes!AQ3:'SmtRes'!AQ3,"=1",SmtRes!CW3:'SmtRes'!CW3) -> 0 | W29: =ROUND(CX29*I29,2) -> 0 | X29: =ROUND(CY29,2) -> 3569.81 | Y29: =ROUND(CZ29,2) -> 1604.41 | AA29: 73953415 | AB29: =ROUND((AC29+AD29+AF29),6) -> 50137.78 | AC29: =ROUND((0),6) -> 0 | AD29: =ROUND((((0)-(0))+AE29),6) -> 0 | AE29: =ROUND((0),6) -> 0 | AF29: =ROUND((SUM(SmtRes!BT3:'SmtRes'!BT3)),6) -> 50137.78 | AG29: =ROUND((AP29),6) -> 0 | AH29: =(SUM(SmtRes!BU3:'SmtRes'!BU3)) -> 154 | AI29: =(0) -> 0 | AJ29: =(AS29) -> 0 | AK29: 50137.78 | AL29: 0 | AM29: 0 | AN29: 0 | AO29: 50137.78 | AP29: 0 | AQ29: 154 | AR29: 0 | AS29: 0 | AT29: 89 | AU29: 40 | AV29: 1 | AW29: 1 | AZ29: 1 | BA29: 1 | BB29: 1 | BC29: 1 | BH29: 0 | BI29: 1 | BJ29: ГЭСН-2022, 01-02-057-02, приказ Минстроя России от 18.05.2022 г. № 378/пр | BM29: 1003 | BN29: 0 | BP29: 0 | BQ29: 2 | BR29: 0 | BS29: 1 | BT29: 1 | BU29: 1 | BV29: 1 | BW29: 1 | BX29: 1 | BZ29: 89 | CA29: 40 | CE29: 0 | CF29: 0 | CG29: 0 | CM29: 0 | CO29: 0 | CP29: =(P29+Q29+S29+R29) -> 4011.02 | CQ29: =SUMIF(SmtRes!AQ3:'SmtRes'!AQ3,"=1",SmtRes!AA3:'SmtRes'!AA3) -> 0 | CR29: =SUMIF(SmtRes!AQ3:'SmtRes'!AQ3,"=1",SmtRes!AB3:'SmtRes'!AB3) -> 0 | CS29: =SUMIF(SmtRes!AQ3:'SmtRes'!AQ3,"=1",SmtRes!AC3:'SmtRes'!AC3) -> 0 | CT29: =SUMIF(SmtRes!AQ3:'SmtRes'!AQ3,"=1",SmtRes!AD3:'SmtRes'!AD3) -> 325.57 | CU29: =AG29 -> 0 | CV29: =SUMIF(SmtRes!AQ3:'SmtRes'!AQ3,"=1",SmtRes!BU3:'SmtRes'!BU3) -> 154 | CW29: =SUMIF(SmtRes!AQ3:'SmtRes'!AQ3,"=1",SmtRes!BV3:'SmtRes'!BV3) -> 0 | CX29: =AJ29 -> 0 | CY29: =(((S29+R29)*AT29)/100) -> 3569.8078 | CZ29: =(((S29+R29)*AU29)/100) -> 1604.408 | DN29: 0 | DO29: 0 | DP29: 1 | DQ29: 1 | DU29: 1007 | DV29: 100 м3 | DW29: 100 м3 | DX29: 100 | EE29: 72340573 | EF29: 2 | EG29: Общестроительные работы | EH29: 1 | EI29: Земляные работы | EJ29: 1 | EK29: 1003 | EL29: Земляные работы, выполняемые: ручным способом | EM29: ФЕР-01 | EQ29: 0 | ER29: 0 | ES29: 0 | ET29: 0 | EU29: 0 | EV29: 0 | EW29: 154 | EX29: 0 | EY29: 0 | FQ29: 0 | FR29: 0 | FS29: 0 | FX29: 89 | FY29: 40 | GD29: 1 | GF29: 1750746771 | GG29: 2 | GH29: 1 | GI29: -2 | GJ29: 0 | GK29: 0 | GL29: =ROUND(IF(AND(BH29=3,BI29=3,FS29<>0),P29,0),2) -> 0 | GM29: =ROUND(O29+X29+Y29,2)+GX29 -> 9185.24 | GN29: =IF(OR(BI29=0,BI29=1),GM29-GX29,0) -> 9185.24 | GO29: =IF(BI29=2,GM29-GX29,0) -> 0 | GP29: =IF(BI29=4,GM29-GX29,0) -> 0 | GR29: 0 | GS29: 3 | GT29: 0 | GV29: =ROUND((GT29),6) -> 0 | GW29: 1 | GX29: =ROUND(HC29*I29,2) -> 0 | HA29: 0 | HB29: 0 | HC29: =GV29*GW29 -> 0 | HN29: Пр/812-001.2-1 | HO29: Пр/774-001.2 | HP29: Земляные работы, выполняемые: ручным способом | HQ29: Земляные работы, выполняемые: ручным способом | HS29: 0 | IK29: 0
A30: 17 | B30: 1 | C30: =ROW(SmtRes!A7) -> 7 | D30: =ROW(EtalonRes!A7) -> 7 | E30: 3 | F30: 23-01-001-01 | G30: Устройство основания под трубопроводы: песчаного | H30: 10 м3 | I30: =ROUND(32.3/10,7) -> 3.23 | J30: 0 | K30: =ROUND(32.3/10,7) -> 3.23 | O30: =ROUND(CP30,2) -> 13432.21 | P30: =SUMIF(SmtRes!AQ4:'SmtRes'!AQ7,"=1",SmtRes!DF4:'SmtRes'!DF7) -> 0 | Q30: =SUMIF(SmtRes!AQ4:'SmtRes'!AQ7,"=1",SmtRes!DG4:'SmtRes'!DG7) -> 1738.33 | R30: =SUMIF(SmtRes!AQ4:'SmtRes'!AQ7,"=1",SmtRes!DH4:'SmtRes'!DH7) -> 475.44 | S30: =SUMIF(SmtRes!AQ4:'SmtRes'!AQ7,"=1",SmtRes!DI4:'SmtRes'!DI7) -> 11218.44 | T30: =ROUND(CU30*I30,2) -> 0 | U30: =SUMIF(SmtRes!AQ4:'SmtRes'!AQ7,"=1",SmtRes!CV4:'SmtRes'!CV7) -> 32.946 | V30: =SUMIF(SmtRes!AQ4:'SmtRes'!AQ7,"=1",SmtRes!CW4:'SmtRes'!CW7) -> 1.0336 | W30: =ROUND(CX30*I30,2) -> 0 | X30: =ROUND(CY30,2) -> 13681.84 | Y30: =ROUND(CZ30,2) -> 8653.47 | AA30: 73953415 | AB30: =ROUND((AC30+AD30+AF30),6) -> 4011.3844 | AC30: =ROUND((0),6) -> 0 | AD30: =ROUND((((SUM(SmtRes!BR4:'SmtRes'!BR7))-(SUM(SmtRes!BS4:'SmtRes'!BS7)))+AE30),6) -> 538.1824 | AE30: =ROUND((SUM(SmtRes!BS4:'SmtRes'!BS7)),6) -> 147.1936 | AF30: =ROUND((SUM(SmtRes!BT4:'SmtRes'!BT7)),6) -> 3473.202 | AG30: =ROUND((AP30),6) -> 0 | AH30: =(SUM(SmtRes!BU4:'SmtRes'!BU7)) -> 10.2 | AI30: =(SUM(SmtRes!BV4:'SmtRes'!BV7)) -> 0.32 | AJ30: =(AS30) -> 0 | AK30: 4158.578 | AL30: 0 | AM30: 538.1824 | AN30: 147.1936 | AO30: 3473.202 | AP30: 0 | AQ30: 10.2 | AR30: 0.32 | AS30: 0 | AT30: 117 | AU30: 74 | AV30: 1 | AW30: 1 | AZ30: 1 | BA30: 1 | BB30: 1 | BC30: 1 | BH30: 0 | BI30: 1 | BJ30: ГЭСН-2022 доп.18, 23-01-001-01, приказ Минстроя России от 15.05.2026 г. № 301/пр | BM30: 23001 | BN30: 0 | BP30: 0 | BQ30: 2 | BR30: 0 | BS30: 1 | BT30: 1 | BU30: 1 | BV30: 1 | BW30: 1 | BX30: 1 | BZ30: 117 | CA30: 74 | CE30: 0 | CF30: 0 | CG30: 0 | CM30: 0 | CO30: 0 | CP30: =(P30+Q30+S30+R30) -> 13432.21 | CQ30: =SUMIF(SmtRes!AQ4:'SmtRes'!AQ7,"=1",SmtRes!AA4:'SmtRes'!AA7) -> 0 | CR30: =SUMIF(SmtRes!AQ4:'SmtRes'!AQ7,"=1",SmtRes!AB4:'SmtRes'!AB7) -> 1681.82 | CS30: =SUMIF(SmtRes!AQ4:'SmtRes'!AQ7,"=1",SmtRes!AC4:'SmtRes'!AC7) -> 459.98 | CT30: =SUMIF(SmtRes!AQ4:'SmtRes'!AQ7,"=1",SmtRes!AD4:'SmtRes'!AD7) -> 340.51 | CU30: =AG30 -> 0 | CV30: =SUMIF(SmtRes!AQ4:'SmtRes'!AQ7,"=1",SmtRes!BU4:'SmtRes'!BU7) -> 10.2 | CW30: =SUMIF(SmtRes!AQ4:'SmtRes'!AQ7,"=1",SmtRes!BV4:'SmtRes'!BV7) -> 0.32 | CX30: =AJ30 -> 0 | CY30: =(((S30+R30)*AT30)/100) -> 13681.84 | CZ30: =(((S30+R30)*AU30)/100) -> 8653.4712 | DN30: 0 | DO30: 0 | DP30: 1 | DQ30: 1 | DU30: 1007 | DV30: 10 м3 | DW30: 10 м3 | DX30: 10 | EE30: 72340631 | EF30: 2 | EG30: Общестроительные работы | EH30: 18 | EI30: Наружные сети водопровода, канализации, теплоснабжения, газопроводы | EJ30: 1 | EK30: 23001 | EL30: Наружные сети водопровода, канализации, теплоснабжения, газопроводы | EM30: ФЕР-23 | EQ30: 0 | ER30: 0 | ES30: 0 | ET30: 0 | EU30: 0 | EV30: 0 | EW30: 10.2 | EX30: 0.32 | EY30: 0 | FQ30: 0 | FR30: 0 | FS30: 0 | FX30: 117 | FY30: 74 | GD30: 1 | GF30: 1295446289 | GG30: 2 | GH30: 1 | GI30: -2 | GJ30: 0 | GK30: 0 | GL30: =ROUND(IF(AND(BH30=3,BI30=3,FS30<>0),P30,0),2) -> 0 | GM30: =ROUND(O30+X30+Y30,2)+GX30 -> 35767.52 | GN30: =IF(OR(BI30=0,BI30=1),GM30-GX30,0) -> 35767.52 | GO30: =IF(BI30=2,GM30-GX30,0) -> 0 | GP30: =IF(BI30=4,GM30-GX30,0) -> 0 | GR30: 0 | GS30: 3 | GT30: 0 | GV30: =ROUND((GT30),6) -> 0 | GW30: 1 | GX30: =ROUND(HC30*I30,2) -> 0 | HA30: 0 | HB30: 0 | HC30: =GV30*GW30 -> 0 | HN30: Пр/812-018.0-1 | HO30: Пр/774-018.0 | HP30: Наружные сети водопровода, канализации, теплоснабжения, газопроводы | HQ30: Наружные сети водопровода, канализации, теплоснабжения, газопроводы | HS30: 0 | IK30: 0
A31: 18 | B31: 1 | C31: 7 | E31: 3,1 | F31: 02.3.01.02-1104 | G31: Песок природный для строительных работ I класс, средний | H31: м3 | I31: =I30*J31 -> 32.3 | J31: 10 | K31: 10 | O31: =ROUND(CP31,2) -> 66153.95 | P31: =ROUND(CQ31*I31,2) -> 66153.95 | Q31: =ROUND(CR31*I31,2) -> 0 | R31: =ROUND(CS31*I31,2) -> 0 | S31: =ROUND(CT31*I31,2) -> 0 | T31: =ROUND(CU31*I31,2) -> 0 | U31: =ROUND(CV31*I31,7) -> 0 | V31: =ROUND(CW31*I31,7) -> 0 | W31: =ROUND(CX31*I31,2) -> 0 | X31: =ROUND(CY31,2) -> 0 | Y31: =ROUND(CZ31,2) -> 0 | AA31: 73953415 | AB31: =ROUND((AC31+AD31+AF31),6) -> 573.7 | AC31: =ROUND((ES31),6) -> 573.7 | AD31: =ROUND((((ET31)-(EU31))+AE31),6) -> 0 | AE31: =ROUND((EU31),6) -> 0 | AF31: =ROUND((EV31),6) -> 0 | AG31: =ROUND((AP31),6) -> 0 | AH31: =(EW31) -> 0 | AI31: =(EX31) -> 0 | AJ31: =(AS31) -> 0 | AK31: 573.7 | AL31: 573.7 | AM31: 0 | AN31: 0 | AO31: 0 | AP31: 0 | AQ31: 0 | AR31: 0 | AS31: 0 | AT31: 117 | AU31: 74 | AV31: 1 | AW31: 1 | AZ31: 1 | BA31: 1 | BB31: 1 | BC31: 3.57 | BH31: 3 | BI31: 1 | BJ31: ФСБЦ-2022, 02.3.01.02-1104, приказ Минстроя России от 18.05.2022 г. № 378/пр | BM31: 23001 | BN31: 0 | BO31: 02.3.01.02-1104 | BP31: 1 | BQ31: 2 | BR31: 0 | BS31: 1 | BT31: 1 | BU31: 1 | BV31: 1 | BW31: 1 | BX31: 1 | BZ31: 117 | CA31: 74 | CE31: 0 | CF31: 0 | CG31: 0 | CM31: 0 | CO31: 0 | CP31: =(P31+Q31+S31+R31) -> 66153.95 | CQ31: =ROUND(AL31*BC31,2) -> 2048.11 | CR31: =ROUND(AM31*BB31,2) -> 0 | CS31: =ROUND(AN31*BS31,2) -> 0 | CT31: =ROUND(AO31*BA31,2) -> 0 | CU31: =AG31 -> 0 | CV31: =AH31 -> 0 | CW31: =AI31 -> 0 | CX31: =AJ31 -> 0 | CY31: =(((S31+R31)*AT31)/100) -> 0 | CZ31: =(((S31+R31)*AU31)/100) -> 0 | DN31: 0 | DO31: 0 | DP31: 1 | DQ31: 1 | DU31: 1007 | DV31: м3 | DW31: м3 | DX31: 1 | EE31: 72340631 | EF31: 2 | EG31: Общестроительные работы | EH31: 18 | EI31: Наружные сети водопровода, канализации, теплоснабжения, газопроводы | EJ31: 1 | EK31: 23001 | EL31: Наружные сети водопровода, канализации, теплоснабжения, газопроводы | EM31: ФЕР-23 | EQ31: 0 | ER31: 573.7 | ES31: 573.7 | ET31: 0 | EU31: 0 | EV31: 0 | EW31: 0 | EX31: 0 | FQ31: 0 | FR31: 0 | FS31: 0 | FX31: 117 | FY31: 74 | GD31: 1 | GF31: -1170073795 | GG31: 2 | GH31: 1 | GI31: 2 | GJ31: 0 | GK31: 0 | GL31: =ROUND(IF(AND(BH31=3,BI31=3,FS31<>0),P31,0),2) -> 0 | GM31: =ROUND(O31+X31+Y31,2)+GX31 -> 66153.95 | GN31: =IF(OR(BI31=0,BI31=1),GM31-GX31,0) -> 66153.95 | GO31: =IF(BI31=2,GM31-GX31,0) -> 0 | GP31: =IF(BI31=4,GM31-GX31,0) -> 0 | GR31: 0 | GS31: 3 | GT31: 0 | GV31: =ROUND((GT31),6) -> 0 | GW31: 1 | GX31: =ROUND(HC31*I31,2) -> 0 | HA31: 0 | HB31: 0 | HC31: =GV31*GW31 -> 0 | HN31: Пр/812-018.0-1 | HO31: Пр/774-018.0 | HP31: Наружные сети водопровода, канализации, теплоснабжения, газопроводы | HQ31: Наружные сети водопровода, канализации, теплоснабжения, газопроводы | HS31: 0 | IK31: 0
A32: 17 | B32: 1 | C32: =ROW(SmtRes!A9) -> 9 | D32: =ROW(EtalonRes!A9) -> 9 | E32: 4 | F32: 01-01-033-02 | G32: Засыпка траншей и котлованов с перемещением грунта до 5 м бульдозерами мощностью: 59 кВт (80 л.с.), группа грунтов 2 | H32: 1000 м3 | I32: =ROUND(223/1000,7) -> 0.223 | J32: 0 | K32: =ROUND(223/1000,7) -> 0.223 | O32: =ROUND(CP32,2) -> 2925.58 | P32: =SUMIF(SmtRes!AQ8:'SmtRes'!AQ9,"=1",SmtRes!DF8:'SmtRes'!DF9) -> 0 | Q32: =SUMIF(SmtRes!AQ8:'SmtRes'!AQ9,"=1",SmtRes!DG8:'SmtRes'!DG9) -> 2098.82 | R32: =SUMIF(SmtRes!AQ8:'SmtRes'!AQ9,"=1",SmtRes!DH8:'SmtRes'!DH9) -> 826.76 | S32: =SUMIF(SmtRes!AQ8:'SmtRes'!AQ9,"=1",SmtRes!DI8:'SmtRes'!DI9) -> 0 | T32: =ROUND(CU32*I32,2) -> 0 | U32: =SUMIF(SmtRes!AQ8:'SmtRes'!AQ9,"=1",SmtRes!CV8:'SmtRes'!CV9) -> 0 | V32: =SUMIF(SmtRes!AQ8:'SmtRes'!AQ9,"=1",SmtRes!CW8:'SmtRes'!CW9) -> 1.79738 | W32: =ROUND(CX32*I32,2) -> 0 | X32: =ROUND(CY32,2) -> 760.62 | Y32: =ROUND(CZ32,2) -> 380.31 | AA32: 73953415 | AB32: =ROUND((AC32+AD32+AF32),6) -> 6674.9696 | AC32: =ROUND((0),6) -> 0 | AD32: =ROUND((((SUM(SmtRes!BR8:'SmtRes'!BR9))-(SUM(SmtRes!BS8:'SmtRes'!BS9)))+AE32),6) -> 6674.9696 | AE32: =ROUND((SUM(SmtRes!BS8:'SmtRes'!BS9)),6) -> 3707.4388 | AF32: =ROUND((0),6) -> 0 | AG32: =ROUND((AP32),6) -> 0 | AH32: =(0) -> 0 | AI32: =(SUM(SmtRes!BV8:'SmtRes'!BV9)) -> 8.06 | AJ32: =(AS32) -> 0 | AK32: 10382.408 | AL32: 0 | AM32: 6674.9696 | AN32: 3707.4388 | AO32: 0 | AP32: 0 | AQ32: 0 | AR32: 8.06 | AS32: 0 | AT32: 92 | AU32: 46 | AV32: 1 | AW32: 1 | AZ32: 1 | BA32: 1 | BB32: 1 | BC32: 1 | BH32: 0 | BI32: 1 | BJ32: ГЭСН-2022, 01-01-033-02, приказ Минстроя России от 18.05.2022 г. № 378/пр | BM32: 1001 | BN32: 0 | BP32: 0 | BQ32: 2 | BR32: 0 | BS32: 1 | BT32: 1 | BU32: 1 | BV32: 1 | BW32: 1 | BX32: 1 | BZ32: 92 | CA32: 46 | CE32: 0 | CF32: 0 | CG32: 0 | CM32: 0 | CO32: 0 | CP32: =(P32+Q32+S32+R32) -> 2925.58 | CQ32: =SUMIF(SmtRes!AQ8:'SmtRes'!AQ9,"=1",SmtRes!AA8:'SmtRes'!AA9) -> 0 | CR32: =SUMIF(SmtRes!AQ8:'SmtRes'!AQ9,"=1",SmtRes!AB8:'SmtRes'!AB9) -> 1167.71 | CS32: =SUMIF(SmtRes!AQ8:'SmtRes'!AQ9,"=1",SmtRes!AC8:'SmtRes'!AC9) -> 459.98 | CT32: =SUMIF(SmtRes!AQ8:'SmtRes'!AQ9,"=1",SmtRes!AD8:'SmtRes'!AD9) -> 0 | CU32: =AG32 -> 0 | CV32: =SUMIF(SmtRes!AQ8:'SmtRes'!AQ9,"=1",SmtRes!BU8:'SmtRes'!BU9) -> 0 | CW32: =SUMIF(SmtRes!AQ8:'SmtRes'!AQ9,"=1",SmtRes!BV8:'SmtRes'!BV9) -> 8.06 | CX32: =AJ32 -> 0 | CY32: =(((S32+R32)*AT32)/100) -> 760.6192 | CZ32: =(((S32+R32)*AU32)/100) -> 380.3096 | DN32: 0 | DO32: 0 | DP32: 1 | DQ32: 1 | DU32: 1007 | DV32: 1000 м3 | DW32: 1000 м3 | DX32: 1000 | EE32: 72340571 | EF32: 2 | EG32: Общестроительные работы | EH32: 1 | EI32: Земляные работы | EJ32: 1 | EK32: 1001 | EL32: Земляные работы, выполняемые: механизированным способом | EM32: ФЕР-01 | EQ32: 0 | ER32: 0 | ES32: 0 | ET32: 0 | EU32: 0 | EV32: 0 | EW32: 0 | EX32: 8.06 | EY32: 0 | FQ32: 0 | FR32: 0 | FS32: 0 | FX32: 92 | FY32: 46 | GD32: 1 | GF32: 2021498894 | GG32: 2 | GH32: 1 | GI32: -2 | GJ32: 0 | GK32: 0 | GL32: =ROUND(IF(AND(BH32=3,BI32=3,FS32<>0),P32,0),2) -> 0 | GM32: =ROUND(O32+X32+Y32,2)+GX32 -> 4066.51 | GN32: =IF(OR(BI32=0,BI32=1),GM32-GX32,0) -> 4066.51 | GO32: =IF(BI32=2,GM32-GX32,0) -> 0 | GP32: =IF(BI32=4,GM32-GX32,0) -> 0 | GR32: 0 | GS32: 3 | GT32: 0 | GV32: =ROUND((GT32),6) -> 0 | GW32: 1 | GX32: =ROUND(HC32*I32,2) -> 0 | HA32: 0 | HB32: 0 | HC32: =GV32*GW32 -> 0 | HN32: Пр/812-001.1-1 | HO32: Пр/774-001.1 | HP32: Земляные работы, выполняемые: механизированным способом | HQ32: Земляные работы, выполняемые: механизированным способом | HS32: 0 | IK32: 0
A33: 17 | B33: 1 | C33: =ROW(SmtRes!A10) -> 10 | D33: =ROW(EtalonRes!A10) -> 10 | E33: 5 | F33: 01-02-061-02 | G33: Засыпка вручную траншей, пазух котлованов и ям, группа грунтов: 2 | H33: 100 м3 | I33: =ROUND(7/100,7) -> 0.07 | J33: 0 | K33: =ROUND(7/100,7) -> 0.07 | O33: =ROUND(CP33,2) -> 2123.73 | P33: =SUMIF(SmtRes!AQ10:'SmtRes'!AQ10,"=1",SmtRes!DF10:'SmtRes'!DF10) -> 0 | Q33: =SUMIF(SmtRes!AQ10:'SmtRes'!AQ10,"=1",SmtRes!DG10:'SmtRes'!DG10) -> 0 | R33: =SUMIF(SmtRes!AQ10:'SmtRes'!AQ10,"=1",SmtRes!DH10:'SmtRes'!DH10) -> 0 | S33: =SUMIF(SmtRes!AQ10:'SmtRes'!AQ10,"=1",SmtRes!DI10:'SmtRes'!DI10) -> 2123.73 | T33: =ROUND(CU33*I33,2) -> 0 | U33: =SUMIF(SmtRes!AQ10:'SmtRes'!AQ10,"=1",SmtRes!CV10:'SmtRes'!CV10) -> 6.804 | V33: =SUMIF(SmtRes!AQ10:'SmtRes'!AQ10,"=1",SmtRes!CW10:'SmtRes'!CW10) -> 0 | W33: =ROUND(CX33*I33,2) -> 0 | X33: =ROUND(CY33,2) -> 1890.12 | Y33: =ROUND(CZ33,2) -> 849.49 | AA33: 73953415 | AB33: =ROUND((AC33+AD33+AF33),6) -> 30339.036 | AC33: =ROUND((0),6) -> 0 | AD33: =ROUND((((0)-(0))+AE33),6) -> 0 | AE33: =ROUND((0),6) -> 0 | AF33: =ROUND((SUM(SmtRes!BT10:'SmtRes'!BT10)),6) -> 30339.036 | AG33: =ROUND((AP33),6) -> 0 | AH33: =(SUM(SmtRes!BU10:'SmtRes'!BU10)) -> 97.2 | AI33: =(0) -> 0 | AJ33: =(AS33) -> 0 | AK33: 30339.036 | AL33: 0 | AM33: 0 | AN33: 0 | AO33: 30339.036 | AP33: 0 | AQ33: 97.2 | AR33: 0 | AS33: 0 | AT33: 89 | AU33: 40 | AV33: 1 | AW33: 1 | AZ33: 1 | BA33: 1 | BB33: 1 | BC33: 1 | BH33: 0 | BI33: 1 | BJ33: ГЭСН-2022, 01-02-061-02, приказ Минстроя России от 18.05.2022 г. № 378/пр | BM33: 1003 | BN33: 0 | BP33: 0 | BQ33: 2 | BR33: 0 | BS33: 1 | BT33: 1 | BU33: 1 | BV33: 1 | BW33: 1 | BX33: 1 | BZ33: 89 | CA33: 40 | CE33: 0 | CF33: 0 | CG33: 0 | CM33: 0 | CO33: 0 | CP33: =(P33+Q33+S33+R33) -> 2123.73 | CQ33: =SUMIF(SmtRes!AQ10:'SmtRes'!AQ10,"=1",SmtRes!AA10:'SmtRes'!AA10) -> 0 | CR33: =SUMIF(SmtRes!AQ10:'SmtRes'!AQ10,"=1",SmtRes!AB10:'SmtRes'!AB10) -> 0 | CS33: =SUMIF(SmtRes!AQ10:'SmtRes'!AQ10,"=1",SmtRes!AC10:'SmtRes'!AC10) -> 0 | CT33: =SUMIF(SmtRes!AQ10:'SmtRes'!AQ10,"=1",SmtRes!AD10:'SmtRes'!AD10) -> 312.13 | CU33: =AG33 -> 0 | CV33: =SUMIF(SmtRes!AQ10:'SmtRes'!AQ10,"=1",SmtRes!BU10:'SmtRes'!BU10) -> 97.2 | CW33: =SUMIF(SmtRes!AQ10:'SmtRes'!AQ10,"=1",SmtRes!BV10:'SmtRes'!BV10) -> 0 | CX33: =AJ33 -> 0 | CY33: =(((S33+R33)*AT33)/100) -> 1890.1197 | CZ33: =(((S33+R33)*AU33)/100) -> 849.492 | DN33: 0 | DO33: 0 | DP33: 1 | DQ33: 1 | DU33: 1007 | DV33: 100 м3 | DW33: 100 м3 | DX33: 100 | EE33: 72340573 | EF33: 2 | EG33: Общестроительные работы | EH33: 1 | EI33: Земляные работы | EJ33: 1 | EK33: 1003 | EL33: Земляные работы, выполняемые: ручным способом | EM33: ФЕР-01 | EQ33: 0 | ER33: 0 | ES33: 0 | ET33: 0 | EU33: 0 | EV33: 0 | EW33: 97.2 | EX33: 0 | EY33: 0 | FQ33: 0 | FR33: 0 | FS33: 0 | FX33: 89 | FY33: 40 | GD33: 1 | GF33: -1063570572 | GG33: 2 | GH33: 1 | GI33: -2 | GJ33: 0 | GK33: 0 | GL33: =ROUND(IF(AND(BH33=3,BI33=3,FS33<>0),P33,0),2) -> 0 | GM33: =ROUND(O33+X33+Y33,2)+GX33 -> 4863.34 | GN33: =IF(OR(BI33=0,BI33=1),GM33-GX33,0) -> 4863.34 | GO33: =IF(BI33=2,GM33-GX33,0) -> 0 | GP33: =IF(BI33=4,GM33-GX33,0) -> 0 | GR33: 0 | GS33: 3 | GT33: 0 | GV33: =ROUND((GT33),6) -> 0 | GW33: 1 | GX33: =ROUND(HC33*I33,2) -> 0 | HA33: 0 | HB33: 0 | HC33: =GV33*GW33 -> 0 | HN33: Пр/812-001.2-1 | HO33: Пр/774-001.2 | HP33: Земляные работы, выполняемые: ручным способом | HQ33: Земляные работы, выполняемые: ручным способом | HS33: 0 | IK33: 0
A35: 51 | B35: =B24 -> 1 | C35: =A24 -> 4 | D35: =ROW(A24) -> 24 | F35: =IF(F24<>"",F24,"") -> Новый раздел | G35: =IF(G24<>"",G24,"") -> Земляные работы | H35: 0 | O35: =ROUND(AB35,2) -> 101815.54 | P35: =ROUND(AC35,2) -> 66153.95 | Q35: =ROUND(AD35,2) -> 13414.23 | R35: =ROUND(AE35,2) -> 4894.17 | S35: =ROUND(AF35,2) -> 17353.19 | T35: =ROUND(AG35,2) -> 0 | U35: =AH35 -> 52.07 | V35: =AI35 -> 9.51198 | W35: =ROUND(AJ35,2) -> 0 | X35: =ROUND(AK35,2) -> 23207 | Y35: =ROUND(AL35,2) -> 13139.99 | AB35: =ROUND(SUMIF(AA28:AA33,"=73953415",O28:O33),2) -> 101815.54 | AC35: =ROUND(SUMIF(AA28:AA33,"=73953415",P28:P33),2) -> 66153.95 | AD35: =ROUND(SUMIF(AA28:AA33,"=73953415",Q28:Q33),2) -> 13414.23 | AE35: =ROUND(SUMIF(AA28:AA33,"=73953415",R28:R33),2) -> 4894.17 | AF35: =ROUND(SUMIF(AA28:AA33,"=73953415",S28:S33),2) -> 17353.19 | AG35: =ROUND(SUMIF(AA28:AA33,"=73953415",T28:T33),2) -> 0 | AH35: =SUMIF(AA28:AA33,"=73953415",U28:U33) -> 52.07 | AI35: =SUMIF(AA28:AA33,"=73953415",V28:V33) -> 9.51198 | AJ35: =ROUND(SUMIF(AA28:AA33,"=73953415",W28:W33),2) -> 0 | AK35: =ROUND(SUMIF(AA28:AA33,"=73953415",X28:X33),2) -> 23207 | AL35: =ROUND(SUMIF(AA28:AA33,"=73953415",Y28:Y33),2) -> 13139.99 | AO35: =ROUND(BX35,2) -> 0 | AP35: =ROUND(BY35,2) -> 0 | AQ35: =ROUND(BZ35,2) -> 0 | AR35: =ROUND(CA35,2) -> 138162.53 | AS35: =ROUND(CB35,2) -> 138162.53 | AT35: =ROUND(CC35,2) -> 0 | AU35: =ROUND(CD35,2) -> 0 | AV35: =ROUND(CE35,2) -> 66153.95 | ... BD35: =ROUND(CM35,2) -> 0 | BX35: =ROUND(SUMIF(AA28:AA33,"=73953415",FQ28:FQ33),2) -> 0 | BY35: =ROUND(SUMIF(AA28:AA33,"=73953415",FR28:FR33),2) -> 0 | BZ35: =ROUND(SUMIF(AA28:AA33,"=73953415",GL28:GL33),2) -> 0 | CA35: =ROUND(SUMIF(AA28:AA33,"=73953415",GM28:GM33),2) -> 138162.53 | CB35: =ROUND(SUMIF(AA28:AA33,"=73953415",GN28:GN33),2) -> 138162.53 | CC35: =ROUND(SUMIF(AA28:AA33,"=73953415",GO28:GO33),2) -> 0 | CD35: =ROUND(SUMIF(AA28:AA33,"=73953415",GP28:GP33),2) -> 0 | CE35: =AC35-BX35 -> 66153.95 | CF35: =AC35-BY35 -> 66153.95 | CG35: =BX35-BZ35 -> 0 | CH35: =AC35-BX35-BY35+BZ35 -> 66153.95 | CI35: =BY35-BZ35 -> 0 | CJ35: =ROUND(SUMIF(AA28:AA33,"=73953415",GX28:GX33),2) -> 0 | CK35: =ROUND(SUMIF(AA28:AA33,"=73953415",GY28:GY33),2) -> 0 | CL35: =ROUND(SUMIF(AA28:AA33,"=73953415",GZ28:GZ33),2) -> 0 | CM35: =ROUND(SUMIF(AA28:AA33,"=73953415",HD28:HD33),2) -> 0 | GX35: 0
A37: 50 | B37: 0 | C37: 0 | D37: 1 | E37: 201 | F37: =ROUND(Source!O35,O37) -> 101815.54 | G37: ПЗ | H37: Прямые затраты | K37: 201 | L37: 1 | M37: 3 | O37: 2 | W37: 101815.54 | X37: 1 | Y37: 101815.54
A38: 50 | B38: 0 | C38: 0 | D38: 1 | E38: 202 | F38: =ROUND(Source!P35,O38) -> 66153.95 | G38: СтМатОб | H38: Стоимость материальных ресурсов (всего) | K38: 202 | L38: 2 | M38: 3 | O38: 2 | W38: 66153.95 | X38: 1 | Y38: 66153.95
A39: 50 | B39: 0 | C39: 0 | D39: 1 | E39: 222 | F39: =ROUND(Source!AO35,O39) -> 0 | G39: СтМатОбЗак | H39: Стоимость материалов и оборудования заказчика | K39: 222 | L39: 3 | M39: 3 | O39: 2 | W39: 0 | X39: 1 | Y39: 0
A40: 50 | B40: 0 | C40: 0 | D40: 1 | E40: 225 | F40: =ROUND(Source!AV35,O40) -> 66153.95 | G40: СтМатОбПод | H40: Стоимость материалов и оборудования подрядчика | K40: 225 | L40: 4 | M40: 3 | O40: 2 | W40: 66153.95 | X40: 1 | Y40: 66153.95
A41: 50 | B41: 0 | C41: 0 | D41: 1 | E41: 226 | F41: =ROUND(Source!AW35,O41) -> 66153.95 | G41: СтМат | H41: Стоимость материалов (всего) | K41: 226 | L41: 5 | M41: 3 | O41: 2 | W41: 66153.95 | X41: 1 | Y41: 66153.95
A42: 50 | B42: 0 | C42: 0 | D42: 1 | E42: 227 | F42: =ROUND(Source!AX35,O42) -> 0 | G42: СтМатЗак | H42: Стоимость материалов заказчика | K42: 227 | L42: 6 | M42: 3 | O42: 2 | W42: 0 | X42: 1 | Y42: 0
A43: 50 | B43: 0 | C43: 0 | D43: 1 | E43: 228 | F43: =ROUND(Source!AY35,O43) -> 66153.95 | G43: СтМатПод | H43: Стоимость материалов подрядчика | K43: 228 | L43: 7 | M43: 3 | O43: 2 | W43: 66153.95 | X43: 1 | Y43: 66153.95
A44: 50 | B44: 0 | C44: 0 | D44: 1 | E44: 216 | F44: =ROUND(Source!AP35,O44) -> 0 | G44: Оборуд | H44: Стоимость оборудования (всего) | K44: 216 | L44: 8 | M44: 3 | O44: 2 | W44: 0 | X44: 1 | Y44: 0
A45: 50 | B45: 0 | C45: 0 | D45: 1 | E45: 223 | F45: =ROUND(Source!AQ35,O45) -> 0 | G45: ОборудЗак | H45: Стоимость оборудования заказчика | K45: 223 | L45: 9 | M45: 3 | O45: 2 | W45: 0 | X45: 1 | Y45: 0
A46: 50 | B46: 0 | C46: 0 | D46: 1 | E46: 229 | F46: =ROUND(Source!AZ35,O46) -> 0 | G46: ОборудПод | H46: Стоимость оборудования подрядчика | K46: 229 | L46: 10 | M46: 3 | O46: 2 | W46: 0 | X46: 1 | Y46: 0
A47: 50 | B47: 0 | C47: 0 | D47: 1 | E47: 203 | F47: =ROUND(Source!Q35,O47) -> 13414.23 | G47: ЭММ | H47: Эксплуатация машин | K47: 203 | L47: 11 | M47: 3 | O47: 2 | W47: 13414.23 | X47: 1 | Y47: 13414.23
A48: 50 | B48: 0 | C48: 0 | D48: 1 | E48: 231 | F48: =ROUND(Source!BB35,O48) -> 0 | G48: ЭММсНРиСП | H48: Эксплуатация машин по ТСН-2001.16 | K48: 231 | L48: 12 | M48: 3 | O48: 2 | W48: 0 | X48: 1 | Y48: 0
A49: 50 | B49: 0 | C49: 0 | D49: 1 | E49: 204 | F49: =ROUND(Source!R35,O49) -> 4894.17 | G49: ЗПМ | H49: ЗП машинистов | K49: 204 | L49: 13 | M49: 3 | O49: 2 | W49: 4894.17 | X49: 1 | Y49: 4894.17
A50: 50 | B50: 0 | C50: 0 | D50: 1 | E50: 205 | F50: =ROUND(Source!S35,O50) -> 17353.19 | G50: ОЗП | H50: Основная ЗП рабочих | K50: 205 | L50: 14 | M50: 3 | O50: 2 | W50: 17353.19 | X50: 1 | Y50: 17353.19
A51: 50 | B51: 0 | C51: 0 | D51: 1 | E51: 232 | F51: =ROUND(Source!BC35,O51) -> 0 | G51: ОЗПсНРиСП | H51: Основная ЗП рабочих по ТСН-2001.16 | K51: 232 | L51: 15 | M51: 3 | O51: 2 | W51: 0 | X51: 1 | Y51: 0
A52: 50 | B52: 0 | C52: 0 | D52: 1 | E52: 214 | F52: =ROUND(Source!AS35,O52) -> 138162.53 | G52: Строит | H52: Строительные работы с НР и СП | K52: 214 | L52: 16 | M52: 3 | O52: 2 | W52: 138162.53 | X52: 1 | Y52: 138162.53
A53: 50 | B53: 0 | C53: 0 | D53: 1 | E53: 215 | F53: =ROUND(Source!AT35,O53) -> 0 | G53: Монтаж | H53: Монтажные работы с НР и СП | K53: 215 | L53: 17 | M53: 3 | O53: 2 | W53: 0 | X53: 1 | Y53: 0
A54: 50 | B54: 0 | C54: 0 | D54: 1 | E54: 217 | F54: =ROUND(Source!AU35,O54) -> 0 | G54: Прочие | H54: Прочие работы с НР и СП | K54: 217 | L54: 18 | M54: 3 | O54: 2 | W54: 0 | X54: 1 | Y54: 0
A55: 50 | B55: 0 | C55: 0 | D55: 1 | E55: 230 | F55: =ROUND(Source!BA35,O55) -> 0 | G55: ПрочиеЗатр | H55: Прочие затраты по ТСН-2001.16 | K55: 230 | L55: 19 | M55: 3 | O55: 2 | W55: 0 | X55: 1 | Y55: 0
A56: 50 | B56: 0 | C56: 0 | D56: 1 | E56: 206 | F56: =ROUND(Source!T35,O56) -> 0 | G56: ВозврМат | H56: Возврат материалов | K56: 206 | L56: 20 | M56: 3 | O56: 2 | W56: 0 | X56: 1 | Y56: 0
A57: 50 | B57: 0 | C57: 0 | D57: 1 | E57: 207 | F57: =ROUND(Source!U35,O57) -> 52.07 | G57: ТрудСтр | H57: Трудозатраты строителей | K57: 207 | L57: 21 | M57: 3 | O57: 7 | W57: 52.07 | X57: 1 | Y57: 52.07
A58: 50 | B58: 0 | C58: 0 | D58: 1 | E58: 208 | F58: =ROUND(Source!V35,O58) -> 9.51198 | G58: ТрудМаш | H58: Трудозатраты машинистов | K58: 208 | L58: 22 | M58: 3 | O58: 7 | W58: 9.51198 | X58: 1 | Y58: 9.51198
A59: 50 | B59: 0 | C59: 0 | D59: 1 | E59: 209 | F59: =ROUND(Source!W35,O59) -> 0 | G59: ТранспМат | H59: Транспорт материалов | K59: 209 | L59: 23 | M59: 3 | O59: 2 | W59: 0 | X59: 1 | Y59: 0
A60: 50 | B60: 0 | C60: 0 | D60: 1 | E60: 233 | F60: =ROUND(Source!BD35,O60) -> 0 | G60: Перевозка | H60: Перевозка грузов | K60: 233 | L60: 24 | M60: 3 | O60: 2 | W60: 0 | X60: 1 | Y60: 0
A61: 50 | B61: 0 | C61: 0 | D61: 1 | E61: 210 | F61: =ROUND(Source!X35,O61) -> 23207 | G61: НР | H61: Накладные расходы | K61: 210 | L61: 25 | M61: 3 | O61: 2 | W61: 23207 | X61: 1 | Y61: 23207
...

Sheet SourceObSm
A1: 0 | B1: Smeta.RU (495) 974-1589 | D1: _OBSM_ | F1: 0 | G1: 0 | H1: 0 | I1: Smeta.RU | K1: 1 | L1: 28180 | M1: 10 | N1: 12 | O1: 1 | P1: 0 | Q1: 5
A12: 1 | B12: 59 | C12: 0 | E12: 0 | F12: Новый объект_(Копия)_(Копия)_(Копия)_(Копия)_(Копия)_(Копия) | G12: Газопровод низкого давления к жилому дому,расположенному по адресу: Пензенская область,Лопатинский район,Старовершаутский сельсовет | I12: 0 | K12: 0 | L12: 0 | M12: 523 | O12: 0 | P12: 0 | Q12: 7 | R12: 0 | T12: 4 | V12: 0 | BB12: 0 | BH12: Сметные нормы списания | BI12: Коды ценников | BJ12: 1 | BK12: 1 | BL12: 0 | BM12: 0 | BN12: 1 | BO12: 0 | BP12: 6 | BQ12: 2 | BR12: 1 | BS12: 1 | BT12: 0 | BU12: 0 | BV12: 0 | BW12: 0 | BX12: 0 | BY12: ФСНБ-2022_И19 | BZ12: Версия 1.19.0 для ФСНБ-2022 И19 | CA12: ФСНБ-2022 - Изменения И19 | CB12: ФСНБ-2022 - Изменения И19 | CC12: ФСНБ-2022 - Изменения И19 | CD12: ФСНБ-2022 - Изменения И19 | CE12: Поправки для ФСНБ-2022 от 21.08.2026 г И19 (55/пр) Строительство | CF12: 0 | CG12: 0 | CH12: 487096328 | CK12: 19 | CQ12: Приказ Минстроя России от 30.12.2021 г. № 1046/пр; Приказ Минстроя России от 04.08.2020 г. № 421/пр; Приказ Минстроя России от 21.12.2020 г. № 812/пр; Приказ Минстроя России от 11.12.2020 г. № 774/пр | CR12: ГСН | CS12: 46248 | CT12: 570 | CU12: 19 | CV12: Приказ Минстроя России от 18.05.2022 г. № 378/пр; Приказ Минстроя России от 26.08.2022 г. № 703/пр; Приказ Минстроя России от 26.10.2022 г. № 905/пр; Приказ Минстроя России от 27.12.2022 г. № 1133/пр; Приказ Минстроя России от 10.02.2023 г. № 84/пр; Приказ Минстроя России от 11.05.2023 г. № 335/пр; Приказ Минстроя России от 02.08.2023 г. № 551/пр; Приказ Минстроя России от 14.11.2023 г. № 817/пр; Приказ Минстроя России от 16.02.2024 г. № 102/пр; Приказ Минстроя России от 13.05.2024 г. № 323/пр; Приказ Минстроя России от 09.08.2024 г. № 524/пр; Приказ Минстроя России от 07.11.2024 г. № 747/пр; Приказ Минстроя России от 07.02.2025 г. № 69/пр; Приказ Минстроя России от 19.05.2025 г. № 299/пр; Приказ Минстроя России от 14.08.2025 г. № 490/пр; Приказ Минстроя России от 12.11.2025 г. № 696/пр; Приказ Минстроя России от 17.02.2026 г. № 91/пр; Приказ Минстроя России от 15.05.2026 г. № 301/пр; Приказ Минстроя России от 12.08.2026 г. № 527/пр; Приказ Минстроя России от 07.07.2022 г. № 557/пр; Приказ Минстроя России от 30.01.2024 г. № 55/пр; Приказ Минстроя России от 23.01.2025 г. № 30/пр; Приказ Минстроя России от 02.09.2021 г. № 636/пр; Приказ Минстроя России от 26.07.2022 г. № 611/пр; Приказ Минстроя России от 22.04.2022 г. № 317/пр | CY12: 0 | EC12: 0
A14: 22 | B14: 1 | C14: 0 | D14: 73953415 | E14: 0 | F14: 2 | G14: 1
A16: 3 | B16: 1 | C16: Новая локальная смета | D16: Газопровод низкого давленияя | E16: =ROUND((Source!F149)/1000,2) -> 394.08 | F16: =ROUND((Source!F150)/1000,2) -> 31.34 | G16: =ROUND((Source!F141)/1000,2) -> 0 | H16: =ROUND((Source!F151)/1000+(Source!F152)/1000,2) -> 0 | I16: =E16+F16+G16+H16 -> 425.42 | J16: =ROUND((Source!F147+Source!F146)/1000,2) -> 59.2 | K16: 548.79 | L16: 0 | M16: 0 | N16: =I16+L16+M16 -> 425.42 | AI16: 0 | AJ16: -1 | AN16: 0 | AT16: 320052.19 | AU16: 228739.22 | AV16: 0 | AW16: 0 | AX16: 0 | AY16: 32115.91 | AZ16: 12598.52 | BA16: 46598.54 | BB16: 394076.73 | BC16: 31343.73 | BD16: 0 | BE16: 0 | BF16: 123.9438 | BG16: 26.642112 | BH16: 0 | BI16: 66116.72 | BJ16: 39251.55 | BK16: 425420.46
A18: 51 | E18: 394.08 | F18: 31.34 | G18: 0 | H18: 0 | I18: 425.42 | J18: 59.2 | K18: 548.79 | L18: 0 | M18: 0 | N18: 425.42
A20: 50 | B20: 0 | C20: 0 | D20: 1 | E20: 0 | F20: 320052.19 | G20: ПЗ | H20: Прямые затраты | K20: 201 | L20: 1 | M20: 3 | O20: 2
A21: 50 | B21: 0 | C21: 0 | D21: 1 | E21: 202 | F21: 228739.22 | G21: СтМатОб | H21: Стоимость материальных ресурсов (всего) | K21: 202 | L21: 2 | M21: 3 | O21: 2
A22: 50 | B22: 0 | C22: 0 | D22: 1 | E22: 222 | F22: 0 | G22: СтМатОбЗак | H22: Стоимость материалов и оборудования заказчика | K22: 222 | L22: 3 | M22: 3 | O22: 2
A23: 50 | B23: 0 | C23: 0 | D23: 1 | E23: 225 | F23: 228739.22 | G23: СтМатОбПод | H23: Стоимость материалов и оборудования подрядчика | K23: 225 | L23: 4 | M23: 3 | O23: 2
A24: 50 | B24: 0 | C24: 0 | D24: 1 | E24: 226 | F24: 228739.22 | G24: СтМат | H24: Стоимость материалов (всего) | K24: 226 | L24: 5 | M24: 3 | O24: 2
A25: 50 | B25: 0 | C25: 0 | D25: 1 | E25: 227 | F25: 0 | G25: СтМатЗак | H25: Стоимость материалов заказчика | K25: 227 | L25: 6 | M25: 3 | O25: 2
A26: 50 | B26: 0 | C26: 0 | D26: 1 | E26: 228 | F26: 228739.22 | G26: СтМатПод | H26: Стоимость материалов подрядчика | K26: 228 | L26: 7 | M26: 3 | O26: 2
A27: 50 | B27: 0 | C27: 0 | D27: 1 | E27: 216 | F27: 0 | G27: Оборуд | H27: Стоимость оборудования (всего) | K27: 216 | L27: 8 | M27: 3 | O27: 2
A28: 50 | B28: 0 | C28: 0 | D28: 1 | E28: 223 | F28: 0 | G28: ОборудЗак | H28: Стоимость оборудования заказчика | K28: 223 | L28: 9 | M28: 3 | O28: 2
A29: 50 | B29: 0 | C29: 0 | D29: 1 | E29: 229 | F29: 0 | G29: ОборудПод | H29: Стоимость оборудования подрядчика | K29: 229 | L29: 10 | M29: 3 | O29: 2
A30: 50 | B30: 0 | C30: 0 | D30: 1 | E30: 203 | F30: 32115.91 | G30: ЭММ | H30: Эксплуатация машин | K30: 203 | L30: 11 | M30: 3 | O30: 2
A31: 50 | B31: 0 | C31: 0 | D31: 1 | E31: 231 | F31: 0 | G31: ЭММсНРиСП | H31: Эксплуатация машин по ТСН-2001.16 | K31: 231 | L31: 12 | M31: 3 | O31: 2
... A54: 50 | B54: 1 | C54: 0 | D54: 2 | E54: 213 | F54: 518162 | G54: Итог8 | H54: Всего | K54: 212 | L54: 35 | M54: 0 | O54: 2
A56: -1
A59: 75 | B59: Уровень цен | C59: 2026 | D59: 0 | E59: 9 | F59: 1 | G59: 0 | H59: 1 | I59: 0 | J59: 3 | K59: 0 | L59: 0 | M59: 0 | N59: 73953415 | O59: 1
A60: 2 | B60: Вид цен | C60: Пензенская область, КТЦ к ФСНБ-2022, 3 квартал 2026 г | D60: 0 | E60: 0 | F60: 0 | AN60: 73953416
A61: 1 | B61: Сборник индексов | C61: Пензенская область к ФСНБ-2022 ФГИС ЦС | D61: 2026 | E61: 9 | F61: 1 | G61: 1 | H61: 0 | I61: 2 | J61: 1 | K61: 1 | L61: 1 | M61: 1 | N61: 1 | O61: 1 | P61: 1 | Q61: 1 | AN61: 73953417 | AO61: Письмо Минстроя России «О размещении индексов изменения сметной стоимости строительства по группам однородных строительных ресурсов на III квартал 2026 года» | AP61: Справочная информация | AQ61: 46258 | AR61: 423 | AS61: Письмо Минстроя России от 24.08.2026 № 52419-ИФ/09 | AT61: Приказ Министерства градостроительства и архитектуры Пензенской области | AU61: Справочная информация | AV61: 46087 | AW61: 250 | AX61: Приказ Министерства градостроительства и архитектуры Пензенской области от 06.03.2026 г. № 250/оп

Sheet SmtRes
A1: =ROW(Source!A28) -> 28 | B1: 73953415 | C1: 73953712 | D1: 72518826 | E1: 119 | F1: 1 | G1: 1 | H1: 1 | I1: 4-100-00 | K1: Затраты труда машинистов | L1: 1191 | N1: 1013 | O1: чел.-ч. | P1: чел.-ч. | Q1: 1 | W1: 0 | X1: -1417349443 | Y1: =AT1 -> 25.5 | AA1: 0 | AB1: 0 | AC1: 0 | AD1: 0 | AE1: 0 | AF1: 0 | AG1: 0 | AH1: 0 | AI1: 1 | AJ1: 1 | AK1: 1 | AL1: 1 | AM1: -2 | AN1: 0 | AO1: 0 | AP1: 1 | AQ1: 1 | AR1: 0 | AT1: 25.5 | AV1: 2 | AW1: 2 | AX1: 73953715 | AY1: 1 | AZ1: 0 | BA1: 1 | BB1: 1 | BC1: 0 | BD1: 0 | BE1: 0 | BF1: 0 | BG1: 0 | BH1: 0 | BI1: 0 | BJ1: 0 | BK1: 0 | BL1: 0 | BM1: 0 | BN1: 0 | BO1: 0 | BP1: 0 | BQ1: 0 | BR1: 0 | BS1: 0 | BT1: 0 | BU1: 0 | BV1: 0 | BW1: 0 | CV1: 0 | CW1: 0 | CX1: =ROUND(Y1*Source!I28,7) -> 6.681 | CY1: =AD1 -> 0 | CZ1: =AH1 -> 0 | DA1: =AL1 -> 1 | DB1: =ROUND(ROUND(AT1*CZ1,2),6) -> 0 | DC1: =ROUND(ROUND(AT1*AG1,2),6) -> 0 | DF1: =ROUND(ROUND(AE1,2)*CX1,2) -> 0 | DG1: =ROUND(ROUND(AF1,2)*CX1,2) -> 0 | DH1: =ROUND(ROUND(AG1,2)*CX1,2) -> 0 | DI1: =ROUND(ROUND(AH1,2)*CX1,2) -> 0 | DJ1: =DI1 -> 0 | DK1: 0 | DM1: 0 | DO1: 0
A2: =ROW(Source!A28) -> 28 | B2: 73953415 | C2: 73953712 | D2: 72645652 | E2: 1 | F2: 1 | G2: 1 | H2: 2 | I2: 91.01.05-085 | J2: ФСЭМ-2022, 91.01.05-085, приказ Минстроя России от 18.05.2022 г. № 378/пр | K2: Экскаваторы одноковшовые дизельные на гусеничном ходу, объем ковша 0,5 м3 | L2: 1368 | N2: 1011 | O2: маш.-ч | P2: маш.-ч | Q2: 1 | W2: 0 | X2: -1780628978 | Y2: =AT2 -> 25.5 | AA2: 0 | AB2: 1433.48 | AC2: 537.64 | AD2: 0 | AE2: 0 | AF2: 1054.03 | AG2: 537.64 | AH2: 0 | AI2: 1 | AJ2: 1.36 | AK2: 1 | AL2: 1 | AM2: 2 | AN2: 0 | AO2: 0 | AP2: 1 | AQ2: 1 | AR2: 0 | AT2: 25.5 | AV2: 1 | AW2: 2 | AX2: 73953716 | AY2: 1 | AZ2: 0 | BA2: 2 | BB2: 1 | BC2: 0 | BD2: 0 | BE2: 0 | BF2: 0 | BG2: 0 | BH2: 0 | BI2: 0 | BJ2: 0 | BK2: 26877.765 | BL2: 13709.82 | BM2: 0 | BN2: 0 | BO2: 25.5 | BP2: 1 | BQ2: 0 | BR2: 26877.765 | BS2: 13709.82 | BT2: 0 | BU2: 0 | BV2: 25.5 | BW2: 1 | CV2: 0 | CW2: =ROUND(Y2*Source!I28*DO2,7) -> 6.681 | CX2: =ROUND(Y2*Source!I28,7) -> 6.681 | CY2: =AB2 -> 1433.48 | CZ2: =AF2 -> 1054.03 | DA2: =AJ2 -> 1.36 | DB2: =ROUND(ROUND(AT2*CZ2,2),6) -> 26877.77 | DC2: =ROUND(ROUND(AT2*AG2,2),6) -> 13709.82 | DF2: =ROUND(ROUND(AE2,2)*CX2,2) -> 0 | DG2: =ROUND(ROUND(AF2*AJ2,2)*CX2,2) -> 9577.08 | DH2: =ROUND(ROUND(AG2,2)*CX2,2) -> 3591.97 | DI2: =ROUND(ROUND(AH2,2)*CX2,2) -> 0 | DJ2: =DG2+DH2 -> 13169.05 | DK2: 0 | DL2: 4-100-060 | DM2: 6 | DN2: чел.-ч. | DO2: 1
A3: =ROW(Source!A29) -> 29 | B3: 73953415 | C3: 73953717 | D3: 72518592 | E3: 119 | F3: 1 | G3: 1 | H3: 1 | I3: 1-100-20 | K3: Средний разряд работы 2,0 | L3: 1191 | N3: 1013 | O3: чел.-ч. | P3: чел.-ч. | Q3: 1 | W3: 0 | X3: 370475345 | Y3: =AT3 -> 154 | AA3: 0 | AB3: 0 | AC3: 0 | AD3: 325.57 | AE3: 0 | AF3: 0 | AG3: 0 | AH3: 325.57 | AI3: 1 | AJ3: 1 | AK3: 1 | AL3: 1 | AM3: -2 | AN3: 0 | AO3: 0 | AP3: 1 | AQ3: 1 | AR3: 0 | AT3: 154 | AV3: 1 | AW3: 2 | AX3: 73953719 | AY3: 1 | AZ3: 0 | BA3: 3 | BB3: 1 | BC3: 0 | BD3: 0 | BE3: 0 | BF3: 0 | BG3: 0 | BH3: 0 | BI3: 0 | BJ3: 0 | BK3: 0 | BL3: 0 | BM3: 50137.78 | BN3: 154 | BO3: 0 | BP3: 1 | BQ3: 0 | BR3: 0 | BS3: 0 | BT3: 50137.78 | BU3: 154 | BV3: 0 | BW3: 1 | CU3: =ROUND(AT3*Source!I29*AH3*AL3,2) -> 4011.02 | CV3: =ROUND(Y3*Source!I29,7) -> 12.32 | CW3: 0 | CX3: =ROUND(Y3*Source!I29,7) -> 12.32 | CY3: =AD3 -> 325.57 | CZ3: =AH3 -> 325.57 | DA3: =AL3 -> 1 | DB3: =ROUND(ROUND(AT3*CZ3,2),6) -> 50137.78 | DC3: =ROUND(ROUND(AT3*AG3,2),6) -> 0 | DF3: =ROUND(ROUND(AE3,2)*CX3,2) -> 0 | DG3: =ROUND(ROUND(AF3,2)*CX3,2) -> 0 | DH3: =ROUND(ROUND(AG3,2)*CX3,2) -> 0 | DI3: =ROUND(ROUND(AH3,2)*CX3,2) -> 4011.02 | DJ3: =DI3 -> 4011.02 | DK3: 1 | DM3: 0 | DO3: 0
A4: =ROW(Source!A30) -> 30 | B4: 73953415 | C4: 73953720 | D4: 72518612 | E4: 119 | F4: 1 | G4: 1 | H4: 1 | I4: 1-100-25 | K4: Средний разряд работы 2,5 | L4: 1191 | N4: 1013 | O4: чел.-ч. | P4: чел.-ч. | Q4: 1 | W4: 0 | X4: -1991603921 | Y4: =AT4 -> 10.2 | AA4: 0 | AB4: 0 | AC4: 0 | AD4: 340.51 | AE4: 0 | AF4: 0 | AG4: 0 | AH4: 340.51 | AI4: 1 | AJ4: 1 | AK4: 1 | AL4: 1 | AM4: -2 | AN4: 0 | AO4: 0 | AP4: 1 | AQ4: 1 | AR4: 0 | AT4: 10.2 | AV4: 1 | AW4: 2 | AX4: 73954659 | AY4: 1 | AZ4: 0 | BA4: 4 | BB4: 1 | BC4: 0 | BD4: 0 | BE4: 0 | BF4: 0 | BG4: 0 | BH4: 0 | BI4: 0 | BJ4: 0 | BK4: 0 | BL4: 0 | BM4: 3473.202 | BN4: 10.2 | BO4: 0 | BP4: 1 | BQ4: 0 | BR4: 0 | BS4: 0 | BT4: 3473.202 | BU4: 10.2 | BV4: 0 | BW4: 1 | CU4: =ROUND(AT4*Source!I30*AH4*AL4,2) -> 11218.44 | CV4: =ROUND(Y4*Source!I30,7) -> 32.946 | CW4: 0 | CX4: =ROUND(Y4*Source!I30,7) -> 32.946 | CY4: =AD4 -> 340.51 | CZ4: =AH4 -> 340.51 | DA4: =AL4 -> 1 | DB4: =ROUND(ROUND(AT4*CZ4,2),6) -> 3473.2 | DC4: =ROUND(ROUND(AT4*AG4,2),6) -> 0 | DF4: =ROUND(ROUND(AE4,2)*CX4,2) -> 0 | DG4: =ROUND(ROUND(AF4,2)*CX4,2) -> 0 | DH4: =ROUND(ROUND(AG4,2)*CX4,2) -> 0 | DI4: =ROUND(ROUND(AH4,2)*CX4,2) -> 11218.44 | DJ4: =DI4 -> 11218.44 | DK4: 1 | DM4: 0 | DO4: 0
A5: =ROW(Source!A30) -> 30 | B5: 73953415 | C5: 73953720 | D5: 72518826 | E5: 119 | F5: 1 | G5: 1 | H5: 1 | I5: 4-100-00 | K5: Затраты труда машинистов | L5: 1191 | N5: 1013 | O5: чел.-ч. | P5: чел.-ч. | Q5: 1 | W5: 0 | X5: -1417349443 | Y5: =AT5 -> 0.32 | AA5: 0 | AB5: 0 | AC5: 0 | AD5: 0 | AE5: 0 | AF5: 0 | AG5: 0 | AH5: 0 | AI5: 1 | AJ5: 1 | AK5: 1 | AL5: 1 | AM5: -2 | AN5: 0 | AO5: 0 | AP5: 1 | AQ5: 1 | AR5: 0 | AT5: 0.32 | AV5: 2 | AW5: 2 | AX5: 73954660 | AY5: 1 | AZ5: 0 | BA5: 5 | BB5: 1 | BC5: 0 | BD5: 0 | BE5: 0 | BF5: 0 | BG5: 0 | BH5: 0 | BI5: 0 | BJ5: 0 | BK5: 0 | BL5: 0 | BM5: 0 | BN5: 0 | BO5: 0 | BP5: 0 | BQ5: 0 | BR5: 0 | BS5: 0 | BT5: 0 | BU5: 0 | BV5: 0 | BW5: 0 | CV5: 0 | CW5: 0 | CX5: =ROUND(Y5*Source!I30,7) -> 1.0336 | CY5: =AD5 -> 0 | CZ5: =AH5 -> 0 | DA5: =AL5 -> 1 | DB5: =ROUND(ROUND(AT5*CZ5,2),6) -> 0 | DC5: =ROUND(ROUND(AT5*AG5,2),6) -> 0 | DF5: =ROUND(ROUND(AE5,2)*CX5,2) -> 0 | DG5: =ROUND(ROUND(AF5,2)*CX5,2) -> 0 | DH5: =ROUND(ROUND(AG5,2)*CX5,2) -> 0 | DI5: =ROUND(ROUND(AH5,2)*CX5,2) -> 0 | DJ5: =DI5 -> 0 | DK5: 0 | DM5: 0 | DO5: 0
A6: =ROW(Source!A30) -> 30 | B6: 73953415 | C6: 73953720 | D6: 72646194 | E6: 1 | F6: 1 | G6: 1 | H6: 2 | I6: 91.06.05-011 | J6: ФСЭМ-2022, 91.06.05-011, приказ Минстроя России от 18.05.2022 г. № 378/пр | K6: Погрузчики одноковшовые универсальные фронтальные пневмоколесные, номинальная вместимость основного ковша 2,6 м3, грузоподъемность 5 т | L6: 1368 | N6: 1011 | O6: маш.-ч | P6: маш.-ч | Q6: 1 | W6: 0 | X6: -1368259184 | Y6: =AT6 -> 0.32 | AA6: 0 | AB6: 1681.82 | AC6: 459.98 | AD6: 0 | AE6: 0 | AF6: 1681.82 | AG6: 459.98 | AH6: 0 | AI6: 1 | AJ6: 1 | AK6: 1 | AL6: 1 | AM6: -2 | AN6: 0 | AO6: 0 | AP6: 1 | AQ6: 1 | AR6: 0 | AT6: 0.32 | AV6: 1 | AW6: 2 | AX6: 73954661 | AY6: 1 | AZ6: 0 | BA6: 6 | BB6: 1 | BC6: 0 | BD6: 0 | BE6: 0 | BF6: 0 | BG6: 0 | BH6: 0 | BI6: 0 | BJ6: 0 | BK6: 538.1824 | BL6: 147.1936 | BM6: 0 | BN6: 0 | BO6: 0.32 | BP6: 1 | BQ6: 0 | BR6: 538.1824 | BS6: 147.1936 | BT6: 0 | BU6: 0 | BV6: 0.32 | BW6: 1 | CV6: 0 | CW6: =ROUND(Y6*Source!I30*DO6,7) -> 1.0336 | CX6: =ROUND(Y6*Source!I30,7) -> 1.0336 | CY6: =AB6 -> 1681.82 | CZ6: =AF6 -> 1681.82 | DA6: =AJ6 -> 1 | DB6: =ROUND(ROUND(AT6*CZ6,2),6) -> 538.18 | DC6: =ROUND(ROUND(AT6*AG6,2),6) -> 147.19 | DF6: =ROUND(ROUND(AE6,2)*CX6,2) -> 0 | DG6: =ROUND(ROUND(AF6,2)*CX6,2) -> 1738.33 | DH6: =ROUND(ROUND(AG6,2)*CX6,2) -> 475.44 | DI6: =ROUND(ROUND(AH6,2)*CX6,2) -> 0 | DJ6: =DG6+DH6 -> 2213.77 | DK6: 1 | DL6: 4-100-050 | DM6: 5 | DN6: чел.-ч. | DO6: 1
A7: =ROW(Source!A30) -> 30 | B7: 73953415 | C7: 73953720 | D7: 72594453 | E7: 1 | F7: 1 | G7: 1 | H7: 3 | I7: 02.3.01.02-1104 | J7: ФСБЦ-2022, 02.3.01.02-1104, приказ Минстроя России от 18.05.2022 г. № 378/пр | K7: Песок природный для строительных работ I класс, средний | L7: 1339 | N7: 1007 | O7: м3 | P7: м3 | Q7: 1 | W7: 0 | X7: -1170073795 | Y7: =AT7 -> 10 | AA7: 2048.11 | AB7: 0 | AC7: 0 | AD7: 0 | AE7: 573.7 | AF7: 0 | AG7: 0 | AH7: 0 | AI7: 3.57 | AJ7: 1 | AK7: 1 | AL7: 1 | AM7: 0 | AN7: 0 | AO7: 0 | AP7: 1 | AQ7: 0 | AR7: 0 | AT7: 10 | AV7: 0 | AW7: 1 | AX7: -1 | AY7: 0 | AZ7: 0 | BB7: 0 | BC7: 0 | BD7: 0 | BE7: 0 | BF7: 0 | BG7: 0 | BH7: 0 | BI7: 0 | BJ7: 0 | BK7: 0 | BL7: 0 | BM7: 0 | BN7: 0 | BO7: 0 | BP7: 0 | BQ7: 0 | BR7: 0 | BS7: 0 | BT7: 0 | BU7: 0 | BV7: 0 | BW7: 0 | CV7: 0 | CW7: 0 | CX7: =ROUND(Y7*Source!I30,7) -> 32.3 | CY7: =AA7 -> 2048.11 | CZ7: =AE7 -> 573.7 | DA7: =AI7 -> 3.57 | DB7: =ROUND(ROUND(AT7*CZ7,2),6) -> 5737 | DC7: =ROUND(ROUND(AT7*AG7,2),6) -> 0 | DF7: =ROUND(ROUND(AE7*AI7,2)*CX7,2) -> 66153.95 | DG7: =ROUND(ROUND(AF7,2)*CX7,2) -> 0 | DH7: =ROUND(ROUND(AG7,2)*CX7,2) -> 0 | DI7: =ROUND(ROUND(AH7,2)*CX7,2) -> 0 | DJ7: =DF7 -> 66153.95 | DK7: 0 | DM7: 0 | DO7: 0
A8: =ROW(Source!A32) -> 32 | B8: 73953415 | C8: 73953729 | D8: 72518826 | E8: 119 | F8: 1 | G8: 1 | H8: 1 | I8: 4-100-00 | K8: Затраты труда машинистов | L8: 1191 | N8: 1013 | O8: чел.-ч. | P8: чел.-ч. | Q8: 1 | W8: 0 | X8: -1417349443 | Y8: =AT8 -> 8.06 | AA8: 0 | AB8: 0 | AC8: 0 | AD8: 0 | AE8: 0 | AF8: 0 | AG8: 0 | AH8: 0 | AI8: 1 | AJ8: 1 | AK8: 1 | AL8: 1 | AM8: -2 | AN8: 0 | AO8: 0 | AP8: 1 | AQ8: 1 | AR8: 0 | AT8: 8.06 | AV8: 2 | AW8: 2 | AX8: 73953732 | AY8: 1 | AZ8: 0 | BA8: 8 | BB8: 1 | BC8: 0 | BD8: 0 | BE8: 0 | BF8: 0 | BG8: 0 | BH8: 0 | BI8: 0 | BJ8: 0 | BK8: 0 | BL8: 0 | BM8: 0 | BN8: 0 | BO8: 0 | BP8: 0 | BQ8: 0 | BR8: 0 | BS8: 0 | BT8: 0 | BU8: 0 | BV8: 0 | BW8: 0 | CV8: 0 | CW8: 0 | CX8: =ROUND(Y8*Source!I32,7) -> 1.79738 | CY8: =AD8 -> 0 | CZ8: =AH8 -> 0 | DA8: =AL8 -> 1 | DB8: =ROUND(ROUND(AT8*CZ8,2),6) -> 0 | DC8: =ROUND(ROUND(AT8*AG8,2),6) -> 0 | DF8: =ROUND(ROUND(AE8,2)*CX8,2) -> 0 | DG8: =ROUND(ROUND(AF8,2)*CX8,2) -> 0 | DH8: =ROUND(ROUND(AG8,2)*CX8,2) -> 0 | DI8: =ROUND(ROUND(AH8,2)*CX8,2) -> 0 | DJ8: =DI8 -> 0 | DK8: 0 | DM8: 0 | DO8: 0
A9: =ROW(Source!A32) -> 32 | B9: 73953415 | C9: 73953729 | D9: 72645603 | E9: 1 | F9: 1 | G9: 1 | H9: 2 | I9: 91.01.01-034 | J9: ФСЭМ-2022, 91.01.01-034, приказ Минстроя России от 18.05.2022 г. № 378/пр | K9: Бульдозеры, мощность 59 кВт (80 л.с.) | L9: 1368 | N9: 1011 | O9: маш.-ч | P9: маш.-ч | Q9: 1 | W9: 0 | X9: 540934821 | Y9: =AT9 -> 8.06 | AA9: 0 | AB9: 1167.71 | AC9: 459.98 | AD9: 0 | AE9: 0 | AF9: 828.16 | AG9: 459.98 | AH9: 0 | AI9: 1 | AJ9: 1.41 | AK9: 1 | AL9: 1 | AM9: 2 | AN9: 0 | AO9: 0 | AP9: 1 | AQ9: 1 | AR9: 0 | AT9: 8.06 | AV9: 1 | AW9: 2 | AX9: 73953733 | AY9: 1 | AZ9: 0 | BA9: 9 | BB9: 1 | BC9: 0 | BD9: 0 | BE9: 0 | BF9: 0 | BG9: 0 | BH9: 0 | BI9: 0 | BJ9: 0 | BK9: 6674.9696 | BL9: 3707.4388 | BM9: 0 | BN9: 0 | BO9: 8.06 | BP9: 1 | BQ9: 0 | BR9: 6674.9696 | BS9: 3707.4388 | BT9: 0 | BU9: 0 | BV9: 8.06 | BW9: 1 | CV9: 0 | CW9: =ROUND(Y9*Source!I32*DO9,7) -> 1.79738 | CX9: =ROUND(Y9*Source!I32,7) -> 1.79738 | CY9: =AB9 -> 1167.71 | CZ9: =AF9 -> 828.16 | DA9: =AJ9 -> 1.41 | DB9: =ROUND(ROUND(AT9*CZ9,2),6) -> 6674.97 | DC9: =ROUND(ROUND(AT9*AG9,2),6) -> 3707.44 | DF9: =ROUND(ROUND(AE9,2)*CX9,2) -> 0 | DG9: =ROUND(ROUND(AF9*AJ9,2)*CX9,2) -> 2098.82 | DH9: =ROUND(ROUND(AG9,2)*CX9,2) -> 826.76 | DI9: =ROUND(ROUND(AH9,2)*CX9,2) -> 0 | DJ9: =DG9+DH9 -> 2925.58 | DK9: 0 | DL9: 4-100-050 | DM9: 5 | DN9: чел.-ч. | DO9: 1
A10: =ROW(Source!A33) -> 33 | B10: 73953415 | C10: 73953734 | D10: 72518582 | E10: 119 | F10: 1 | G10: 1 | H10: 1 | I10: 1-100-15 | K10: Средний разряд работы 1,5 | L10: 1191 | N10: 1013 | O10: чел.-ч. | P10: чел.-ч. | Q10: 1 | W10: 0 | X10: -267883188 | Y10: =AT10 -> 97.2 | AA10: 0 | AB10: 0 | AC10: 0 | AD10: 312.13 | AE10: 0 | AF10: 0 | AG10: 0 | AH10: 312.13 | AI10: 1 | AJ10: 1 | AK10: 1 | AL10: 1 | AM10: -2 | AN10: 0 | AO10: 0 | AP10: 1 | AQ10: 1 | AR10: 0 | AT10: 97.2 | AV10: 1 | AW10: 2 | AX10: 73953736 | AY10: 1 | AZ10: 0 | BA10: 10 | BB10: 1 | BC10: 0 | BD10: 0 | BE10: 0 | BF10: 0 | BG10: 0 | BH10: 0 | BI10: 0 | BJ10: 0 | BK10: 0 | BL10: 0 | BM10: 30339.036 | BN10: 97.2 | BO10: 0 | BP10: 1 | BQ10: 0 | BR10: 0 | BS10: 0 | BT10: 30339.036 | BU10: 97.2 | BV10: 0 | BW10: 1 | CU10: =ROUND(AT10*Source!I33*AH10*AL10,2) -> 2123.73 | CV10: =ROUND(Y10*Source!I33,7) -> 6.804 | CW10: 0 | CX10: =ROUND(Y10*Source!I33,7) -> 6.804 | CY10: =AD10 -> 312.13 | CZ10: =AH10 -> 312.13 | DA10: =AL10 -> 1 | DB10: =ROUND(ROUND(AT10*CZ10,2),6) -> 30339.04 | DC10: =ROUND(ROUND(AT10*AG10,2),6) -> 0 | DF10: =ROUND(ROUND(AE10,2)*CX10,2) -> 0 | DG10: =ROUND(ROUND(AF10,2)*CX10,2) -> 0 | DH10: =ROUND(ROUND(AG10,2)*CX10,2) -> 0 | DI10: =ROUND(ROUND(AH10,2)*CX10,2) -> 2123.73 | DJ10: =DI10 -> 2123.73 | DK10: 1 | DM10: 0 | DO10: 0
