Workbook
Name _Hlk136851620: 'Расчет 2 - НМЦД'!#REF!
Name _Hlk80174007: 'Расчет 2 - НМЦД'!$C$10
Name _Hlk80174027: 'Расчет 2 - НМЦД'!$C$11

Sheet Расчет 2 - НМЦД
B2: Расчёт (обоснование) начальной (максимальной) цены единицы товара, работы, услуги - НМЦед, начальной (максимальной) цены договора - НМЦД
C3: Товар, работа, услуга - ТРУ | G3: Источники ценовой информации - ИЦИ (должно быть ≥ 3 штук) | K3: Однородность значений цен, используемых в расчёте
B4: № п/п | C4: Наименование | D4: ОКПД 2 | E4: Кол-во | F4: Ед. изм. | G4: № 1 | H4: № 2 | I4: № 3 | J4: № 4 | K4: Среднее арифметическое значение | L4: Среднее квадратичное отклонение | M4: Коэффициент вариации (должен быть ≤ 35%) | N4: НМЦед с учётом количества (вариант 1 - расчет по минимальному ИЦИ)
G5: =SUMPRODUCT($E6:$E11,G6:G11) -> 1260000 | H5: =SUMPRODUCT($E6:$E11,H6:H11) -> 1296000 | I5: =SUMPRODUCT($E6:$E11,I6:I11) -> 1440000 | J5: =SUMPRODUCT($E6:$E11,J6:J11) -> 1656000
B6: 1 | C6: Автоматизированный терминал №1 ПУ Городец | D6: 86.21.10.120 | E6: 12 | F6: месяц | G6: 17500 | H6: 18000 | I6: 20000 | J6: 23000 | K6: =ROUND(AVERAGE('Расчет 2 - НМЦД'!$G6:$J6),2) -> 19625 | L6: =_xlfn.STDEV.S('Расчет 2 - НМЦД'!$G6:$J6) -> 2495.8299 | M6: =L6/K6 -> 0.12717604 | N6: =(INDEX(G6:J6,MATCH(MIN($G$5:$J$5),$G$5:$J$5,0)))*E6 -> 210000
B7: =B6+1 -> 2 | C7: Автоматизированный терминал №2 ПУ Балахна | D7: 86.21.10.120 | E7: 12 | F7: месяц | G7: 17500 | H7: 18000 | I7: 20000 | J7: 23000 | K7: =ROUND(AVERAGE('Расчет 2 - НМЦД'!$G7:$J7),2) -> 19625 | L7: =_xlfn.STDEV.S('Расчет 2 - НМЦД'!$G7:$J7) -> 2495.8299 | M7: =L7/K7 -> 0.12717604 | N7: =(INDEX(G7:J7,MATCH(MIN($G$5:$J$5),$G$5:$J$5,0)))*E7 -> 210000
B8: =B7+1 -> 3 | C8: Автоматизированный терминал №3 МПС Глазково | D8: 86.21.10.120 | E8: 12 | F8: месяц | G8: 17500 | H8: 18000 | I8: 20000 | J8: 23000 | K8: =ROUND(AVERAGE('Расчет 2 - НМЦД'!$G8:$J8),2) -> 19625 | L8: =_xlfn.STDEV.S('Расчет 2 - НМЦД'!$G8:$J8) -> 2495.8299 | M8: =L8/K8 -> 0.12717604 | N8: =(INDEX(G8:J8,MATCH(MIN($G$5:$J$5),$G$5:$J$5,0)))*E8 -> 210000
B9: =B8+1 -> 4 | C9: Автоматизированный терминал №4 МПС Б.Васильево | D9: 86.21.10.120 | E9: 12 | F9: месяц | G9: 17500 | H9: 18000 | I9: 20000 | J9: 23000 | K9: =ROUND(AVERAGE('Расчет 2 - НМЦД'!$G9:$J9),2) -> 19625 | L9: =_xlfn.STDEV.S('Расчет 2 - НМЦД'!$G9:$J9) -> 2495.8299 | M9: =L9/K9 -> 0.12717604 | N9: =(INDEX(G9:J9,MATCH(MIN($G$5:$J$5),$G$5:$J$5,0)))*E9 -> 210000
B10: =B9+1 -> 5 | C10: Автоматизированный терминал №5 МПС Смиркино | D10: 86.21.10.120 | E10: 12 | F10: месяц | G10: 17500 | H10: 18000 | I10: 20000 | J10: 23000 | K10: =ROUND(AVERAGE('Расчет 2 - НМЦД'!$G10:$J10),2) -> 19625 | L10: =_xlfn.STDEV.S('Расчет 2 - НМЦД'!$G10:$J10) -> 2495.8299 | M10: =L10/K10 -> 0.12717604 | N10: =(INDEX(G10:J10,MATCH(MIN($G$5:$J$5),$G$5:$J$5,0)))*E10 -> 210000
B11: =B10+1 -> 6 | C11: Автоматизированный терминал №6 МПС Тайное | D11: 86.21.10.120 | E11: 12 | F11: месяц | G11: 17500 | H11: 18000 | I11: 20000 | J11: 23000 | K11: =ROUND(AVERAGE('Расчет 2 - НМЦД'!$G11:$J11),2) -> 19625 | L11: =_xlfn.STDEV.S('Расчет 2 - НМЦД'!$G11:$J11) -> 2495.8299 | M11: =L11/K11 -> 0.12717604 | N11: =(INDEX(G11:J11,MATCH(MIN($G$5:$J$5),$G$5:$J$5,0)))*E11 -> 210000
M12: НМЦД | N12: =SUM(N6:N11) -> 1260000
