Workbook
Name e: {0,"тысячz";1,"тысячаz";2,"тысячиz";5,"тысячz"}
Name eer: {0,"тысячz";1,"тысячаz";2,"тысячиz";5,"тысячz"}
Name ewtert: {"","одинz","дваz","триz","четыреz","пятьz","шестьz","семьz","восемьz","девятьz"}
Name kuu: IF(wetwet=1,wetwe,wetwet&ewtert)
Name n_1: {"","одинz","дваz","триz","четыреz","пятьz","шестьz","семьz","восемьz","девятьz"}
Name n_11: {"","стоz","двестиz","тристаz","четырестаz","пятьсотz","шестьсотz","семьсотz","восемьсотz","девятьсотz"}
Name n_2: {"десятьz","одиннадцатьz","двенадцатьz","тринадцатьz","четырнадцатьz","пятнадцатьz","шестнадцатьz","семнадцатьz","восемнадцатьz","девятнадцатьz"}
Name n_3: {"";1;"двадцатьz";"тридцатьz";"сорокz";"пятьдесятz";"шестьдесятz";"семьдесятz";"восемьдесятz";"девяностоz"}
Name n_5: {"","однаz","двеz","триz","четыреz","пятьz","шестьz","семьz","восемьz","девятьz"}
Name n0: "000000000000"&MID(1/2,2,1)&"00"
Name n0x: IF(n_3=1,n_2,n_3&n_1)
Name n1x: IF(n_3=1,n_2,n_3&n_5)
Name rete: {"","стоz","двестиz","тристаz","четырестаz","пятьсотz","шестьсотz","семьсотz","восемьсотz","девятьсотz"}
Name uyt: IF(wetwet=1,wetwe,wetwet&wetwer)
Name wetwe: {"десятьz","одиннадцатьz","двенадцатьz","тринадцатьz","четырнадцатьz","пятнадцатьz","шестнадцатьz","семнадцатьz","восемнадцатьz","девятнадцатьz"}
Name wetwer: {"","однаz","двеz","триz","четыреz","пятьz","шестьz","семьz","восемьz","девятьz"}
Name wetwet: {"";1;"двадцатьz";"тридцатьz";"сорокz";"пятьдесятz";"шестьдесятz";"семьдесятz";"восемьдесятz";"девяностоz"}
Name ytt: {0,"овz";1,"z";2,"аz";5,"овz"}
Name мил: {0,"овz";1,"z";2,"аz";5,"овz"}
Name тыс: {0,"тысячz";1,"тысячаz";2,"тысячиz";5,"тысячz"}

Sheet Сводная №12-01
C1: Приложение N 11 к Методике определения сметной стоимости строительства,реконструкции, капитального ремонта, сноса объектов капитальногостроительства, работ по сохранениюобъектов культурного наследия (памятников истории и культуры)народов Российской Федерациина территории Российской едерации,утвержденной приказом Министерствастроительства и жилищно-коммунального хозяйства Российской Федерацииот 4 августа 2020 г. N 421/пр
A2: СВОДНАЯ СМЕТА 12-01
A3: на проектные, изыскательские работы
B4: Проведение работ по строительству «сухой» снежной свалки для складирования снежных масс с организацией системы транспортировки талой воды на локальные очистные сооружения.г Санкт-Петербург, вн.тер.г. муниципальный округ Народный, ул. Народная, з/у 114
B5: Стадия : Проектная и рабочая документация
B6: Заказчик:
B7: Изыскательская организация:
B8: Проектная организация:
B9: Составлена в уровне цен на 2 кв.2026г
A10: № п.п. | B10: Наименование смет на проектные работы и инженерные изыскания, затрат | C10: Обоснование | D10: Сметная стоимость без НДС, руб. | F10: с НДС
D11: инженерных изысканий | E11: проектных работ
A12: 1 | B12: 2 | C12: 3 | D12: 4 | E12: 5
A13: I | B13: Изыскательские работы
B14: Инженерно-геодезические изыскания | C14: №12-01-01 | D14: ='№12-01-01 ИГеолИ - Форма 2п по '!E142 -> 1073908,02 | F14: =D14*1.22 -> 1310167.8
B15: Инженерно-геологические изыскания | C15: №12-01-02 | D15: ='№12-01-02 ИГеодИ - Форма 2п по '!E81 -> 784421,05 | F15: =D15*1.22 -> 956993.68
B16: Инженерно-экологические изыскания | C16: №12-01-03 | D16: ='№12-01-03 ИЭИ - Форма 2п по Мет'!E214 -> 1245812,79 | F16: =D16*1.22 -> 1519891.6
B17: Инженерно-гидрометеорологические изыскания | C17: №12-01-04 | D17: ='№12-01-04 Проектная смета ИГМИ'!E109 -> 726343,06 | F17: =D17*1.22 -> 886138.53
A18: II | B18: Проектная документация
B19: Проектные работы.ПД | C19: №12-02-01 | E19: ='№12-02-01 ПД - Форма 2п по Мето'!E351 -> 20078310,00 | F19: =E19*1.22 -> 24495538
A21: III | B21: Рабочая документация
B23: Проектные работы.РД | C23: №12-02-02 | E23: ='№12-02-02 РД - Форма 2п по'!E351 -> 13911700,00 | F23: =E23*1.22 -> 16972274
B26: Итого по видам работ | D26: =D14+D15+D16+D17 -> 3830484.9 | E26: =E19+E23 -> 33990010 | F26: =D26*1.22 -> 4673191.6
B27: Всего без НДС | D27: =D26+E26 -> 37820495 | F27: =D27*1.22 -> 46141004
B29: Всего | D29: =SUM(D27:E28) -> 37820495
B30: НДС 22% | D30: =D29*22% -> 8320508.9
B31: Всего | D31: =SUM(D29:E30) -> 46141004
B33: Руководитель проектной организации _____________
D34: [подпись (инициалы, фамилия)]
B35: Главный инженер проекта ______________
D36: [подпись (инициалы, фамилия)]
B37: Начальник _______________
C38: [подпись (инициалы, фамилия)] | D38: [подпись (инициалы, фамилия)]
B40: Заказчик ________________
C41: [должность, подпись (инициалы, фамилия)] | D41: [подпись (инициалы, фамилия)]

Sheet №12-01-01 ИГеолИ - Форма 2п по 
E2: Приложение № 7
E3: Утверждено приказом Минстроя РФ № 707/пр от 01 октября 2021 г c учетом изменений по приказу № 409/пр от 08.06.2023 года
A4: СМЕТА № 12-01-01
A5: на проектные работы
A6: Проведение работ по строительству «сухой» снежной свалки для складирования снежных масс с организацией системы транспортировки талой воды на локальные очистные сооружения., Проведение работ по строительству «сухой» снежной свалки для складирования снежных масс с организацией системы транспортировки талой воды на локальные очистные сооружения.г Санкт-Петербург, вн.тер.г. муниципальный округ Народный, ул. Народная, з/у 114, на инженерно-геологические изыскания | M6: Проведение работ по строительству «сухой» снежной свалки для складирования снежных масс с организацией системы транспортировки талой воды на локальные очистные сооружения., Проведение работ по строительству «сухой» снежной свалки для складирования снежных масс с организацией системы транспортировки талой воды на локальные очистные сооружения.г Санкт-Петербург, вн.тер.г. муниципальный округ Народный, ул. Народная, з/у 114, на инженерно-геологические изыскания
A7: (наименование стройки)
A9: Заказчик
A11: (наименование организации)
A12: Проектная организация
A14: (наименование организации)
A16: Составлена в уровне цен на 2кв.2026г
A18: № пп | B18: Наименование объекта проектирования или вида проектных работ | C18: Наименование, номера глав, таблиц, параграфов и пунктов МНЗ на проектные работы | D18: Расчет стоимости | E18: Сметная стоимость, руб.
A19: 1 | B19: 2 | C19: 3 | D19: 4 | E19: 5
A20: Раздел 1. Полевые работы
A21: 1 | B21: Рекогносцировочное почвенное обследование при проходимости удовлетворительной: 2 категория сложности, полевые работы, 1 (1 км маршрута) | C21: СБЦ "Инженерно-геологические и инженерно-экологические изыскания для строительства (1999)" табл.9 п.5-2-1 (СБЦ103-9-5-2-1) | D21: (4,33*1)*1,1*1,1*0,85*1,3*80,58 (A*X)*К1*К2*К3*К4*Кинф | E21: 466.51
C22: При выдаче заказчику промежуточных материалов изысканий (если это предусмотрено техническим заданием, программой) | D22: К1 = 1,1 (ОУ п.15)
C23: для 2 категории сложности | D23: К2 = 1,1 (прим.1)
C24: При проведении полевых работ без выплаты работникам командировочных или полевого довольствия | D24: К3 = 0,85 (ОУ п.14)
C25: При выполнении полевых изыскательских работ в неблагоприятный период года: при продолжительности неблагоприятного периода 6-7,5 мес. | D25: К4 = 1,3 (ОУ п.8г)
C26: С индексом в ценах 2 квартала 2026 года по письму Минстроя России от 08.04.2026г. №20212-ИФ/09 (к ценам 1991г) к изыскательским работам | D26: Кинф = 80,5800 (1)
A27: Буровые и горнопроходческие работы
A28: 2 | B28: Колонковое бурение скважины диаметром до 160мм, глубиной до 15м: категория породы 2, 75 (м) | C28: СБЦ "Инженерно-геологические и инженерно-экологические изыскания для строительства (1999)" табл.17 п.1-2 (СБЦ103-17-1-2) | D28: (38,4*75)*1,3*0,85*1,1*80,58 где количество 5*15 = 75 (A*X)*К1*К2*К3*Кинф | E28: 282081.57
C29: При выполнении полевых изыскательских работ в неблагоприятный период года: при продолжительности неблагоприятного периода 6-7,5 мес. | D29: К1 = 1,3 (ОУ п.8г)
C30: При проведении полевых работ без выплаты работникам командировочных или полевого довольствия | D30: К2 = 0,85 (ОУ п.14)
C31: При выдаче заказчику промежуточных материалов изысканий (если это предусмотрено техническим заданием, программой) | D31: К3 = 1,1 (ОУ п.15)
C32: С индексом в ценах 2 квартала 2026 года по письму Минстроя России от 08.04.2026г. №20212-ИФ/09 (к ценам 1991г) к изыскательским работам | D32: Кинф = 80,5800 (1)
A33: 3 | B33: Плановая и высотная привязка при расстоянии между геологическими выработками или точками до 50м: категория сложности 2, 5 (1 выработка (точка)) | C33: СБЦ "Инженерно-геологические и инженерно-экологические изыскания для строительства (1999)" табл.93 п.1-2 (СБЦ103-93-1-2) | D33: (8,5*5)*1,1*1,1*0,85*1,3*80,58 (A*X)*К1*К2*К3*К4*Кинф | E33: 4578.93
C34: При выдаче заказчику промежуточных материалов изысканий (если это предусмотрено техническим заданием, программой) | D34: К1 = 1,1 (ОУ п.15)
C35: для 2 категории сложности | D35: К2 = 1,1 (прим.1)
C36: При проведении полевых работ без выплаты работникам командировочных или полевого довольствия | D36: К3 = 0,85 (ОУ п.14)
C37: При выполнении полевых изыскательских работ в неблагоприятный период года: при продолжительности неблагоприятного периода 6-7,5 мес. | D37: К4 = 1,3 (ОУ п.8г)
C38: С индексом в ценах 2 квартала 2026 года по письму Минстроя России от 08.04.2026г. №20212-ИФ/09 (к ценам 1991г) к изыскательским работам | D38: Кинф = 80,5800 (1)
A39: 4 | B39: Гидрогеологические наблюдения при бурении скважины диаметром до 160мм глубиной до 15м, 75 (м) | C39: СБЦ "Инженерно-геологические и инженерно-экологические изыскания для строительства (1999)" табл.18 п.1-1 (СБЦ103-18-1-1) | D39: (1,6*75)*1,3*0,85*1,1*80,58 где количество 75 = 75 (A*X)*К2*К3*К4*Кинф | E39: 11753.4
C40: При выполнении полевых изыскательских работ в неблагоприятный период года: при продолжительности неблагоприятного периода 6-7,5 мес. | D40: К2 = 1,3 (ОУ п.8г)
C41: При проведении полевых работ без выплаты работникам командировочных или полевого довольствия | D41: К3 = 0,85 (ОУ п.14)
C42: При выдаче заказчику промежуточных материалов изысканий (если это предусмотрено техническим заданием, программой) | D42: К4 = 1,1 (ОУ п.15)
C43: С индексом в ценах 2 квартала 2026 года по письму Минстроя России от 08.04.2026г. №20212-ИФ/09 (к ценам 1991г) к изыскательским работам | D43: Кинф = 80,5800 (1)
A44: 5 | B44: Крепление скважины при бурении диаметром до 160мм глубиной до 15м, 75 (м) | C44: СБЦ "Инженерно-геологические и инженерно-экологические изыскания для строительства (1999)" табл.18 п.4-1 (СБЦ103-18-4-1) | D44: (2,1*75)*1,3*0,85*1,1*80,58 где количество 75 = 75 (A*X)*К1*К2*К3*Кинф | E44: 15426.34
C45: При выполнении полевых изыскательских работ в неблагоприятный период года: при продолжительности неблагоприятного периода 6-7,5 мес. | D45: К1 = 1,3 (ОУ п.8г)
C46: При проведении полевых работ без выплаты работникам командировочных или полевого довольствия | D46: К2 = 0,85 (ОУ п.14)
...

Sheet №12-01-02 ИГеодИ - Форма 2п по 
E2: Приложение № 7
E3: Утверждено приказом Минстроя РФ № 707/пр от 01 октября 2021 г c учетом изменений по приказу № 409/пр от 08.06.2023 года
A4: СМЕТА № 12-01-02
A5: на проектные работы
A6: Проведение работ по строительству «сухой» снежной свалки для складирования снежных масс с организацией системы транспортировки талой воды на локальные очистные сооружения., Проведение работ по строительству «сухой» снежной свалки для складирования снежных масс с организацией системы транспортировки талой воды на локальные очистные сооружения.г Санкт-Петербург, вн.тер.г. муниципальный округ Народный, ул. Народная, з/у 114, на инженерно-геодезические изыскания | M6: Проведение работ по строительству «сухой» снежной свалки для складирования снежных масс с организацией системы транспортировки талой воды на локальные очистные сооружения., Проведение работ по строительству «сухой» снежной свалки для складирования снежных масс с организацией системы транспортировки талой воды на локальные очистные сооружения.г Санкт-Петербург, вн.тер.г. муниципальный округ Народный, ул. Народная, з/у 114, на инженерно-геодезические изыскания
A7: (наименование стройки)
A9: Заказчик
A11: (наименование организации)
A12: Проектная организация
A14: (наименование организации)
A16: Составлена в уровне цен на 2кв.2026г
A18: № пп | B18: Наименование объекта проектирования или вида проектных работ | C18: Наименование, номера глав, таблиц, параграфов и пунктов МНЗ на проектные работы | D18: Расчет стоимости | E18: Сметная стоимость, руб.
A19: 1 | B19: 2 | C19: 3 | D19: 4 | E19: 5
A20: Раздел 1. Полевые работы.
A21: 1 | B21: Создание пунктов плановой опорной геодезической сети без закладки центров методом спутниковых геодезических определений, 1-го разряда в условиях выполнения полевых работ: II категории, 2 (1 пункт) | C21: НЗ_ИГДИ. Нормативные затраты на работы по инженерно-геодезическим изысканиям (2024). Таблица 7. п.5 (НЗ_ИГДИ-7-5) | D21: (41587*2)*1,25 (A*X)*Кинф | E21: 103967.5
C22: С индексом в ценах 2 квартала 2026 года по письму Минстроя России от 08.04.2026г. №20212-ИФ/09 (к ценам 2024г) к изыскательским работам | D22: Кинф = 1,2500 (3)
A23: 2 | B23: Топографическая съемка тахеометрическим методом и сочетанием тахеометрического метода с методом спутниковых геодезических определений с высотой сечения рельефа через 0,5 метров, застроенной территории в масштабе 1:500 в условиях выполнения полевых работ: I категории, 10,8 (1 гектар) | C23: НЗ_ИГДИ. Нормативные затраты на работы по инженерно-геодезическим изысканиям (2024). Таблица 18. п.10 (НЗ_ИГДИ-18-10) | D23: (26170*10,8)*1,25 где количество 10,8 = 10,8 (A*X)*Кинф | E23: 353295
C24: С индексом в ценах 2 квартала 2026 года по письму Минстроя России от 08.04.2026г. №20212-ИФ/09 (к ценам 2024г) к изыскательским работам | D24: Кинф = 1,2500 (3)
A25: 3 | B25: Инженерно-геодезические изыскания трасс магистральных трубопроводов: 1 категории сложности - полевые работы, 1 (км) | C25: СБЦ "Инженерно-геодезические изыскания (2004)" табл.13 п.1-1-1 (СБЦ102-13-1-1-1) | D25: (5790*1)*0,85*1,3*1,2*1,1*7,07 (A*X)*К1*К6*К2*К3*Кинф | E25: 59708.23
C26: При выполнении полевых работ без выплаты полевого довольствия | D26: К1 = 0,85 (ОУ п.14)
C27: При выполнении полевых изыскательских работ, а также выполняемых в условиях полевого лагеря камеральных работ в неблагоприятный период года, при продолжительности неблагоприятного периода 6-7,5 мес. | D27: К6 = 1,3 (ОУ п.8в)
C28: Для планов подземных коммуникаций на незастроенных территориях с применением трубокабелеискателей | D28: К2 = 1,2 (прим.4)
C29: При выдаче заказчику промежуточных материалов изысканий (если это предусмотрено техническим заданием или программой работ) | D29: К3 = 1,1 (ОУ п.15а)
C30: С индексом в ценах 2 квартала 2026 года по письму Минстроя России от 08.04.2026г. №20212-ИФ/09 (к ценам 2001г) к изыскательским работам | D30: Кинф = 7,0700 (2)
B31: Итоги по разделу 1 Полевые работы.:
B32: Итого Поз. 1-3 | E32: 516 970,73
B33: Итого по разделу 1 Полевые работы. | E33: 516 970,73
A34: Раздел 2. Камеральные работы.
A35: 4 | B35: Камеральная обработка результатов измерений, выполненных при создании пунктов плановой опорной геодезической сети 4-го класса, 1-го и 2-го разрядов, 2 (1 пункт) | C35: НЗ_ИГДИ. Нормативные затраты на работы по инженерно-геодезическим изысканиям (2024). Таблица 16. п.1 (НЗ_ИГДИ-16-1) | D35: (1714*2)*1,25 где количество 2 = 2 (A*X)*Кинф | E35: 4285
C36: С индексом в ценах 2 квартала 2026 года по письму Минстроя России от 08.04.2026г. №20212-ИФ/09 (к ценам 2024г) к изыскательским работам | D36: Кинф = 1,2500 (3)
A37: 5 | B37: Согласование нанесения на инженерно-топографический план подземных инженерных коммуникаций и их технических характеристик с собственниками (эксплуатирующими организациями): известными, 4 (1 собственник (эксплуатирующая организация)) | C37: НЗ_ИГДИ. Нормативные затраты на работы по инженерно-геодезическим изысканиям (2024). Таблица 82. п.1 (НЗ_ИГДИ-82-1) | D37: (21451*4)*1,25 (A*X)*Кинф | E37: 107255
C38: С индексом в ценах 2 квартала 2026 года по письму Минстроя России от 08.04.2026г. №20212-ИФ/09 (к ценам 2024г) к изыскательским работам | D38: Кинф = 1,2500 (3)
A39: 6 | B39: Камеральные работы по составлению программы инженерно-геодезических изысканий при общей стоимости полевых и камеральных работ, определенной по показателям затрат, приведенным в НЗ: до 100 тысяч рублей включительно, 1 (1 программа) | C39: НЗ_ИГДИ. Нормативные затраты на работы по инженерно-геодезическим изысканиям (2024). Таблица 80. п.1 (НЗ_ИГДИ-80-1) | D39: (6205*1)*1,25 (B*X)*Кинф | E39: 7756.25
C40: С индексом в ценах 2 квартала 2026 года по письму Минстроя России от 08.04.2026г. №20212-ИФ/09 (к ценам 2024г) к изыскательским работам | D40: Кинф = 1,2500 (3)
A41: 7 | B41: Камеральные работы по составлению технического отчета по результатам выполнения работ по ИГДИ при общей стоимости полевых и камеральных работ, определенной по показателям затрат, приведенным в НЗ: до 100 тысяч рублей включительно, 1 (1 отчет) | C41: НЗ_ИГДИ. Нормативные затраты на работы по инженерно-геодезическим изысканиям (2024). Таблица 80. п.1 (НЗ_ИГДИ-81-1) | D41: (19000*1)*1,25 где количество 1 = 1 (B*X)*Кинф | E41: 23750
C42: С индексом в ценах 2 квартала 2026 года по письму Минстроя России от 08.04.2026г. №20212-ИФ/09 (к ценам 2024г) к изыскательским работам | D42: Кинф = 1,2500 (3)
A43: 8 | B43: Инженерно-геодезические изыскания трасс магистральных трубопроводов: 1 категории сложности - камеральные работы, 1 (км) | C43: СБЦ "Инженерно-геодезические изыскания (2004)" табл.13 п.1-1-2 (СБЦ102-13-1-1-2) | D43: (3302*1)*1,2*1,1*1,1*7,07 где количество 1 = 1 (A*X)*К5*К6*К1*Кинф | E43: 33897.14
C44: При выполнении камеральных и картографических работ с применением компьютерных технологий | D44: К5 = 1,2 (ОУ п.15д)
C45: При сдаче технического отчета в Федеральный фонд к стоимости камеральных работ | D45: К6 = 1,1 (Ч.1 ОП п.5)
C46: При выдаче заказчику промежуточных материалов изысканий (если это предусмотрено техническим заданием или программой работ) | D46: К1 = 1,1 (ОУ п.15а)
...

Sheet №12-01-03 ИЭИ - Форма 2п по Мет
E2: Приложение № 7
E3: Утверждено приказом Минстроя РФ № 707/пр от 01 октября 2021 г c учетом изменений по приказу № 409/пр от 08.06.2023 года
A4: СМЕТА № 12-01-03
A5: на проектные работы
A6: Проведение работ по строительству «сухой» снежной свалки для складирования снежных масс с организацией системы транспортировки талой воды на локальные очистные сооружения., Проведение работ по строительству «сухой» снежной свалки для складирования снежных масс с организацией системы транспортировки талой воды на локальные очистные сооружения.г Санкт-Петербург, вн.тер.г. муниципальный округ Народный, ул. Народная, з/у 114, на инженерно-экологические изыскания | M6: Проведение работ по строительству «сухой» снежной свалки для складирования снежных масс с организацией системы транспортировки талой воды на локальные очистные сооружения., Проведение работ по строительству «сухой» снежной свалки для складирования снежных масс с организацией системы транспортировки талой воды на локальные очистные сооружения.г Санкт-Петербург, вн.тер.г. муниципальный округ Народный, ул. Народная, з/у 114, на инженерно-экологические изыскания
A7: (наименование стройки)
A9: Заказчик
A11: (наименование организации)
A12: Проектная организация
A14: (наименование организации)
A16: Составлена в уровне цен на 2кв.2026г
A18: № пп | B18: Наименование объекта проектирования или вида проектных работ | C18: Наименование, номера глав, таблиц, параграфов и пунктов МНЗ на проектные работы | D18: Расчет стоимости | E18: Сметная стоимость, руб.
A19: 1 | B19: 2 | C19: 3 | D19: 4 | E19: 5
A20: Раздел 1. Полевые работы
A22: 1 | B22: Наблюдения при передвижении по маршруту при составлении инженерно-геологической, гидрогеологической, почвенной, инженерно-экологической карты в масштабе 1:2000-1:1000: проходимость удовлетворительная, камеральные работы, 1 (1 км маршрута) | C22: СБЦ "Инженерно-геологические и инженерно-экологические изыскания для строительства (1999)" табл.10 п.4-2-2 (СБЦ103-10-4-2-2) | D22: (2,1*1)*1,1*0,85*1,3*1,3*80,58 (A*X)*К2*К3*К4*К5*Кинф | E22: 267.39
C23: для 2 категории сложности | D23: К2 = 1,1 (прим.1)
C24: При проведении полевых работ без выплаты работникам командировочных или полевого довольствия | D24: К3 = 0,85 (ОУ п.14)
C25: При выполнении полевых изыскательских работ в неблагоприятный период года: при продолжительности неблагоприятного периода 6-7,5 мес. | D25: К4 = 1,3 (ОУ п.8г)
C26: при выполнении эколого-радиационных изысканий с измерением гамма-излучения | D26: К5 = 1,3 (прим.1)
C27: С индексом в ценах 2 квартала 2026 года по письму Минстроя России от 08.04.2026г. №20212-ИФ/09 (к ценам 1991г) к изыскательским работам | D27: Кинф = 80,5800 (1)
A28: 2 | B28: Описание точек наблюдений при составлении инженерно-геологических (гидрогеологических) карт: категория сложности 1, полевые работы, 2 (1 точка) | C28: СБЦ "Инженерно-геологические и инженерно-экологические изыскания для строительства (1999)" табл.11 п.1-1-1 (СБЦ103-11-1-1-1) | D28: (6,8*2)*1,1*0,85*1,3*1,3*80,58 (A*X)*К2*К3*К4*К5*Кинф | E28: 1731.67
C29: для 2 категории сложности | D29: К2 = 1,1 (прим.1)
C30: При проведении полевых работ без выплаты работникам командировочных или полевого довольствия | D30: К3 = 0,85 (ОУ п.14)
C31: При выполнении полевых изыскательских работ в неблагоприятный период года: при продолжительности неблагоприятного периода 6-7,5 мес. | D31: К4 = 1,3 (ОУ п.8г)
C32: комплексные карты и карта с нанесением данных радиометрических наблюдений | D32: К5 = 1,3 (прим.1)
C33: С индексом в ценах 2 квартала 2026 года по письму Минстроя России от 08.04.2026г. №20212-ИФ/09 (к ценам 1991г) к изыскательским работам | D33: Кинф = 80,5800 (1)
A34: 3 | B34: Радиационное обследование участка площадью: св. 1.0 га - полевые работы, 108 (0,1 га) | C34: СБЦ "Инженерно-геологические и инженерно-экологические изыскания для строительства (1999)" табл.92 п.3-1 (СБЦ103-92-3-1) | D34: (49,2*108)*1,1*0,85*1,3*80,58 где количество 10,8/0,1 = 108 (A*X)*К2*К3*К4*Кинф | E34: 520440.5
C35: для 2 категории сложности | D35: К2 = 1,1 (прим.1)
C36: При проведении полевых работ без выплаты работникам командировочных или полевого довольствия | D36: К3 = 0,85 (ОУ п.14)
C37: При выполнении полевых изыскательских работ в неблагоприятный период года: при продолжительности неблагоприятного периода 6-7,5 мес. | D37: К4 = 1,3 (ОУ п.8г)
C38: С индексом в ценах 2 квартала 2026 года по письму Минстроя России от 08.04.2026г. №20212-ИФ/09 (к ценам 1991г) к изыскательским работам | D38: Кинф = 80,5800 (1)
A39: 4 | B39: Измерение потока радона на участке - полевые работы, 0,75 (20 точек) | C39: СБЦ "Инженерно-геологические и инженерно-экологические изыскания для строительства (1999)" табл.91 п.1-1 (СБЦ103-91-1-1) | D39: (535*0,75)*1,1*0,85*1,3*80,58 где количество 15/20 = 0,75 (A*X)*К2*К3*К4*Кинф | E39: 39300.43
C40: для 2 категории сложности | D40: К2 = 1,1 (прим.1)
C41: При проведении полевых работ без выплаты работникам командировочных или полевого довольствия | D41: К3 = 0,85 (ОУ п.14)
C42: При выполнении полевых изыскательских работ в неблагоприятный период года: при продолжительности неблагоприятного периода 6-7,5 мес. | D42: К4 = 1,3 (ОУ п.8г)
C43: С индексом в ценах 2 квартала 2026 года по письму Минстроя России от 08.04.2026г. №20212-ИФ/09 (к ценам 1991г) к изыскательским работам | D43: Кинф = 80,5800 (1)
A44: Отбор проб
A45: 5 | B45: Отбор точечных проб для анализа на загрязненность по химическим показателям: воды с поверхности, 3 (1 проба) | C45: СБЦ "Инженерно-геологические и инженерно-экологические изыскания для строительства (1999)" табл.60 п.1 (СБЦ103-60-1) | D45: (4,6*3)*0,85*1,3*80,58 (A*X)*К3*К4*Кинф | E45: 1228.76
C46: При проведении полевых работ без выплаты работникам командировочных или полевого довольствия | D46: К3 = 0,85 (ОУ п.14)
C47: При выполнении полевых изыскательских работ в неблагоприятный период года: при продолжительности неблагоприятного периода 6-7,5 мес. | D47: К4 = 1,3 (ОУ п.8г)
...

Sheet №12-01-04 Проектная смета  ИГМИ
E2: Приложение № 7
E3: Утверждено приказом Минстроя РФ № 707/пр от 01 октября 2021 г c учетом изменений по приказу № 409/пр от 08.06.2023 года
A4: СМЕТА № 12-01-04
A5: на проектные работы
A6: Проведение работ по строительству «сухой» снежной свалки для складирования снежных масс с организацией системы транспортировки талой воды на локальные очистные сооружения., Проведение работ по строительству «сухой» снежной свалки для складирования снежных масс с организацией системы транспортировки талой воды на локальные очистные сооружения.г Санкт-Петербург, вн.тер.г. муниципальный округ Народный, ул. Народная, з/у 114, на инженерно-гидрометеорологические изыскания | M6: Проведение работ по строительству «сухой» снежной свалки для складирования снежных масс с организацией системы транспортировки талой воды на локальные очистные сооружения., Проведение работ по строительству «сухой» снежной свалки для складирования снежных масс с организацией системы транспортировки талой воды на локальные очистные сооружения.г Санкт-Петербург, вн.тер.г. муниципальный округ Народный, ул. Народная, з/у 114, на инженерно-гидрометеорологические изыскания
A7: (наименование стройки)
A9: Заказчик
A11: (наименование организации)
A12: Проектная организация
A14: (наименование организации)
A16: Составлена в уровне цен на 2кв.2026г
A18: № пп | B18: Наименование объекта проектирования или вида проектных работ | C18: Наименование, номера глав, таблиц, параграфов и пунктов МНЗ на проектные работы | D18: Расчет стоимости | E18: Сметная стоимость, руб.
A19: 1 | B19: 2 | C19: 3 | D19: 4 | E19: 5
A20: Раздел 1. Полевые работы
A21: 1 | B21: Рекогносцировочное обследование реки: категория сложности 2, полевые работы, 1 (1 км реки) | C21: СБЦ "Инженерно-гидрографические работы. Инженерно-гидрометеорологические изыскания на реках (2001)" табл.43 п.1-2-1 (СБЦ104-43-1-2-1) | D21: (30*1)*1,3*1,25*0,85*1,1*80,58 (A*X)*К1*К2*К3*К4*Кинф | E21: 3672.94
C22: При выполнении полевых изыскательских работ в неблагоприятный период года продолжительностью 6-7,5 мес. | D22: К1 = 1,3 (ОУ п.8г)
C23: При рекогносцировочном обследовании реки и ее бассейна с выполнением экологических наблюдений или для целей водоснабжения с обследованием санитарного состояния участка | D23: К2 = 1,25 (Ч.2,Гл.8,Прим.)
C24: При проведении полевых работ без выплаты работникам командировочных или полевого довольствия | D24: К3 = 0,85 (ОУ п.14)
C25: При необходимости выдачи заказчику промежуточных материалов изысканий (если это предусмотрено техническим заданием, программой) | D25: К4 = 1,1 (ОУ п.15)
C26: С индексом в ценах 2 квартала 2026 года по письму Минстроя России от 08.04.2026г. №20212-ИФ/09 (к ценам 1991г) к изыскательским работам | D26: Кинф = 80,5800 (1)
A27: 2 | B27: Установление высот высоких и других характерных уровней воды прошлых лет при удалении найденных точек от оси морфоствора 1 км: категория сложности 2, 1 (1 комплекс показаний в одном поселке) | C27: СБЦ "Инженерно-гидрографические работы. Инженерно-гидрометеорологические изыскания на реках (2001)" табл.25 п.1-2 (СБЦ104-25-1-2) | D27: (133*1)*1,3*1,25*0,85*1,1*80,58 (A*X)*К1*К2*К3*К4*Кинф | E27: 16283.35
C28: При выполнении полевых изыскательских работ в неблагоприятный период года продолжительностью 6-7,5 мес. | D28: К1 = 1,3 (ОУ п.8г)
C29: При рекогносцировочном обследовании реки и ее бассейна с выполнением экологических наблюдений или для целей водоснабжения с обследованием санитарного состояния участка | D29: К2 = 1,25 (Ч.2,Гл.8,Прим.)
C30: При проведении полевых работ без выплаты работникам командировочных или полевого довольствия | D30: К3 = 0,85 (ОУ п.14)
C31: При необходимости выдачи заказчику промежуточных материалов изысканий (если это предусмотрено техническим заданием, программой) | D31: К4 = 1,1 (ОУ п.15)
C32: С индексом в ценах 2 квартала 2026 года по письму Минстроя России от 08.04.2026г. №20212-ИФ/09 (к ценам 1991г) к изыскательским работам | D32: Кинф = 80,5800 (1)
A33: 3 | B33: Промеры глубин малых рек и каналов-водоприемников шириной свыше 25 до 50 м: категория сложности 2, полевые работы, 1 (1 профиль) | C33: СБЦ "Инженерно-гидрографические работы. Инженерно-гидрометеорологические изыскания на реках (2001)" табл.9 п.33-2-1 (СБЦ104-9-33-2-1) | D33: (10*1)*1,3*1,25*0,85*1,1*80,58 (A*X)*К1*К2*К3*К4*Кинф | E33: 1224.31
C34: При выполнении полевых изыскательских работ в неблагоприятный период года продолжительностью 6-7,5 мес. | D34: К1 = 1,3 (ОУ п.8г)
C35: При рекогносцировочном обследовании реки и ее бассейна с выполнением экологических наблюдений или для целей водоснабжения с обследованием санитарного состояния участка | D35: К2 = 1,25 (Ч.2,Гл.8,Прим.)
C36: При проведении полевых работ без выплаты работникам командировочных или полевого довольствия | D36: К3 = 0,85 (ОУ п.14)
C37: При необходимости выдачи заказчику промежуточных материалов изысканий (если это предусмотрено техническим заданием, программой) | D37: К4 = 1,1 (ОУ п.15)
C38: С индексом в ценах 2 квартала 2026 года по письму Минстроя России от 08.04.2026г. №20212-ИФ/09 (к ценам 1991г) к изыскательским работам | D38: Кинф = 80,5800 (1)
A39: 4 | B39: Разбивка и нивелирование морфометрического створа: категория сложности 2, полевые работы, 1 (1 км морфометрического створа) | C39: СБЦ "Инженерно-гидрографические работы. Инженерно-гидрометеорологические изыскания на реках (2001)" табл.24 п.1-2-1 (СБЦ104-24-1-2-1) | D39: (161*1)*1,3*1,25*0,85*1,1*80,58 где количество 1 = 1 (A*X)*К1*К2*К3*К4*Кинф | E39: 19711.43
C40: При выполнении полевых изыскательских работ в неблагоприятный период года продолжительностью 6-7,5 мес. | D40: К1 = 1,3 (ОУ п.8г)
C41: При рекогносцировочном обследовании реки и ее бассейна с выполнением экологических наблюдений или для целей водоснабжения с обследованием санитарного состояния участка | D41: К2 = 1,25 (Ч.2,Гл.8,Прим.)
C42: При проведении полевых работ без выплаты работникам командировочных или полевого довольствия | D42: К3 = 0,85 (ОУ п.14)
C43: При необходимости выдачи заказчику промежуточных материалов изысканий (если это предусмотрено техническим заданием, программой) | D43: К4 = 1,1 (ОУ п.15)
C44: С индексом в ценах 2 квартала 2026 года по письму Минстроя России от 08.04.2026г. №20212-ИФ/09 (к ценам 1991г) к изыскательским работам | D44: Кинф = 80,5800 (1)
B45: Итоги по разделу 1 Полевые работы:
B46: Итого Поз. 1-4 | E46: 40 892,03
...

Sheet №12-02-01 ПД - Форма 2п по Мето
E2: Приложение № 7
E3: Утверждено приказом Минстроя РФ № 707/пр от 01 октября 2021 г c учетом изменений по приказу № 409/пр от 08.06.2023 года
A4: СМЕТА № 12-02-01
A5: на проектные работы
A6: Проведение работ по строительству «сухой» снежной свалки для складирования снежных масс с организацией системы транспортировки талой воды на локальные очистные сооружения., Проведение работ по строительству «сухой» снежной свалки для складирования снежных масс с организацией системы транспортировки талой воды на локальные очистные сооружения.г Санкт-Петербург, вн.тер.г. муниципальный округ Народный, ул. Народная, з/у 114, Проектные работы.Стадия ПД | M6: Проведение работ по строительству «сухой» снежной свалки для складирования снежных масс с организацией системы транспортировки талой воды на локальные очистные сооружения., Проведение работ по строительству «сухой» снежной свалки для складирования снежных масс с организацией системы транспортировки талой воды на локальные очистные сооружения.г Санкт-Петербург, вн.тер.г. муниципальный округ Народный, ул. Народная, з/у 114, Проектные работы.Стадия ПД
A7: (наименование стройки)
A9: Заказчик
A11: (наименование организации)
A12: Проектная организация
A14: (наименование организации)
A16: Составлена в уровне цен на 2кв.2026г
A18: № пп | B18: Наименование объекта проектирования или вида проектных работ | C18: Наименование, номера глав, таблиц, параграфов и пунктов МНЗ на проектные работы | D18: Расчет стоимости | E18: Сметная стоимость, руб.
A19: 1 | B19: 2 | C19: 3 | D19: 4 | E19: 5
A20: Раздел 1. Основные здания
A21: 1 | B21: Сооружение для очистки поверхностного стока селитебных территорий и площадок предприятий, производительностью:от 4 до 10 тысяч кубических метров/сутки включительно, 5 (тысяч кубических метров/сутки) | C21: НЗ "О нормативных затратах на работы по подготовке проектной документации для строительства, реконструкции и капитального ремонта объектов водоснабжения, водоотведения и водоочистки" Таблица 3.12 п.4.3 (НЗ_ОВВиВ-3.12-4.3) | D21: (3048100+120767*5)*1,2*1,5*1,11*1,1*0,6*1,27 (A+B*X)*К2*К3*К4*К5*К6*Кинф | E21: 6115980
C22: Проектирование сооружения очистки сточных вод на земельных участках с коэффициентом застройки свыше 0,5 включительно | D22: К2 = 1,2 (ТЧ_р.III_п.45_т.3.12.1_п.1)
C23: Проектирование сооружения для очистки поверхностного стока селитебных территорий и площадок предприятий с организацией последующего сброса очищенных сточных вод в водоемы высшей, первой и второй категории рыбохозяйственного назначения | D23: К3 = 1,5 (ТЧ_р.III_п.45_т.3.12.1_п.2)
C24: Подготовка проектной и рабочей документации объектов водоснабжения и водоотведения, содержащей материалы в форме информационной модели | D24: К4 = 1,11 (ТЧ_р.II_п.23_т.2_п.8)
C25: Проектирование линейных объектов водоснабжения и водоотведения из полимерных труб, требующих проверки на статическую устойчивость в период длительной эксплуатации | D25: К5 = 1,1 (ТЧ_р.II_п.23_т.2_п.3)
C26: Распределение стоимости работ по подготовке проектной и рабочей документации, содержащей материалы в форме информационной модели, по видам разрабатываемой документации приведено в таблице 1.2 настоящего пункта НЗ и уточняется по согласованию между исполнителем и заказчиком. | D26: К6 = 0,6 (ТЧ_р.I_п.9_т.1.2_п.1)
C27: С индексом в ценах 2 квартала 2026 года по письму Минстроя России от 08.04.2026г. №20212-ИФ/09 (к ценам 2024г) к проектным работам | D27: Кинф = 1,2700 (6)
C28: ПЗ | D28: 1%; | E28: 61 160,00
C29: ПЗУ | D29: 3%; | E29: 183 480,00
C30: АР | D30: 8%; | E30: 489 280,00
C31: КР | D31: 13%; | E31: 795 080,00
C32: ИОС: ЭС | D32: 5%; | E32: 305 800,00
C33: ИОС: ВС | D33: 5%; | E33: 305 800,00
C34: ИОС: ВО | D34: 5%; | E34: 305 800,00
C35: ИОС: ОВ | D35: 5%; | E35: 305 800,00
C36: ИОС: СС | D36: 3%; | E36: 183 480,00
C37: ИОС: АВТ | D37: 7%; | E37: 428 120,00
C38: ТХ | D38: 20%; | E38: 1 223 200,00
C39: ПОС | D39: 5%; | E39: 305 800,00
... C43: СМ | D43: 5%; | E43: 305 800,00
C44: Итого ``Коэфф. относительной стоимости`` | D44: 100%
A45: 2 | B45: Сооружение обеззараживания сточных вод, производительностью:от 50 до 800 кубических метров/час включительно, 42 (кубических метров/час) | C45: НЗ "О нормативных затратах на работы по подготовке проектной документации для строительства, реконструкции и капитального ремонта объектов водоснабжения, водоотведения и водоочистки" Таблица 3.12 п.18.1 (НЗ_ОВВиВ-3.12-18.1) | D45: (824900+1334*(0.4*50+0.6*42))*1,2*1,11*1,1*0,6*1,27 где количество 90000/90/24 = 42 (A+B*(0.4*X1+0.6*X))*К2*К3*К4*К6*Кинф | E45: 988310
C46: Проектирование сооружения очистки сточных вод на земельных участках с коэффициентом застройки свыше 0,5 включительно | D46: К2 = 1,2 (ТЧ_р.III_п.45_т.3.12.1_п.1)
C47: Подготовка проектной и рабочей документации объектов водоснабжения и водоотведения, содержащей материалы в форме информационной модели | D47: К3 = 1,11 (ТЧ_р.II_п.23_т.2_п.8)
C48: Проектирование линейных объектов водоснабжения и водоотведения из полимерных труб, требующих проверки на статическую устойчивость в период длительной эксплуатации | D48: К4 = 1,1 (ТЧ_р.II_п.23_т.2_п.3)
C49: Распределение стоимости работ по подготовке проектной и рабочей документации, содержащей материалы в форме информационной модели, по видам разрабатываемой документации приведено в таблице 1.2 настоящего пункта НЗ и уточняется по согласованию между исполнителем и заказчиком. | D49: К6 = 0,6 (ТЧ_р.I_п.9_т.1.2_п.1)
...

Sheet №12-02-02 РД - Форма 2п по
E2: Приложение № 7
E3: Утверждено приказом Минстроя РФ № 707/пр от 01 октября 2021 г c учетом изменений по приказу № 409/пр от 08.06.2023 года
A4: СМЕТА № 12-02-02
A5: на проектные работы
A6: Проведение работ по строительству «сухой» снежной свалки для складирования снежных масс с организацией системы транспортировки талой воды на локальные очистные сооружения., Проведение работ по строительству «сухой» снежной свалки для складирования снежных масс с организацией системы транспортировки талой воды на локальные очистные сооружения.г Санкт-Петербург, вн.тер.г. муниципальный округ Народный, ул. Народная, з/у 114, Проектные работы.Стадия РД | M6: Проведение работ по строительству «сухой» снежной свалки для складирования снежных масс с организацией системы транспортировки талой воды на локальные очистные сооружения., Проведение работ по строительству «сухой» снежной свалки для складирования снежных масс с организацией системы транспортировки талой воды на локальные очистные сооружения.г Санкт-Петербург, вн.тер.г. муниципальный округ Народный, ул. Народная, з/у 114, Проектные работы.Стадия РД
A7: (наименование стройки)
A9: Заказчик
A11: (наименование организации)
A12: Проектная организация
A14: (наименование организации)
A16: Составлена в уровне цен на 2кв.2026г
A18: № пп | B18: Наименование объекта проектирования или вида проектных работ | C18: Наименование, номера глав, таблиц, параграфов и пунктов МНЗ на проектные работы | D18: Расчет стоимости | E18: Сметная стоимость, руб.
A19: 1 | B19: 2 | C19: 3 | D19: 4 | E19: 5
A20: Раздел 1. Основные здания
A21: 1 | B21: Сооружение для очистки поверхностного стока селитебных территорий и площадок предприятий, производительностью:от 4 до 10 тысяч кубических метров/сутки включительно, 5 (тысяч кубических метров/сутки) | C21: НЗ "О нормативных затратах на работы по подготовке проектной документации для строительства, реконструкции и капитального ремонта объектов водоснабжения, водоотведения и водоочистки" Таблица 3.12 п.4.3 (НЗ_ОВВиВ-3.12-4.3) | D21: (3048100+120767*5)*1,2*1,5*1,11*1,1*0,4*1,27 (A+B*X)*К2*К3*К4*К5*К6*Кинф | E21: 4077320
C22: Проектирование сооружения очистки сточных вод на земельных участках с коэффициентом застройки свыше 0,5 включительно | D22: К2 = 1,2 (ТЧ_р.III_п.45_т.3.12.1_п.1)
C23: Проектирование сооружения для очистки поверхностного стока селитебных территорий и площадок предприятий с организацией последующего сброса очищенных сточных вод в водоемы высшей, первой и второй категории рыбохозяйственного назначения | D23: К3 = 1,5 (ТЧ_р.III_п.45_т.3.12.1_п.2)
C24: Подготовка проектной и рабочей документации объектов водоснабжения и водоотведения, содержащей материалы в форме информационной модели | D24: К4 = 1,11 (ТЧ_р.II_п.23_т.2_п.8)
C25: Проектирование линейных объектов водоснабжения и водоотведения из полимерных труб, требующих проверки на статическую устойчивость в период длительной эксплуатации | D25: К5 = 1,1 (ТЧ_р.II_п.23_т.2_п.3)
C26: Распределение стоимости работ по подготовке проектной и рабочей документации, содержащей материалы в форме информационной модели, по видам разрабатываемой документации приведено в таблице 1.2 настоящего пункта НЗ и уточняется по согласованию между исполнителем и заказчиком. | D26: К6 = 0,4 (ТЧ_р.I_п.9_т.1.2_п.1)
C27: С индексом в ценах 2 квартала 2026 года по письму Минстроя России от 08.04.2026г. №20212-ИФ/09 (к ценам 2024г) к проектным работам | D27: Кинф = 1,2700 (6)
C28: ПЗ | D28: ;
C29: ПЗУ | D29: 4%; | E29: 163 090,00
C30: АР | D30: 10%; | E30: 407 730,00
C31: КР | D31: 18%; | E31: 733 920,00
C32: ИОС: ЭС | D32: 6%; | E32: 244 640,00
C33: ИОС: ВС | D33: 6%; | E33: 244 640,00
C34: ИОС: ВО | D34: 6%; | E34: 244 640,00
C35: ИОС: ОВ | D35: 6%; | E35: 244 640,00
C36: ИОС: СС | D36: 4%; | E36: 163 090,00
C37: ИОС: АВТ | D37: 8%; | E37: 326 190,00
C38: ТХ | D38: 25%; | E38: 1 019 330,00
C39: ПОС | D39: ;
C40: ООС | D40: ;
C41: ПБ | D41: ;
C42: ТБЭ | D42: ;
C43: СМ | D43: 7%; | E43: 285 410,00
C44: Итого ``Коэфф. относительной стоимости`` | D44: 100%
A45: 2 | B45: Сооружение обеззараживания сточных вод, производительностью:от 50 до 800 кубических метров/час включительно, 42 (кубических метров/час) | C45: НЗ "О нормативных затратах на работы по подготовке проектной документации для строительства, реконструкции и капитального ремонта объектов водоснабжения, водоотведения и водоочистки" Таблица 3.12 п.18.1 (НЗ_ОВВиВ-3.12-18.1) | D45: (824900+1334*(0.4*50+0.6*42))*1,2*1,11*1,1*0,4*1,27 где количество 90000/90/24 = 42 (A+B*(0.4*X1+0.6*X))*К2*К3*К4*К6*Кинф | E45: 658870
C46: Проектирование сооружения очистки сточных вод на земельных участках с коэффициентом застройки свыше 0,5 включительно | D46: К2 = 1,2 (ТЧ_р.III_п.45_т.3.12.1_п.1)
...
