Workbook

Sheet Парақ1 (2)
A1: РАСЧЕТ НМЦД МЕТОДОМ АНАЛИЗА РЫНКА
B2: цены единицы товара (единичных расценок)
C4: рулон.
C5: бухта.
C6: шт. | E6: 22 | F6: без НДС | G6: без НДС | H6: без НДС
C7: кг. | E7: 20 | F7: НДС в том числе | G7: НДС в том числе | H7: НДС в том числе
C8: т. | E8: 5 | F8: за услугу.
C9: м.п.
C10: м.кв.
C11: лит. | E11: 0 | F11: за еденицу.
A12: № п/п | B12: Наименование каждой единицы товара, работы, услуги | C12: Ед.изм. | D12: Кол-во в ед.изм. | E12: Ставка НДС, % | F12: Информация о рыночных ценах за ед. изм., руб с НДС. | I12: Средня цена за ед. изм., руб с НДС. | J12: Принятая стоимость за ед. изм. , руб. с НДС
F13: предложение №1 | G13: предложение №2 | H13: предложение №3
A17: 1 | B17: 2 | C17: 3 | D17: 4 | E17: 5 | F17: 6 | G17: 7 | H17: 8 | I17: 9 | J17: 10
A18: 1 | B18: Выключатель автоматический 1P 20А C 4.5кА | C18: =[1]Парақ1!C18 -> шт. | D18: 1 | E18: 22 | F18: 540 | G18: 840.61 | H18: 0 | I18: =(AVERAGE(F18,G18))/D18 -> 690.305 | J18: =I18*D18 -> 690.305
A19: 2 | B19: Элемент питания ААA GP | C19: =[1]Парақ1!C19 -> шт. | D19: 1 | E19: 22 | F19: 57 | G19: 76.54 | H19: 0 | I19: =(AVERAGE(F19,G19))/D19 -> 66.77 | J19: =I19*D19 -> 66.77
A20: 3 | B20: Выключатель автоматический 1P 10А C | C20: =[1]Парақ1!C20 -> шт. | D20: 1 | E20: 22 | F20: 195 | G20: 272.39 | H20: 0 | I20: =(AVERAGE(F20,G20))/D20 -> 233.695 | J20: =I20*D20 -> 233.695
A21: 4 | B21: Выключатель автоматический 1P 20А C | C21: =[1]Парақ1!C21 -> шт. | D21: 1 | E21: 22 | F21: 3420 | G21: 4592.5 | H21: 0 | I21: =(AVERAGE(F21,G21))/D21 -> 4006.25 | J21: =I21*D21 -> 4006.25
A22: 5 | B22: Выключатель автоматический 3P 40А С | C22: =[1]Парақ1!C22 -> шт. | D22: 1 | E22: 22 | F22: 207 | G22: 409.92 | H22: 0 | I22: =(AVERAGE(F22,G22))/D22 -> 308.46 | J22: =I22*D22 -> 308.46
A23: 6 | B23: Выключатель автоматический 1P 25А C | C23: =[1]Парақ1!C23 -> шт. | D23: 1 | E23: 22 | F23: 135 | G23: 695.79 | H23: 0 | I23: =(AVERAGE(F23,G23))/D23 -> 415.395 | J23: =I23*D23 -> 415.395
A24: 7 | B24: DIN-рейка L2000 оцинк | C24: =[1]Парақ1!C24 -> шт. | D24: 1 | E24: 22 | F24: 644 | G24: 2293 | H24: 0 | I24: =(AVERAGE(F24,G24))/D24 -> 1468.5 | J24: =I24*D24 -> 1468.5
A25: 8 | B25: Выключатель автоматический 1P 16А C | C25: =[1]Парақ1!C25 -> шт. | D25: 1 | E25: 22 | F25: 175 | G25: 286.56 | H25: 0 | I25: =(AVERAGE(F25,G25))/D25 -> 230.78 | J25: =I25*D25 -> 230.78
A26: 9 | B26: Колодка клеммная ЗВИ-5 1.5-4кв.мм 12 пар | C26: =[1]Парақ1!C26 -> шт. | D26: 1 | E26: 22 | F26: 665 | G26: 385.47 | H26: 0 | I26: =(AVERAGE(F26,G26))/D26 -> 525.235 | J26: =I26*D26 -> 525.235
A27: 10 | B27: Колодка клеммная ЗВИ-30 6-16кв.мм 12 пар | C27: =[1]Парақ1!C27 -> шт. | D27: 1 | E27: 22 | F27: 169 | G27: 256.96 | H27: 0 | I27: =(AVERAGE(F27,G27))/D27 -> 212.98 | J27: =I27*D27 -> 212.98
A28: 11 | B28: Шина нулевая N 6х9 10 отверстий латунь | C28: =[1]Парақ1!C28 -> шт. | D28: 1 | E28: 22 | F28: 41 | G28: 92.75 | H28: 0 | I28: =(AVERAGE(F28,G28))/D28 -> 66.875 | J28: =I28*D28 -> 66.875
A29: 12 | B29: Клемма строительно-монтажная 2-проводная 0.08-2.5кв.мм | C29: =[1]Парақ1!C29 -> шт. | D29: 1 | E29: 22 | F29: 916 | G29: 268.96 | H29: 0 | I29: =(AVERAGE(F29,G29))/D29 -> 592.48 | J29: =I29*D29 -> 592.48
... A36: 19 | B36: Выключатель автоматический 3P 63А С | C36: =[1]Парақ1!C36 -> шт. | D36: 1 | E36: 22 | F36: 1604 | G36: 721.48 | H36: 0 | I36: =(AVERAGE(F36,G36))/D36 -> 1162.74 | J36: =I36*D36 -> 1162.74
A37: итого | F37: =SUM(F17:F36) -> 10269.5 | G37: =SUM(G17:G36) -> 12668.46 | H37: 0 | I37: =SUM(I18:I36) -> 11462.48 | J37: =SUM(J18:J36) -> 11462.48
B39: Цена единичных расценок - 11462,48 рублей с учётом НДС
A40: Исполнитель расчета:
A42: Начальник СЭЗиС _______________/Д.И. Саяпин//
A44: "__" ______________ 2026 г.
