Workbook

Sheet Лист1
J1: Приложение № 7
J2: к извещению о проведении запроса котировок
A4: Обоснование начальной (максимальной) цены договора
A5: на поставку монолитного поликарбоната
A6: Наименование объекта закупки | F6: Поставка монолитного поликарбоната
A7: Основные характеристики объекта закупки: | F7: Согласно Техническому заданию (приложение № 1 и Извещению)
A8: Используемый метод определения НМЦД с обоснованием: | F8: Метод сопоставимых рыночных цен (анализа рынка)
A9: Начальная (максимальная) цена договора: | F9: =K23 -> 833803.2 | G9: рублей
A10: Дата подготовки обоснования НМЦД: | C10: 18.09.2026 г.
A12: Работник контрактной службы/контрактный управляющий:
A13: Специалист отдела закупок
A14: ________________/ Тимановская О.А./
A15: (подпись/расшифровка подписи)
A16: "____" ______________ 2022 г.
A18: РАСЧЁТ НАЧАЛЬНОЙ (МАКСИМАЛЬНОЙ) ЦЕНЫ ДОГОВОРА
A20: № | B20: Наименование объекта закупки | C20: Ед. изм. | D20: Количество | E20: Коммерческие предложения | H20: Однородность совокупности значений выявленных цен, используемых в расчете Н(М)ЦД, ЦКЕП | K20: Н(М)ЦД, ЦКЕП, определяемая методом сопоставимых рыночных цен (анализа рынка)
B21: Номенклатура | E21: Предложение 1 Исход. № УТ-730 от 15.09.2026 г. | F21: Предложение 2 Исход. № ЦБ-79 от 17.09.2026г. | G21: Предложение 3 Исход. № НП-18405 от 17.09.2026 г. | H21: Средняя арифметическая цена за единицу <ц> | I21: Среднее квадратичное отклонение | J21: коэффициент вариации цен V (%) (не должен превышать 33%) | K21: Расчет Н(М)ЦД по формуле | L21: Цена за единицу изм. (руб.)
A22: 1 | B22: Монолитный поликарбонат | C22: лист | D22: 36 | E22: 26013.61 | F22: 20830 | G22: 22640 | H22: =ROUND(AVERAGE(E22:G22),2) -> 23161.2 | I22: =SQRT(((SUM((POWER(G22-H22,2)),(POWER(F22-H22,2)),(POWER(E22-H22,2)))/(COLUMNS(E22:G22)-1)))) -> 2630.816 | J22: =I22/H22*100 -> 11.358721 | K22: =ROUND(D22*H22,2) -> 833803.2 | L22: =ROUND(+K22/D22,2) -> 23161.2
J23: ИТОГО: | K23: =K22 -> 833803.2
F24: (Восемьсот тридцать три тысячи восемьсот три рубля 20 копеек)

Sheet Лист1 (2)
A4: =Лист1!A5 -> на поставку монолитного поликарбоната
A14: РАСЧЁТ НАЧАЛЬНОЙ (МАКСИМАЛЬНОЙ) ЦЕНЫ КОНТРАКТА
A16: № | B16: Наименование объекта закупки | C16: Описание объекта закупки | D16: Ед. изм | E16: Количество
F17: Цена за единицу изм. (руб.)
A18: =Лист1!A22 -> 1 | B18: =Лист1!B22 -> Монолитный поликарбонат | D18: =Лист1!C22 -> лист | E18: =Лист1!D22 -> 36 | F18: =Лист1!L22 -> 23161.2
A19: =#VALUE! -> #VALUE! | B19: =#VALUE! -> #VALUE! | D19: =#VALUE! -> #VALUE! | E19: =#VALUE! -> #VALUE! | F19: =#VALUE! -> #VALUE!
A20: =#VALUE! -> #VALUE! | B20: =#VALUE! -> #VALUE! | D20: =#VALUE! -> #VALUE! | E20: =#VALUE! -> #VALUE! | F20: =#VALUE! -> #VALUE!
A21: =#VALUE! -> #VALUE! | B21: =#VALUE! -> #VALUE! | D21: =#VALUE! -> #VALUE! | E21: =#VALUE! -> #VALUE! | F21: =#VALUE! -> #VALUE!
A22: =#VALUE! -> #VALUE! | B22: =#VALUE! -> #VALUE! | D22: =#VALUE! -> #VALUE! | E22: =#VALUE! -> #VALUE! | F22: =#VALUE! -> #VALUE!
A23: =#VALUE! -> #VALUE! | B23: =#VALUE! -> #VALUE! | D23: =#VALUE! -> #VALUE! | E23: =#VALUE! -> #VALUE! | F23: =#VALUE! -> #VALUE!
A24: =#VALUE! -> #VALUE! | B24: =#VALUE! -> #VALUE! | D24: =#VALUE! -> #VALUE! | E24: =#VALUE! -> #VALUE! | F24: =#VALUE! -> #VALUE!
A25: =#VALUE! -> #VALUE! | B25: =#VALUE! -> #VALUE! | D25: =#VALUE! -> #VALUE! | E25: =#VALUE! -> #VALUE! | F25: =#VALUE! -> #VALUE!
A26: =#VALUE! -> #VALUE! | B26: =#VALUE! -> #VALUE! | D26: =#VALUE! -> #VALUE! | E26: =#VALUE! -> #VALUE! | F26: =#VALUE! -> #VALUE!
A27: =#VALUE! -> #VALUE! | B27: =#VALUE! -> #VALUE! | D27: =#VALUE! -> #VALUE! | E27: =#VALUE! -> #VALUE! | F27: =#VALUE! -> #VALUE!
A28: =#VALUE! -> #VALUE! | B28: =#VALUE! -> #VALUE! | D28: =#VALUE! -> #VALUE! | E28: =#VALUE! -> #VALUE! | F28: =#VALUE! -> #VALUE!
A29: =#VALUE! -> #VALUE! | B29: =#VALUE! -> #VALUE! | D29: =#VALUE! -> #VALUE! | E29: =#VALUE! -> #VALUE! | F29: =#VALUE! -> #VALUE!
A30: =#VALUE! -> #VALUE! | B30: =#VALUE! -> #VALUE! | D30: =#VALUE! -> #VALUE! | E30: =#VALUE! -> #VALUE! | F30: =#VALUE! -> #VALUE!
... A48: =#VALUE! -> #VALUE! | B48: =#VALUE! -> #VALUE! | D48: =#VALUE! -> #VALUE! | E48: =#VALUE! -> #VALUE! | F48: =#VALUE! -> #VALUE!
A49: =#REF! -> #REF! | B49: =#REF! -> #REF! | D49: =#REF! -> #REF! | E49: =#REF! -> #REF! | F49: =#REF! -> #REF!
A50: =Лист1!A23 -> 0 | B50: =Лист1!B23 -> 0 | D50: =Лист1!C23 -> 0 | E50: =Лист1!D23 -> 0 | F50: =Лист1!L23 -> 0
A51: =#VALUE! -> #VALUE! | B51: =Лист1!A24 -> 0 | D51: =Лист1!C24 -> 0 | E51: =Лист1!D24 -> 0 | F51: =Лист1!L24 -> 0
A52: =#REF! -> #REF! | B52: =#REF! -> #REF! | D52: =#REF! -> #REF! | E52: =#REF! -> #REF! | F52: =#REF! -> #REF!
A53: =Лист1!A25 -> 0 | B53: =Лист1!B25 -> 0 | D53: =Лист1!C25 -> 0 | E53: =Лист1!D25 -> 0 | F53: =Лист1!L25 -> 0
A54: =Лист1!A26 -> 0 | B54: =Лист1!B26 -> 0 | D54: =Лист1!C26 -> 0 | E54: =Лист1!D26 -> 0 | F54: =Лист1!L26 -> 0
A55: =Лист1!A27 -> 0 | B55: =Лист1!B27 -> 0 | D55: =Лист1!C27 -> 0 | E55: =Лист1!D27 -> 0 | F55: =Лист1!L27 -> 0
A56: =Лист1!A30 -> 0 | B56: =Лист1!B30 -> 0 | D56: =Лист1!C30 -> 0 | E56: =Лист1!D30 -> 0 | F56: =Лист1!L30 -> 0
A57: =Лист1!A32 -> 0 | B57: =Лист1!B32 -> 0 | D57: =Лист1!C32 -> 0 | E57: =Лист1!D32 -> 0 | F57: =Лист1!L32 -> 0
A58: =Лист1!A33 -> 0 | B58: =Лист1!B33 -> 0 | D58: =Лист1!C33 -> 0 | E58: =Лист1!D33 -> 0 | F58: =Лист1!L33 -> 0
A59: =Лист1!A34 -> 0 | B59: =Лист1!B34 -> 0 | D59: =Лист1!C34 -> 0 | E59: =Лист1!D34 -> 0 | F59: =Лист1!L34 -> 0
A60: =Лист1!A35 -> 0 | B60: =Лист1!B35 -> 0 | D60: =Лист1!C35 -> 0 | E60: =Лист1!D35 -> 0 | F60: =Лист1!L35 -> 0
A61: =Лист1!A36 -> 0 | B61: =Лист1!B36 -> 0 | D61: =Лист1!C36 -> 0 | E61: =Лист1!D36 -> 0 | F61: =Лист1!L36 -> 0
A62: =Лист1!A37 -> 0 | B62: =Лист1!B37 -> 0 | D62: =Лист1!C37 -> 0 | E62: =Лист1!D37 -> 0 | F62: =Лист1!L37 -> 0
A63: =Лист1!A38 -> 0 | B63: =Лист1!B38 -> 0 | D63: =Лист1!C38 -> 0 | E63: =Лист1!D38 -> 0 | F63: =Лист1!L38 -> 0
A64: =Лист1!A39 -> 0 | B64: =Лист1!B39 -> 0 | D64: =Лист1!C39 -> 0 | E64: =Лист1!D39 -> 0 | F64: =Лист1!L39 -> 0
A65: =Лист1!A40 -> 0 | B65: =Лист1!B40 -> 0 | D65: =Лист1!C40 -> 0 | E65: =Лист1!D40 -> 0 | F65: =Лист1!L40 -> 0
A66: =Лист1!A41 -> 0 | B66: =Лист1!B41 -> 0 | D66: =Лист1!C41 -> 0 | E66: =Лист1!D41 -> 0 | F66: =Лист1!L41 -> 0
A67: =Лист1!A42 -> 0 | B67: =Лист1!B42 -> 0 | D67: =Лист1!C42 -> 0 | E67: =Лист1!D42 -> 0 | F67: =Лист1!L42 -> 0
A68: =Лист1!A43 -> 0 | B68: =Лист1!B43 -> 0 | D68: =Лист1!C43 -> 0 | E68: =Лист1!D43 -> 0 | F68: =Лист1!L43 -> 0
... A200: =Лист1!A175 -> 0 | B200: =Лист1!B175 -> 0 | D200: =Лист1!C175 -> 0 | E200: =Лист1!D175 -> 0 | F200: =Лист1!L175 -> 0

Sheet Лист2
B1: 5 | C1: 1.5
A2: 250000 | B2: =A2*B1/100 -> 12500 | C2: =B2*C1 -> 18750
