Workbook

Sheet Смета по ФСНБ 421+557прРИМ
A1: Наименование редакции сметных нормативов | F1: =IF(Source!CQ12 <> "", Source!CQ12, "") -> Приказ Минстроя России от 30.12.2021 г. № 1046/пр; Приказ Минстроя России от 04.08.2020 г. № 421/пр; Приказ Минстроя России от 21.12.2020 г. № 812/пр; Приказ Минстроя России от 11.12.2020 г. № 774/пр | CO1: =IF(Source!CQ12 <> "", Source!CQ12, "") -> Приказ Минстроя России от 30.12.2021 г. № 1046/пр; Приказ Минстроя России от 04.08.2020 г. № 421/пр; Приказ Минстроя России от 21.12.2020 г. № 812/пр; Приказ Минстроя России от 11.12.2020 г. № 774/пр
A3: Реквизиты приказа Минстроя России об утверждении дополнений и изменений к сметным нормативам | F3: =IF(Source!CV12 <> "", Source!CV12, "") -> Приказ Минстроя России от 18.05.2022 г. № 378/пр; Приказ Минстроя России от 26.08.2022 г. № 703/пр; Приказ Минстроя России от 26.10.2022 г. № 905/пр; Приказ Минстроя России от 27.12.2022 г. № 1133/пр; Приказ Минстроя России от 10.02.2023 г. № 84/пр; Приказ Минстроя России от 11.05.2023 г. № 335/пр; Приказ Минстроя России от 02.08.2023 г. № 551/пр; Приказ Минстроя России от 14.11.2023 г. № 817/пр; Приказ Минстроя России от 16.02.2024 г. № 102/пр; Приказ Минстроя России от 13.05.2024 г. № 323/пр; Приказ Минстроя России от 09.08.2024 г. № 524/пр; Приказ Минстроя России от 07.11.2024 г. № 747/пр; Приказ Минстроя России от 07.02.2025 г. № 69/пр; Приказ Минстроя России от 19.05.2025 г. № 299/пр; Приказ Минстроя России от 14.08.2025 г. № 490/пр; Приказ Минстроя России от 12.11.2025 г. № 696/пр; Приказ Минстроя России от 17.02.2026 г. № 91/пр; Приказ Минстроя России от 15.05.2026 г. № 301/пр; Приказ Минстроя России от 12.08.2026 г. № 527/пр; Приказ Минстроя России от 07.07.2022 г. № 557/пр; Приказ Минстроя России от 30.01.2024 г. № 55/пр; Приказ Минстроя России от 23.01.2025 г. № 30/пр; Приказ Минстроя России от 02.09.2021 г. № 636/пр; Приказ Минстроя России от 26.07.2022 г. № 611/пр; Приказ Минстроя России от 22.04.2022 г. № 317/пр | CO3: =IF(Source!CV12 <> "", Source!CV12, "") -> Приказ Минстроя России от 18.05.2022 г. № 378/пр; Приказ Минстроя России от 26.08.2022 г. № 703/пр; Приказ Минстроя России от 26.10.2022 г. № 905/пр; Приказ Минстроя России от 27.12.2022 г. № 1133/пр; Приказ Минстроя России от 10.02.2023 г. № 84/пр; Приказ Минстроя России от 11.05.2023 г. № 335/пр; Приказ Минстроя России от 02.08.2023 г. № 551/пр; Приказ Минстроя России от 14.11.2023 г. № 817/пр; Приказ Минстроя России от 16.02.2024 г. № 102/пр; Приказ Минстроя России от 13.05.2024 г. № 323/пр; Приказ Минстроя России от 09.08.2024 г. № 524/пр; Приказ Минстроя России от 07.11.2024 г. № 747/пр; Приказ Минстроя России от 07.02.2025 г. № 69/пр; Приказ Минстроя России от 19.05.2025 г. № 299/пр; Приказ Минстроя России от 14.08.2025 г. № 490/пр; Приказ Минстроя России от 12.11.2025 г. № 696/пр; Приказ Минстроя России от 17.02.2026 г. № 91/пр; Приказ Минстроя России от 15.05.2026 г. № 301/пр; Приказ Минстроя России от 12.08.2026 г. № 527/пр; Приказ Минстроя России от 07.07.2022 г. № 557/пр; Приказ Минстроя России от 30.01.2024 г. № 55/пр; Приказ Минстроя России от 23.01.2025 г. № 30/пр; Приказ Минстроя России от 02.09.2021 г. № 636/пр; Приказ Минстроя России от 26.07.2022 г. № 611/пр; Приказ Минстроя России от 22.04.2022 г. № 317/пр
A5: Реквизиты письма Минстроя России об индексах изменения сметной стоимости строительства, включаемые в федеральный реестр сметных нормативов и размещаемые в федеральной государственной информационной системе ценообразования в строительстве, подготовленного в соответствии с пунктом 85 Методики расчета индексов изменения сметной стоимости строительства, утвержденной приказом Министерства строительства и жилищно-коммунального хозяйства Российской Федерации от 5 июня 2019 г. N 326/пр | F5: Письмо Минстроя России от 24.08.2026 № 52419-ИФ/09
A7: Реквизиты нормативного правового акта об утверждении оплаты труда, утверждаемый в соответствии с пунктом 22(1) Правилами мониторинга цен, утвержденными постановлением Правительства Российской Федерации от 23 декабря 2016 г. N 1452 | F7: Приказ Министерства градостроительства и архитектуры Пензенской области от 06.03.2026 г. № 250/оп
A9: Обоснование принятых текущих цен на строительные ресурсы | F9: ФГИС ЦС, конъюнктурный анализ
A11: Наименование субъекта Российской Федерации | F11: Пензенская область
A12: Наименование зоны субъекта Российской Федерации | F12: Пензенская область
A14: Газопровод низкого давления к нежилому помещению,расположенному по адресу: Пензенская область,г.Кузнецк,ул.Кирова,155А/1
A15: (наименование стройки)
A17: =IF(Source!G12<>"Новый объект", Source!G12, "") -> Газопровод низкого давления к нежилому помещению,расположенному по адресу: Пензенская область,г.Кузнецк,ул.Кирова,155А/1 | CN17: =IF(Source!G12<>"Новый объект", Source!G12, "") -> Газопровод низкого давления к нежилому помещению,расположенному по адресу: Пензенская область,г.Кузнецк,ул.Кирова,155А/1
A18: (наименование объекта капитального строительства)
A20: ЛОКАЛЬНАЯ СМЕТА № ЛС-01-01-01
A21: =IF(Source!G20<>"Новая локальная смета", Source!G20, "") -> Газопровод низкого давления
A22: (наименование работ и затрат)
A23: Составлен | C23: Ресурсно-индексным | D23: методом
A25: Основание | C25: проект шифр 2139-26-П-ГСН.С
C26: (проектная и (или) иная техническая документация)
A27: Составлен(а) в текущем уровне цен на сентябрь 2026 года
A28: Сметная стоимость | C28: =C31+C32+C33+C34 -> 328.52 | E28: тыс. руб.
G29: Средства на оплату труда рабочих | K29: =ROUND(SUM(AR41:AR987)/1000, 2) -> 55.94 | L29: тыс. руб.
B30: в том числе: | G30: Средства на оплату труда машинистов | K30: =ROUND(SUM(AT41:AT987)/1000, 2) -> 14.7 | L30: тыс. руб.
B31: строительных работ | C31: =ROUND((Source!F255)/1000, 2) -> 314.28 | E31: тыс. руб. | G31: Нормативные затраты труда рабочих | K31: =Source!F260 -> 150.46113 | L31: чел.-ч.
B32: монтажных работ | C32: =ROUND((Source!F256)/1000, 2) -> 14.24 | E32: тыс. руб. | G32: Нормативные затраты труда машинистов | K32: =Source!F261 -> 30.978374 | L32: чел.-ч.
B33: оборудования | C33: =ROUND((Source!F247)/1000, 2) -> 0 | E33: тыс. руб.
B34: прочих затрат | C34: =ROUND((Source!F257)/1000, 2) -> 0 | E34: тыс. руб.
A35: № п/п | B35: Обоснование | C35: Наименование работ и затрат | D35: Единица измерения | E35: Количество | H35: Сметная стоимость, руб.
E39: на единицу измерения | F39: коэффициенты | G39: всего с учетом коэффициентов | H39: на единицу измерения в базисном уровне цен | I39: индекс | J39: на единицу измерения в текущем уровне цен | K39: коэффициенты | L39: всего в текущем уровне цен
A40: 1 | B40: 2 | C40: 3 | D40: 4 | E40: 5 | F40: 6 | G40: 7 | H40: 8 | I40: 9 | J40: 10 | K40: 11 | L40: 12
A42: Раздел: Земляные работы
A43: 1 | B43: ГЭСН 01-01-009-14 | C43: =Source!G28 -> Разработка грунта в траншеях экскаватором «обратная лопата» с ковшом вместимостью 0,5 (0,5-0,63) м3, в отвал группа грунтов: 2 | D43: =Source!H28 -> 1000 м3 | E43: =Source!K28 -> 0.113 | G43: =Source!I28 -> 0.113
C44: ="Объем: "&Source!I28&"=113/"&"1000" -> Объем: 0,113=113/1000
B45: 2 | C45: ЭМ | L45: =SUM(L46:L48)-SUMIF(CE46:CE48, 1, L46:L48) -> 4130.57
C46: ОТм(ЗТм) | D46: чел.-ч. | G46: =Source!V28 -> 2.8815 | L46: =SUMIF(CE47:CE48, 1, L47:L48) -> 1549.21 | CE46: 1
B47: 91.01.05-085 | C47: Экскаваторы одноковшовые дизельные на гусеничном ходу, объем ковша 0,5 м3 | D47: маш.-ч | E47: 25.5 | G47: =SmtRes!CX2 -> 2.8815 | H47: =SmtRes!CZ2 -> 1054.03 | I47: =SmtRes!AJ2 -> 1.36 | J47: =ROUND(H47*I47, 2) -> 1433.48 | L47: =SmtRes!DG2 -> 4130.57
B48: 4-100-060 | C48: ОТм(ЗТм) Средний разряд машинистов 6 | D48: чел.-ч. | E48: =SmtRes!DO2*SmtRes!AT2 -> 25.5 | G48: =ROUND(E48*G43, 7) -> 2.8815 | J48: =ROUND(SmtRes!AG2/SmtRes!DO2, 2) -> 537.64 | L48: =SmtRes!DH2 -> 1549.21 | CE48: 1
C49: Итого прямые затраты | L49: =L45+L46 -> 5679.78
C50: ФОТ | L50: =SUM(AR43:AR53)+SUM(AS43:AS53)+SUM(AT43:AT53)+SUM(AU43:AU53)+SUM(AV43:AV53) -> 1549.21
B51: Пр/812-001.1-1 | C51: НР Земляные работы, выполняемые: механизированным способом | D51: % | E51: =Source!BZ28 -> 92 | G51: =Source!AT28 -> 92 | L51: =SUM(AZ43:AZ53) -> 1425.27
B52: Пр/774-001.1 | C52: СП Земляные работы, выполняемые: механизированным способом | D52: % | E52: =Source!CA28 -> 46 | G52: =Source!AU28 -> 46 | L52: =SUM(BA43:BA53) -> 712.64
C53: Всего по позиции | I53: =IF(E43<>0,K53/E43, 0) -> 69183.097 | K53: =L45+L51+L52+L46 -> 7817.69 | AD53: =ROUND((Source!AT28/100)*((ROUND(SUMIF(SmtRes!AQ1:'SmtRes'!AQ2,"=1",SmtRes!AD1:'SmtRes'!AD2)*Source!I28, 2)+ROUND(SUMIF(SmtRes!AQ1:'SmtRes'!AQ2,"=1",SmtRes!AC1:'SmtRes'!AC2)*Source!I28, 2))), 2) -> 55.89 | AE53: =ROUND((Source!AU28/100)*((ROUND(SUMIF(SmtRes!AQ1:'SmtRes'!AQ2,"=1",SmtRes!AD1:'SmtRes'!AD2)*Source!I28, 2)+ROUND(SUMIF(SmtRes!AQ1:'SmtRes'!AQ2,"=1",SmtRes!AC1:'SmtRes'!AC2)*Source!I28, 2))), 2) -> 27.95 | AN53: =L45+L51+L52+L46 -> 7817.69 | AO53: =L45 -> 4130.57 | AQ53: = | AR53: =0 -> 0 | AT53: =L46 -> 1549.21 | AV53: = | AW53: =0 -> 0 | AZ53: =Source!X28 -> 1425.27 | BA53: =Source!Y28 -> 712.64 | CD53: 1
...

Sheet Конъюнктурный анализ
A2: Сводная таблица результатов конъюнктурного анализа
A4: По объекту: Газопровод низкого давления к нежилому помещению,расположенному по адресу: Пензенская область,г.Кузнецк,ул.Кирова,155А/1
A5: (наименование объекта капитального строительства)
U7: Уровень цен составления сметной документации
U8: Наименование субъекта Российской Федерации
U9: Ценовая зона субъекта Российской Федерации
U10: Отраслевая организация
A12: Номер по порядку | B12: Код строительного ресурса | C12: Наименование ресурса, затрат в соответствии с проектной документацией | D12: Полное наименование ресурса, затрат в обосновывающем документе | E12: Единица измерения ресурса, затрат в соответствии с проектной документацией | F12: Единица измерения ресурса, затрат в обосновывающем документе | G12: Текущая отпускная цена за единицу измерения в обосновывающем документе с учетом НДС, рублей | H12: Текущая отпускная цена за единицу измерения в обосновывающем документе без учета НДС, рублей / Сметная цена строительного ресурса в базисном или в текущем уровне цен, размещенная в ФГИС ЦС, применяемая при РИМ, рублей | I12: Месяц и год составления обосновывающего документа / Квартал (для сметных цен строительных ресурсов в текущем уровне цен и индексов по ГОСР, размещенных в ФГИС, приметяемых при РИМ) | J12: Индекс фактической инфляции / Индекс по ГОСР | K12: Коэффициент пересчета в единицу измерения в соответствии с графой 5 | L12: Текущая отпускная цена за единицу измерения без учета НДС, рублей в соответствии с графой 5 в уровне цен составления сметной документации | M12: Затраты на перевозку | O12: Заготовительно-складские расходы | Q12: Дополнительные затраты, предусмотренные пунктами 88, 117, 119–121 Методики | T12: Сметная цена без учета НДС, рублей за единицу измерения в соответствии с графой 5 | U12: Полное и (или) сокращенное (при наличии) наименования производителя (поставщика) | V12: Страна производителя оборудования, производственного и хозяйственного инвентаря | W12: КПП организации | X12: ИНН организации | Y12: Наименование обосновывающего документа | Z12: Населенный пункт расположения склада производителя (поставщика) | AA12: Статус организации (Производитель (1) ; Поставщик (2) | AB12: Номер страницы
M16: % | N16: рублей за единицу измерения в соответствии с графой 5 без учета НДС | O16: % | P16: рублей | Q16: Наименование затрат | R16: % | S16: рублей
A19: 1 | B19: 2 | C19: 3 | D19: 4 | E19: 5 | F19: 6 | G19: 7 | H19: 8 | I19: 9 | J19: 10 | K19: 11 | L19: 12 | M19: 13 | N19: 14 | O19: 15 | P19: 16 | Q19: 17 | R19: 18 | S19: 19 | T19: 20 | U19: 21 | V19: 22 | W19: 23 | X19: 24 | Y19: 25 | Z19: 26 | AA19: 27 | AB19: 29
A20: =SrcKA!E14 -> Конъюнктурный анализ
A21: 5.1 | B21: =SrcKA!D15 -> ТЦ_21.00.00.00_64_6454104668_30.09.2026_01_5.1 | C21: =IF((SrcKA!AI15<>""), SrcKA!AI15,"") -> Провод-спутник медно-стальной П-274М | D21: =IF((SrcKA!E15<>""), SrcKA!E15,"") -> Провод П-274М | E21: =IF((SrcKA!AH15<>""), SrcKA!AH15,"") -> м | F21: =IF((SrcKA!G15<>""), SrcKA!G15,"") -> м | G21: =IF((SrcKA!I15<>""), SrcKA!I15,"") -> 55.12 | H21: =IF((SrcKA!H15<>""), SrcKA!H15,"") -> 45.18 | I21: 30.09.2026 | K21: =IF((SrcKA!AB15<>""), SrcKA!AB15,"") | L21: =IF((SrcKA!AC15<>""), SrcKA!AC15,"") -> 45.18 | M21: =IF((SrcKA!AA15<>""), SrcKA!AA15,"") -> 0 | N21: =IF((SrcKA!J15<>""), SrcKA!J15,"") -> 0 | O21: =IF((SrcKA!U15<>""), SrcKA!U15,"") -> 0 | P21: =IF((SrcKA!V15<>""), SrcKA!V15,"") -> 0 | S21: =IF((SrcKA!AE15<>""), SrcKA!AE15,"") -> 0 | T21: =IF((SrcKA!K15<>""), SrcKA!K15,"") -> 45.18 | U21: =IF((SrcKA!O15<>""), SrcKA!O15,"") -> ООО "ГК ГАЗГАРАНТ" | V21: =IF((SrcKA!Z15<>""), SrcKA!Z15,"") -> Россия | W21: =IF((SrcKA!R15<>""), SrcKA!R15,"") -> 645401001 | X21: =IF((SrcKA!Q15<>""), SrcKA!Q15,"") -> 6454104668 | Y21: Счет №391 от 30.09.2026 | Z21: =IF((SrcKA!P15<>""), SrcKA!P15,"") -> г.Саратов | AA21: =IF((SrcKA!N15<>""), SrcKA!N15,"") -> 2 | AB21: =IF((SrcKA!AV15<>""), SrcKA!AV15,"")
A22: 5.2 | B22: =SrcKA!D16 -> ТЦ_21.00.00.00_64_6453135060_30.09.2026_01_5.2 | C22: =IF((SrcKA!AI16<>""), SrcKA!AI16,"") -> Провод-спутник медно-стальной П-274М | D22: =IF((SrcKA!E16<>""), SrcKA!E16,"") -> Провод П-274М | E22: =IF((SrcKA!AH16<>""), SrcKA!AH16,"") -> м | F22: =IF((SrcKA!G16<>""), SrcKA!G16,"") -> м | G22: =IF((SrcKA!I16<>""), SrcKA!I16,"") -> 57.88 | H22: =IF((SrcKA!H16<>""), SrcKA!H16,"") -> 47.44 | I22: 30.09.2026 | K22: =IF((SrcKA!AB16<>""), SrcKA!AB16,"") | L22: =IF((SrcKA!AC16<>""), SrcKA!AC16,"") -> 47.44 | M22: =IF((SrcKA!AA16<>""), SrcKA!AA16,"") -> 0 | N22: =IF((SrcKA!J16<>""), SrcKA!J16,"") -> 0 | O22: =IF((SrcKA!U16<>""), SrcKA!U16,"") -> 0 | P22: =IF((SrcKA!V16<>""), SrcKA!V16,"") -> 0 | S22: =IF((SrcKA!AE16<>""), SrcKA!AE16,"") -> 0 | T22: =IF((SrcKA!K16<>""), SrcKA!K16,"") -> 47.44 | U22: =IF((SrcKA!O16<>""), SrcKA!O16,"") -> ПТК "ГАЗГАРАНТ" | V22: =IF((SrcKA!Z16<>""), SrcKA!Z16,"") -> Россия | W22: =IF((SrcKA!R16<>""), SrcKA!R16,"") -> 645401001 | X22: =IF((SrcKA!Q16<>""), SrcKA!Q16,"") -> 6453135060 | Y22: коммерческое предложение б/н от 30.09.2026 | Z22: =IF((SrcKA!P16<>""), SrcKA!P16,"") -> г.Саратов | AA22: =IF((SrcKA!N16<>""), SrcKA!N16,"") -> 2 | AB22: =IF((SrcKA!AV16<>""), SrcKA!AV16,"")
A23: 5.3 | B23: =SrcKA!D17 -> ТЦ_21.00.00.00_64_6455068074_30.09.2026_01_5.3 | C23: =IF((SrcKA!AI17<>""), SrcKA!AI17,"") -> Провод-спутник медно-стальной П-274М | D23: =IF((SrcKA!E17<>""), SrcKA!E17,"") -> Провод П-274М | E23: =IF((SrcKA!AH17<>""), SrcKA!AH17,"") -> м | F23: =IF((SrcKA!G17<>""), SrcKA!G17,"") -> м | G23: =IF((SrcKA!I17<>""), SrcKA!I17,"") -> 59.62 | H23: =IF((SrcKA!H17<>""), SrcKA!H17,"") -> 48.87 | I23: 30.09.2026 | K23: =IF((SrcKA!AB17<>""), SrcKA!AB17,"") | L23: =IF((SrcKA!AC17<>""), SrcKA!AC17,"") -> 48.87 | M23: =IF((SrcKA!AA17<>""), SrcKA!AA17,"") -> 0 | N23: =IF((SrcKA!J17<>""), SrcKA!J17,"") -> 0 | O23: =IF((SrcKA!U17<>""), SrcKA!U17,"") -> 0 | P23: =IF((SrcKA!V17<>""), SrcKA!V17,"") -> 0 | S23: =IF((SrcKA!AE17<>""), SrcKA!AE17,"") -> 0 | T23: =IF((SrcKA!K17<>""), SrcKA!K17,"") -> 48.87 | U23: =IF((SrcKA!O17<>""), SrcKA!O17,"") -> ООО "Континент-Газ" | V23: =IF((SrcKA!Z17<>""), SrcKA!Z17,"") -> Россия | W23: =IF((SrcKA!R17<>""), SrcKA!R17,"") -> 645501001 | X23: =IF((SrcKA!Q17<>""), SrcKA!Q17,"") -> 6455068074 | Y23: коммерческое предложение б/н от 30.09.2026 | Z23: =IF((SrcKA!P17<>""), SrcKA!P17,"") -> г.саратов | AA23: =IF((SrcKA!N17<>""), SrcKA!N17,"") -> 2 | AB23: =IF((SrcKA!AV17<>""), SrcKA!AV17,"")
D26: Составил
E27: [должность,подпись(инициалы,фамилия)]
D29: Проверил
E30: [должность,подпись(инициалы,фамилия)]

Sheet Source
A1: 0 | B1: Smeta.RU (495) 974-1589 | D1: _PS_ | F1: 0 | G1: 0 | H1: 0 | I1: Smeta.RU | K1: 1 | L1: 28180 | M1: 10 | N1: 12 | O1: 1 | P1: 0 | Q1: 5
A12: 1 | B12: 333 | C12: 0 | D12: =ROW(A268) -> 268 | E12: 0 | F12: Новый объект_(Копия)_(Копия)_(Копия)_(Копия)_(Копия) | G12: Газопровод низкого давления к нежилому помещению,расположенному по адресу: Пензенская область,г.Кузнецк,ул.Кирова,155А/1 | I12: 0 | K12: 0 | L12: 0 | M12: 523 | O12: 0 | P12: 0 | Q12: 7 | R12: 0 | T12: 4 | V12: 0 | BB12: 0 | BH12: Сметные нормы списания | BI12: Коды ценников | BJ12: 1 | BK12: 1 | BL12: 0 | BM12: 0 | BN12: 1 | BO12: 0 | BP12: 6 | BQ12: 2 | BR12: 1 | BS12: 1 | BT12: 0 | BU12: 0 | BV12: 0 | BW12: 0 | BX12: 0 | BY12: ФСНБ-2022_И19 | BZ12: Версия 1.19.0 для ФСНБ-2022 И19 | CA12: ФСНБ-2022 - Изменения И19 | CB12: ФСНБ-2022 - Изменения И19 | CC12: ФСНБ-2022 - Изменения И19 | CD12: ФСНБ-2022 - Изменения И19 | CE12: Поправки для ФСНБ-2022 от 21.08.2026 г И19 (55/пр) Строительство | CF12: 0 | CG12: 0 | CH12: 487096328 | CK12: 19 | CQ12: Приказ Минстроя России от 30.12.2021 г. № 1046/пр; Приказ Минстроя России от 04.08.2020 г. № 421/пр; Приказ Минстроя России от 21.12.2020 г. № 812/пр; Приказ Минстроя России от 11.12.2020 г. № 774/пр | CR12: ГСН | CS12: 46248 | CT12: 570 | CU12: 19 | CV12: Приказ Минстроя России от 18.05.2022 г. № 378/пр; Приказ Минстроя России от 26.08.2022 г. № 703/пр; Приказ Минстроя России от 26.10.2022 г. № 905/пр; Приказ Минстроя России от 27.12.2022 г. № 1133/пр; Приказ Минстроя России от 10.02.2023 г. № 84/пр; Приказ Минстроя России от 11.05.2023 г. № 335/пр; Приказ Минстроя России от 02.08.2023 г. № 551/пр; Приказ Минстроя России от 14.11.2023 г. № 817/пр; Приказ Минстроя России от 16.02.2024 г. № 102/пр; Приказ Минстроя России от 13.05.2024 г. № 323/пр; Приказ Минстроя России от 09.08.2024 г. № 524/пр; Приказ Минстроя России от 07.11.2024 г. № 747/пр; Приказ Минстроя России от 07.02.2025 г. № 69/пр; Приказ Минстроя России от 19.05.2025 г. № 299/пр; Приказ Минстроя России от 14.08.2025 г. № 490/пр; Приказ Минстроя России от 12.11.2025 г. № 696/пр; Приказ Минстроя России от 17.02.2026 г. № 91/пр; Приказ Минстроя России от 15.05.2026 г. № 301/пр; Приказ Минстроя России от 12.08.2026 г. № 527/пр; Приказ Минстроя России от 07.07.2022 г. № 557/пр; Приказ Минстроя России от 30.01.2024 г. № 55/пр; Приказ Минстроя России от 23.01.2025 г. № 30/пр; Приказ Минстроя России от 02.09.2021 г. № 636/пр; Приказ Минстроя России от 26.07.2022 г. № 611/пр; Приказ Минстроя России от 22.04.2022 г. № 317/пр | CY12: 0 | EC12: 0
A15: 15 | B15: 1
A18: 52 | B18: =B268 -> 333 | C18: =C268 -> 1 | D18: =D268 -> 12 | E18: =E268 -> 0 | F18: =F268 -> Новый объект_(Копия)_(Копия)_(Копия)_(Копия)_(Копия) | G18: =G268 -> Газопровод низкого давления к нежилому помещению,расположенному по адресу: Пензенская область,г.Кузнецк,ул.Кирова,155А/1 | O18: =O268 -> 210262.06 | P18: =P268 -> 96642.05 | Q18: =Q268 -> 42984.01 | R18: =R268 -> 14698.73 | S18: =S268 -> 55937.27 | T18: =T268 -> 0 | U18: =U268 -> 150.46113 | V18: =V268 -> 30.978374 | ... GX18: =GX268 -> 0
A20: 3 | B20: 1 | D20: =ROW(A238) -> 238 | F20: Новая локальная смета | G20: Газопровод низкого давления | I20: 0 | K20: -1 | L20: Новая локальная смета | S20: 0 | V20: 0 | BX20: 0 | CF20: 0 | CG20: 0
A22: 52 | B22: =B238 -> 1 | C22: =C238 -> 3 | D22: =D238 -> 20 | E22: =E238 -> 0 | F22: =F238 -> Новая локальная смета | G22: =G238 -> Газопровод низкого давления | O22: =O238 -> 210262.06 | P22: =P238 -> 96642.05 | Q22: =Q238 -> 42984.01 | R22: =R238 -> 14698.73 | S22: =S238 -> 55937.27 | T22: =T238 -> 0 | U22: =U238 -> 150.46113 | V22: =V238 -> 30.978374 | ... GX22: =GX238 -> 0
A24: 4 | B24: 1 | D24: =ROW(A35) -> 35 | F24: Новый раздел | G24: Земляные работы | I24: 0 | K24: 0 | S24: 0 | V24: 0 | BX24: 0 | CJ24: 0
A26: 52 | B26: =B35 -> 1 | C26: =C35 -> 4 | D26: =D35 -> 24 | E26: =E35 -> 0 | F26: =F35 -> Новый раздел | G26: =G35 -> Земляные работы | O26: =O35 -> 43278.92 | P26: =P35 -> 11064.31 | Q26: =Q35 -> 6314.84 | R26: =R35 -> 2278.07 | S26: =S35 -> 23621.7 | T26: =T35 -> 0 | U26: =U35 -> 72.006 | V26: =V35 -> 4.46606 | ... GX26: =GX35 -> 0
A28: 17 | B28: 1 | C28: =ROW(SmtRes!A2) -> 2 | D28: =ROW(EtalonRes!A2) -> 2 | E28: 1 | F28: 01-01-009-14 | G28: Разработка грунта в траншеях экскаватором «обратная лопата» с ковшом вместимостью 0,5 (0,5-0,63) м3, в отвал группа грунтов: 2 | H28: 1000 м3 | I28: =ROUND(113/1000,7) -> 0.113 | J28: 0 | K28: =ROUND(113/1000,7) -> 0.113 | O28: =ROUND(CP28,2) -> 5679.78 | P28: =SUMIF(SmtRes!AQ1:'SmtRes'!AQ2,"=1",SmtRes!DF1:'SmtRes'!DF2) -> 0 | Q28: =SUMIF(SmtRes!AQ1:'SmtRes'!AQ2,"=1",SmtRes!DG1:'SmtRes'!DG2) -> 4130.57 | R28: =SUMIF(SmtRes!AQ1:'SmtRes'!AQ2,"=1",SmtRes!DH1:'SmtRes'!DH2) -> 1549.21 | S28: =SUMIF(SmtRes!AQ1:'SmtRes'!AQ2,"=1",SmtRes!DI1:'SmtRes'!DI2) -> 0 | T28: =ROUND(CU28*I28,2) -> 0 | U28: =SUMIF(SmtRes!AQ1:'SmtRes'!AQ2,"=1",SmtRes!CV1:'SmtRes'!CV2) -> 0 | V28: =SUMIF(SmtRes!AQ1:'SmtRes'!AQ2,"=1",SmtRes!CW1:'SmtRes'!CW2) -> 2.8815 | W28: =ROUND(CX28*I28,2) -> 0 | X28: =ROUND(CY28,2) -> 1425.27 | Y28: =ROUND(CZ28,2) -> 712.64 | AA28: 74014550 | AB28: =ROUND((AC28+AD28+AF28),6) -> 26877.765 | AC28: =ROUND((0),6) -> 0 | AD28: =ROUND((((SUM(SmtRes!BR1:'SmtRes'!BR2))-(SUM(SmtRes!BS1:'SmtRes'!BS2)))+AE28),6) -> 26877.765 | AE28: =ROUND((SUM(SmtRes!BS1:'SmtRes'!BS2)),6) -> 13709.82 | AF28: =ROUND((0),6) -> 0 | AG28: =ROUND((AP28),6) -> 0 | AH28: =(0) -> 0 | AI28: =(SUM(SmtRes!BV1:'SmtRes'!BV2)) -> 25.5 | AJ28: =(AS28) -> 0 | AK28: 40587.585 | AL28: 0 | AM28: 26877.765 | AN28: 13709.82 | AO28: 0 | AP28: 0 | AQ28: 0 | AR28: 25.5 | AS28: 0 | AT28: 92 | AU28: 46 | AV28: 1 | AW28: 1 | AZ28: 1 | BA28: 1 | BB28: 1 | BC28: 1 | BH28: 0 | BI28: 1 | BJ28: ГЭСН-2022, 01-01-009-14, приказ Минстроя России от 18.05.2022 г. № 378/пр | BM28: 1001 | BN28: 0 | BP28: 0 | BQ28: 2 | BR28: 0 | BS28: 1 | BT28: 1 | BU28: 1 | BV28: 1 | BW28: 1 | BX28: 1 | BZ28: 92 | CA28: 46 | CE28: 0 | CF28: 0 | CG28: 0 | CM28: 0 | CO28: 0 | CP28: =(P28+Q28+S28+R28) -> 5679.78 | CQ28: =SUMIF(SmtRes!AQ1:'SmtRes'!AQ2,"=1",SmtRes!AA1:'SmtRes'!AA2) -> 0 | CR28: =SUMIF(SmtRes!AQ1:'SmtRes'!AQ2,"=1",SmtRes!AB1:'SmtRes'!AB2) -> 1433.48 | CS28: =SUMIF(SmtRes!AQ1:'SmtRes'!AQ2,"=1",SmtRes!AC1:'SmtRes'!AC2) -> 537.64 | CT28: =SUMIF(SmtRes!AQ1:'SmtRes'!AQ2,"=1",SmtRes!AD1:'SmtRes'!AD2) -> 0 | CU28: =AG28 -> 0 | CV28: =SUMIF(SmtRes!AQ1:'SmtRes'!AQ2,"=1",SmtRes!BU1:'SmtRes'!BU2) -> 0 | CW28: =SUMIF(SmtRes!AQ1:'SmtRes'!AQ2,"=1",SmtRes!BV1:'SmtRes'!BV2) -> 25.5 | CX28: =AJ28 -> 0 | CY28: =(((S28+R28)*AT28)/100) -> 1425.2732 | CZ28: =(((S28+R28)*AU28)/100) -> 712.6366 | DN28: 0 | DO28: 0 | DP28: 1 | DQ28: 1 | DU28: 1007 | DV28: 1000 м3 | DW28: 1000 м3 | DX28: 1000 | EE28: 72340571 | EF28: 2 | EG28: Общестроительные работы | EH28: 1 | EI28: Земляные работы | EJ28: 1 | EK28: 1001 | EL28: Земляные работы, выполняемые: механизированным способом | EM28: ФЕР-01 | EQ28: 0 | ER28: 0 | ES28: 0 | ET28: 0 | EU28: 0 | EV28: 0 | EW28: 0 | EX28: 25.5 | EY28: 0 | FQ28: 0 | FR28: 0 | FS28: 0 | FX28: 92 | FY28: 46 | GD28: 1 | GF28: 493304699 | GG28: 2 | GH28: 1 | GI28: -2 | GJ28: 0 | GK28: 0 | GL28: =ROUND(IF(AND(BH28=3,BI28=3,FS28<>0),P28,0),2) -> 0 | GM28: =ROUND(O28+X28+Y28,2)+GX28 -> 7817.69 | GN28: =IF(OR(BI28=0,BI28=1),GM28-GX28,0) -> 7817.69 | GO28: =IF(BI28=2,GM28-GX28,0) -> 0 | GP28: =IF(BI28=4,GM28-GX28,0) -> 0 | GR28: 0 | GS28: 0 | GT28: 0 | GV28: =ROUND((GT28),6) -> 0 | GW28: 1 | GX28: =ROUND(HC28*I28,2) -> 0 | HA28: 0 | HB28: 0 | HC28: =GV28*GW28 -> 0 | HN28: Пр/812-001.1-1 | HO28: Пр/774-001.1 | HP28: Земляные работы, выполняемые: механизированным способом | HQ28: Земляные работы, выполняемые: механизированным способом | HS28: 0 | IK28: 0
A29: 17 | B29: 1 | C29: =ROW(SmtRes!A3) -> 3 | D29: =ROW(EtalonRes!A3) -> 3 | E29: 2 | F29: 01-02-057-02 | G29: Разработка грунта вручную в траншеях глубиной до 2 м без креплений с откосами, группа грунтов: 2 | H29: 100 м3 | I29: =ROUND(27/100,7) -> 0.27 | J29: 0 | K29: =ROUND(27/100,7) -> 0.27 | O29: =ROUND(CP29,2) -> 13537.2 | P29: =SUMIF(SmtRes!AQ3:'SmtRes'!AQ3,"=1",SmtRes!DF3:'SmtRes'!DF3) -> 0 | Q29: =SUMIF(SmtRes!AQ3:'SmtRes'!AQ3,"=1",SmtRes!DG3:'SmtRes'!DG3) -> 0 | R29: =SUMIF(SmtRes!AQ3:'SmtRes'!AQ3,"=1",SmtRes!DH3:'SmtRes'!DH3) -> 0 | S29: =SUMIF(SmtRes!AQ3:'SmtRes'!AQ3,"=1",SmtRes!DI3:'SmtRes'!DI3) -> 13537.2 | T29: =ROUND(CU29*I29,2) -> 0 | U29: =SUMIF(SmtRes!AQ3:'SmtRes'!AQ3,"=1",SmtRes!CV3:'SmtRes'!CV3) -> 41.58 | V29: =SUMIF(SmtRes!AQ3:'SmtRes'!AQ3,"=1",SmtRes!CW3:'SmtRes'!CW3) -> 0 | W29: =ROUND(CX29*I29,2) -> 0 | X29: =ROUND(CY29,2) -> 12048.11 | Y29: =ROUND(CZ29,2) -> 5414.88 | AA29: 74014550 | AB29: =ROUND((AC29+AD29+AF29),6) -> 50137.78 | AC29: =ROUND((0),6) -> 0 | AD29: =ROUND((((0)-(0))+AE29),6) -> 0 | AE29: =ROUND((0),6) -> 0 | AF29: =ROUND((SUM(SmtRes!BT3:'SmtRes'!BT3)),6) -> 50137.78 | AG29: =ROUND((AP29),6) -> 0 | AH29: =(SUM(SmtRes!BU3:'SmtRes'!BU3)) -> 154 | AI29: =(0) -> 0 | AJ29: =(AS29) -> 0 | AK29: 50137.78 | AL29: 0 | AM29: 0 | AN29: 0 | AO29: 50137.78 | AP29: 0 | AQ29: 154 | AR29: 0 | AS29: 0 | AT29: 89 | AU29: 40 | AV29: 1 | AW29: 1 | AZ29: 1 | BA29: 1 | BB29: 1 | BC29: 1 | BH29: 0 | BI29: 1 | BJ29: ГЭСН-2022, 01-02-057-02, приказ Минстроя России от 18.05.2022 г. № 378/пр | BM29: 1003 | BN29: 0 | BP29: 0 | BQ29: 2 | BR29: 0 | BS29: 1 | BT29: 1 | BU29: 1 | BV29: 1 | BW29: 1 | BX29: 1 | BZ29: 89 | CA29: 40 | CE29: 0 | CF29: 0 | CG29: 0 | CM29: 0 | CO29: 0 | CP29: =(P29+Q29+S29+R29) -> 13537.2 | CQ29: =SUMIF(SmtRes!AQ3:'SmtRes'!AQ3,"=1",SmtRes!AA3:'SmtRes'!AA3) -> 0 | CR29: =SUMIF(SmtRes!AQ3:'SmtRes'!AQ3,"=1",SmtRes!AB3:'SmtRes'!AB3) -> 0 | CS29: =SUMIF(SmtRes!AQ3:'SmtRes'!AQ3,"=1",SmtRes!AC3:'SmtRes'!AC3) -> 0 | CT29: =SUMIF(SmtRes!AQ3:'SmtRes'!AQ3,"=1",SmtRes!AD3:'SmtRes'!AD3) -> 325.57 | CU29: =AG29 -> 0 | CV29: =SUMIF(SmtRes!AQ3:'SmtRes'!AQ3,"=1",SmtRes!BU3:'SmtRes'!BU3) -> 154 | CW29: =SUMIF(SmtRes!AQ3:'SmtRes'!AQ3,"=1",SmtRes!BV3:'SmtRes'!BV3) -> 0 | CX29: =AJ29 -> 0 | CY29: =(((S29+R29)*AT29)/100) -> 12048.108 | CZ29: =(((S29+R29)*AU29)/100) -> 5414.88 | DN29: 0 | DO29: 0 | DP29: 1 | DQ29: 1 | DU29: 1007 | DV29: 100 м3 | DW29: 100 м3 | DX29: 100 | EE29: 72340573 | EF29: 2 | EG29: Общестроительные работы | EH29: 1 | EI29: Земляные работы | EJ29: 1 | EK29: 1003 | EL29: Земляные работы, выполняемые: ручным способом | EM29: ФЕР-01 | EQ29: 0 | ER29: 0 | ES29: 0 | ET29: 0 | EU29: 0 | EV29: 0 | EW29: 154 | EX29: 0 | EY29: 0 | FQ29: 0 | FR29: 0 | FS29: 0 | FX29: 89 | FY29: 40 | GD29: 1 | GF29: 1511680203 | GG29: 2 | GH29: 1 | GI29: -2 | GJ29: 0 | GK29: 0 | GL29: =ROUND(IF(AND(BH29=3,BI29=3,FS29<>0),P29,0),2) -> 0 | GM29: =ROUND(O29+X29+Y29,2)+GX29 -> 31000.19 | GN29: =IF(OR(BI29=0,BI29=1),GM29-GX29,0) -> 31000.19 | GO29: =IF(BI29=2,GM29-GX29,0) -> 0 | GP29: =IF(BI29=4,GM29-GX29,0) -> 0 | GR29: 0 | GS29: 3 | GT29: 0 | GV29: =ROUND((GT29),6) -> 0 | GW29: 1 | GX29: =ROUND(HC29*I29,2) -> 0 | HA29: 0 | HB29: 0 | HC29: =GV29*GW29 -> 0 | HN29: Пр/812-001.2-1 | HO29: Пр/774-001.2 | HP29: Земляные работы, выполняемые: ручным способом | HQ29: Земляные работы, выполняемые: ручным способом | HS29: 0 | IK29: 0
A30: 17 | B30: 1 | C30: =ROW(SmtRes!A6) -> 6 | D30: =ROW(EtalonRes!A7) -> 7 | E30: 3 | F30: 23-01-001-01 | G30: Устройство основания под трубопроводы: песчаного | H30: 10 м3 | I30: =ROUND(20.3/10,7) -> 2.03 | J30: 0 | K30: =ROUND(20.3/10,7) -> 2.03 | O30: =ROUND(CP30,2) -> 8441.91 | P30: =SUMIF(SmtRes!AQ4:'SmtRes'!AQ6,"=1",SmtRes!DF4:'SmtRes'!DF6) -> 0 | Q30: =SUMIF(SmtRes!AQ4:'SmtRes'!AQ6,"=1",SmtRes!DG4:'SmtRes'!DG6) -> 1092.51 | R30: =SUMIF(SmtRes!AQ4:'SmtRes'!AQ6,"=1",SmtRes!DH4:'SmtRes'!DH6) -> 298.8 | S30: =SUMIF(SmtRes!AQ4:'SmtRes'!AQ6,"=1",SmtRes!DI4:'SmtRes'!DI6) -> 7050.6 | T30: =ROUND(CU30*I30,2) -> 0 | U30: =SUMIF(SmtRes!AQ4:'SmtRes'!AQ6,"=1",SmtRes!CV4:'SmtRes'!CV6) -> 20.706 | V30: =SUMIF(SmtRes!AQ4:'SmtRes'!AQ6,"=1",SmtRes!CW4:'SmtRes'!CW6) -> 0.6496 | W30: =ROUND(CX30*I30,2) -> 0 | X30: =ROUND(CY30,2) -> 8598.8 | Y30: =ROUND(CZ30,2) -> 5438.56 | AA30: 74014550 | AB30: =ROUND((AC30+AD30+AF30),6) -> 4011.3844 | AC30: =ROUND((0),6) -> 0 | AD30: =ROUND((((SUM(SmtRes!BR4:'SmtRes'!BR6))-(SUM(SmtRes!BS4:'SmtRes'!BS6)))+AE30),6) -> 538.1824 | AE30: =ROUND((SUM(SmtRes!BS4:'SmtRes'!BS6)),6) -> 147.1936 | AF30: =ROUND((SUM(SmtRes!BT4:'SmtRes'!BT6)),6) -> 3473.202 | AG30: =ROUND((AP30),6) -> 0 | AH30: =(SUM(SmtRes!BU4:'SmtRes'!BU6)) -> 10.2 | AI30: =(SUM(SmtRes!BV4:'SmtRes'!BV6)) -> 0.32 | AJ30: =(AS30) -> 0 | AK30: 4158.578 | AL30: 0 | AM30: 538.1824 | AN30: 147.1936 | AO30: 3473.202 | AP30: 0 | AQ30: 10.2 | AR30: 0.32 | AS30: 0 | AT30: 117 | AU30: 74 | AV30: 1 | AW30: 1 | AZ30: 1 | BA30: 1 | BB30: 1 | BC30: 1 | BH30: 0 | BI30: 1 | BJ30: ГЭСН-2022 доп.18, 23-01-001-01, приказ Минстроя России от 15.05.2026 г. № 301/пр | BM30: 23001 | BN30: 0 | BP30: 0 | BQ30: 2 | BR30: 0 | BS30: 1 | BT30: 1 | BU30: 1 | BV30: 1 | BW30: 1 | BX30: 1 | BZ30: 117 | CA30: 74 | CE30: 0 | CF30: 0 | CG30: 0 | CM30: 0 | CO30: 0 | CP30: =(P30+Q30+S30+R30) -> 8441.91 | CQ30: =SUMIF(SmtRes!AQ4:'SmtRes'!AQ6,"=1",SmtRes!AA4:'SmtRes'!AA6) -> 0 | CR30: =SUMIF(SmtRes!AQ4:'SmtRes'!AQ6,"=1",SmtRes!AB4:'SmtRes'!AB6) -> 1681.82 | CS30: =SUMIF(SmtRes!AQ4:'SmtRes'!AQ6,"=1",SmtRes!AC4:'SmtRes'!AC6) -> 459.98 | CT30: =SUMIF(SmtRes!AQ4:'SmtRes'!AQ6,"=1",SmtRes!AD4:'SmtRes'!AD6) -> 340.51 | CU30: =AG30 -> 0 | CV30: =SUMIF(SmtRes!AQ4:'SmtRes'!AQ6,"=1",SmtRes!BU4:'SmtRes'!BU6) -> 10.2 | CW30: =SUMIF(SmtRes!AQ4:'SmtRes'!AQ6,"=1",SmtRes!BV4:'SmtRes'!BV6) -> 0.32 | CX30: =AJ30 -> 0 | CY30: =(((S30+R30)*AT30)/100) -> 8598.798 | CZ30: =(((S30+R30)*AU30)/100) -> 5438.556 | DN30: 0 | DO30: 0 | DP30: 1 | DQ30: 1 | DU30: 1007 | DV30: 10 м3 | DW30: 10 м3 | DX30: 10 | EE30: 72340631 | EF30: 2 | EG30: Общестроительные работы | EH30: 18 | EI30: Наружные сети водопровода, канализации, теплоснабжения, газопроводы | EJ30: 1 | EK30: 23001 | EL30: Наружные сети водопровода, канализации, теплоснабжения, газопроводы | EM30: ФЕР-23 | EQ30: 0 | ER30: 0 | ES30: 0 | ET30: 0 | EU30: 0 | EV30: 0 | EW30: 10.2 | EX30: 0.32 | EY30: 0 | FQ30: 0 | FR30: 0 | FS30: 0 | FX30: 117 | FY30: 74 | GD30: 1 | GF30: 1295446289 | GG30: 2 | GH30: 1 | GI30: -2 | GJ30: 0 | GK30: 0 | GL30: =ROUND(IF(AND(BH30=3,BI30=3,FS30<>0),P30,0),2) -> 0 | GM30: =ROUND(O30+X30+Y30,2)+GX30 -> 22479.27 | GN30: =IF(OR(BI30=0,BI30=1),GM30-GX30,0) -> 22479.27 | GO30: =IF(BI30=2,GM30-GX30,0) -> 0 | GP30: =IF(BI30=4,GM30-GX30,0) -> 0 | GR30: 0 | GS30: 3 | GT30: 0 | GV30: =ROUND((GT30),6) -> 0 | GW30: 1 | GX30: =ROUND(HC30*I30,2) -> 0 | HA30: 0 | HB30: 0 | HC30: =GV30*GW30 -> 0 | HN30: Пр/812-018.0-1 | HO30: Пр/774-018.0 | HP30: Наружные сети водопровода, канализации, теплоснабжения, газопроводы | HQ30: Наружные сети водопровода, канализации, теплоснабжения, газопроводы | HS30: 0 | IK30: 0
A31: 17 | B31: 1 | E31: 4 | F31: 02.1.01.02-0003 | G31: Грунт песчаный (пескогрунт) | H31: м3 | I31: 20.3 | J31: 0 | K31: 20.3 | O31: =ROUND(CP31,2) -> 11064.31 | P31: =ROUND(CQ31*I31,2) -> 11064.31 | Q31: =ROUND(CR31*I31,2) -> 0 | R31: =ROUND(CS31*I31,2) -> 0 | S31: =ROUND(CT31*I31,2) -> 0 | T31: =ROUND(CU31*I31,2) -> 0 | U31: =ROUND(CV31*I31,7) -> 0 | V31: =ROUND(CW31*I31,7) -> 0 | W31: =ROUND(CX31*I31,2) -> 0 | X31: =ROUND(CY31,2) -> 0 | Y31: =ROUND(CZ31,2) -> 0 | AA31: 74014550 | AB31: =ROUND((AC31+AD31+AF31),6) -> 514.19 | AC31: =ROUND((ES31),6) -> 514.19 | AD31: =ROUND((((ET31)-(EU31))+AE31),6) -> 0 | AE31: =ROUND((EU31),6) -> 0 | AF31: =ROUND((EV31),6) -> 0 | AG31: =ROUND((AP31),6) -> 0 | AH31: =(EW31) -> 0 | AI31: =(EX31) -> 0 | AJ31: =(AS31) -> 0 | AK31: 514.19 | AL31: 514.19 | AM31: 0 | AN31: 0 | AO31: 0 | AP31: 0 | AQ31: 0 | AR31: 0 | AS31: 0 | AT31: 0 | AU31: 0 | AV31: 1 | AW31: 1 | AZ31: 1 | BA31: 1 | BB31: 1 | BC31: 1.06 | BH31: 3 | BI31: 1 | BJ31: ФСБЦ-2022, 02.1.01.02-0003, приказ Минстроя России от 18.05.2022 г. № 378/пр | BM31: 500001 | BN31: 0 | BO31: 02.1.01.02-0003 | BP31: 1 | BQ31: 8 | BR31: 0 | BS31: 1 | BT31: 1 | BU31: 1 | BV31: 1 | BW31: 1 | BX31: 1 | BZ31: 0 | CA31: 0 | CE31: 0 | CF31: 0 | CG31: 0 | CM31: 0 | CO31: 0 | CP31: =(P31+Q31+S31+R31) -> 11064.31 | CQ31: =ROUND(AL31*BC31,2) -> 545.04 | CR31: =ROUND(AM31*BB31,2) -> 0 | CS31: =ROUND(AN31*BS31,2) -> 0 | CT31: =ROUND(AO31*BA31,2) -> 0 | CU31: =AG31 -> 0 | CV31: =AH31 -> 0 | CW31: =AI31 -> 0 | CX31: =AJ31 -> 0 | CY31: =0 -> 0 | CZ31: =0 -> 0 | DN31: 0 | DO31: 0 | DP31: 1 | DQ31: 1 | DU31: 1007 | DV31: м3 | DW31: м3 | DX31: 1 | EE31: 72340530 | EF31: 8 | EG31: Материалы строительные | EH31: 0 | EJ31: 1 | EK31: 500001 | EL31: Материалы и конструкции ( строительные ) по ценникам и каталогом | EM31: ФССЦст | EQ31: 0 | ER31: 514.19 | ES31: 514.19 | ET31: 0 | EU31: 0 | EV31: 0 | EW31: 0 | EX31: 0 | EY31: 0 | FQ31: 0 | FR31: 0 | FS31: 0 | FX31: 0 | FY31: 0 | GD31: 1 | GF31: 860101986 | GG31: 2 | GH31: 1 | GI31: 2 | GJ31: 0 | GK31: 0 | GL31: =ROUND(IF(AND(BH31=3,BI31=3,FS31<>0),P31,0),2) -> 0 | GM31: =ROUND(O31+X31+Y31,2)+GX31 -> 11064.31 | GN31: =IF(OR(BI31=0,BI31=1),GM31-GX31,0) -> 11064.31 | GO31: =IF(BI31=2,GM31-GX31,0) -> 0 | GP31: =IF(BI31=4,GM31-GX31,0) -> 0 | GR31: 0 | GS31: 3 | GT31: 0 | GV31: =ROUND((GT31),6) -> 0 | GW31: 1 | GX31: =ROUND(HC31*I31,2) -> 0 | HA31: 0 | HB31: 0 | HC31: =GV31*GW31 -> 0 | HS31: 0 | IK31: 0
A32: 17 | B32: 1 | C32: =ROW(SmtRes!A8) -> 8 | D32: =ROW(EtalonRes!A9) -> 9 | E32: 5 | F32: 01-01-033-02 | G32: Засыпка траншей и котлованов с перемещением грунта до 5 м бульдозерами мощностью: 59 кВт (80 л.с.), группа грунтов 2 | H32: 1000 м3 | I32: =ROUND(116/1000,7) -> 0.116 | J32: 0 | K32: =ROUND(116/1000,7) -> 0.116 | O32: =ROUND(CP32,2) -> 1521.82 | P32: =SUMIF(SmtRes!AQ7:'SmtRes'!AQ8,"=1",SmtRes!DF7:'SmtRes'!DF8) -> 0 | Q32: =SUMIF(SmtRes!AQ7:'SmtRes'!AQ8,"=1",SmtRes!DG7:'SmtRes'!DG8) -> 1091.76 | R32: =SUMIF(SmtRes!AQ7:'SmtRes'!AQ8,"=1",SmtRes!DH7:'SmtRes'!DH8) -> 430.06 | S32: =SUMIF(SmtRes!AQ7:'SmtRes'!AQ8,"=1",SmtRes!DI7:'SmtRes'!DI8) -> 0 | T32: =ROUND(CU32*I32,2) -> 0 | U32: =SUMIF(SmtRes!AQ7:'SmtRes'!AQ8,"=1",SmtRes!CV7:'SmtRes'!CV8) -> 0 | V32: =SUMIF(SmtRes!AQ7:'SmtRes'!AQ8,"=1",SmtRes!CW7:'SmtRes'!CW8) -> 0.93496 | W32: =ROUND(CX32*I32,2) -> 0 | X32: =ROUND(CY32,2) -> 395.66 | Y32: =ROUND(CZ32,2) -> 197.83 | AA32: 74014550 | AB32: =ROUND((AC32+AD32+AF32),6) -> 6674.9696 | AC32: =ROUND((0),6) -> 0 | AD32: =ROUND((((SUM(SmtRes!BR7:'SmtRes'!BR8))-(SUM(SmtRes!BS7:'SmtRes'!BS8)))+AE32),6) -> 6674.9696 | AE32: =ROUND((SUM(SmtRes!BS7:'SmtRes'!BS8)),6) -> 3707.4388 | AF32: =ROUND((0),6) -> 0 | AG32: =ROUND((AP32),6) -> 0 | AH32: =(0) -> 0 | AI32: =(SUM(SmtRes!BV7:'SmtRes'!BV8)) -> 8.06 | AJ32: =(AS32) -> 0 | AK32: 10382.408 | AL32: 0 | AM32: 6674.9696 | AN32: 3707.4388 | AO32: 0 | AP32: 0 | AQ32: 0 | AR32: 8.06 | AS32: 0 | AT32: 92 | AU32: 46 | AV32: 1 | AW32: 1 | AZ32: 1 | BA32: 1 | BB32: 1 | BC32: 1 | BH32: 0 | BI32: 1 | BJ32: ГЭСН-2022, 01-01-033-02, приказ Минстроя России от 18.05.2022 г. № 378/пр | BM32: 1001 | BN32: 0 | BP32: 0 | BQ32: 2 | BR32: 0 | BS32: 1 | BT32: 1 | BU32: 1 | BV32: 1 | BW32: 1 | BX32: 1 | BZ32: 92 | CA32: 46 | CE32: 0 | CF32: 0 | CG32: 0 | CM32: 0 | CO32: 0 | CP32: =(P32+Q32+S32+R32) -> 1521.82 | CQ32: =SUMIF(SmtRes!AQ7:'SmtRes'!AQ8,"=1",SmtRes!AA7:'SmtRes'!AA8) -> 0 | CR32: =SUMIF(SmtRes!AQ7:'SmtRes'!AQ8,"=1",SmtRes!AB7:'SmtRes'!AB8) -> 1167.71 | CS32: =SUMIF(SmtRes!AQ7:'SmtRes'!AQ8,"=1",SmtRes!AC7:'SmtRes'!AC8) -> 459.98 | CT32: =SUMIF(SmtRes!AQ7:'SmtRes'!AQ8,"=1",SmtRes!AD7:'SmtRes'!AD8) -> 0 | CU32: =AG32 -> 0 | CV32: =SUMIF(SmtRes!AQ7:'SmtRes'!AQ8,"=1",SmtRes!BU7:'SmtRes'!BU8) -> 0 | CW32: =SUMIF(SmtRes!AQ7:'SmtRes'!AQ8,"=1",SmtRes!BV7:'SmtRes'!BV8) -> 8.06 | CX32: =AJ32 -> 0 | CY32: =(((S32+R32)*AT32)/100) -> 395.6552 | CZ32: =(((S32+R32)*AU32)/100) -> 197.8276 | DN32: 0 | DO32: 0 | DP32: 1 | DQ32: 1 | DU32: 1007 | DV32: 1000 м3 | DW32: 1000 м3 | DX32: 1000 | EE32: 72340571 | EF32: 2 | EG32: Общестроительные работы | EH32: 1 | EI32: Земляные работы | EJ32: 1 | EK32: 1001 | EL32: Земляные работы, выполняемые: механизированным способом | EM32: ФЕР-01 | EQ32: 0 | ER32: 0 | ES32: 0 | ET32: 0 | EU32: 0 | EV32: 0 | EW32: 0 | EX32: 8.06 | EY32: 0 | FQ32: 0 | FR32: 0 | FS32: 0 | FX32: 92 | FY32: 46 | GD32: 1 | GF32: 1607513880 | GG32: 2 | GH32: 1 | GI32: -2 | GJ32: 0 | GK32: 0 | GL32: =ROUND(IF(AND(BH32=3,BI32=3,FS32<>0),P32,0),2) -> 0 | GM32: =ROUND(O32+X32+Y32,2)+GX32 -> 2115.31 | GN32: =IF(OR(BI32=0,BI32=1),GM32-GX32,0) -> 2115.31 | GO32: =IF(BI32=2,GM32-GX32,0) -> 0 | GP32: =IF(BI32=4,GM32-GX32,0) -> 0 | GR32: 0 | GS32: 0 | GT32: 0 | GV32: =ROUND((GT32),6) -> 0 | GW32: 1 | GX32: =ROUND(HC32*I32,2) -> 0 | HA32: 0 | HB32: 0 | HC32: =GV32*GW32 -> 0 | HN32: Пр/812-001.1-1 | HO32: Пр/774-001.1 | HP32: Земляные работы, выполняемые: механизированным способом | HQ32: Земляные работы, выполняемые: механизированным способом | HS32: 0 | IK32: 0
A33: 17 | B33: 1 | C33: =ROW(SmtRes!A9) -> 9 | D33: =ROW(EtalonRes!A10) -> 10 | E33: 6 | F33: 01-02-061-02 | G33: Засыпка вручную траншей, пазух котлованов и ям, группа грунтов: 2 | H33: 100 м3 | I33: =ROUND(10/100,7) -> 0.1 | J33: 0 | K33: =ROUND(10/100,7) -> 0.1 | O33: =ROUND(CP33,2) -> 3033.9 | P33: =SUMIF(SmtRes!AQ9:'SmtRes'!AQ9,"=1",SmtRes!DF9:'SmtRes'!DF9) -> 0 | Q33: =SUMIF(SmtRes!AQ9:'SmtRes'!AQ9,"=1",SmtRes!DG9:'SmtRes'!DG9) -> 0 | R33: =SUMIF(SmtRes!AQ9:'SmtRes'!AQ9,"=1",SmtRes!DH9:'SmtRes'!DH9) -> 0 | S33: =SUMIF(SmtRes!AQ9:'SmtRes'!AQ9,"=1",SmtRes!DI9:'SmtRes'!DI9) -> 3033.9 | T33: =ROUND(CU33*I33,2) -> 0 | U33: =SUMIF(SmtRes!AQ9:'SmtRes'!AQ9,"=1",SmtRes!CV9:'SmtRes'!CV9) -> 9.72 | V33: =SUMIF(SmtRes!AQ9:'SmtRes'!AQ9,"=1",SmtRes!CW9:'SmtRes'!CW9) -> 0 | W33: =ROUND(CX33*I33,2) -> 0 | X33: =ROUND(CY33,2) -> 2700.17 | Y33: =ROUND(CZ33,2) -> 1213.56 | AA33: 74014550 | AB33: =ROUND((AC33+AD33+AF33),6) -> 30339.036 | AC33: =ROUND((0),6) -> 0 | AD33: =ROUND((((0)-(0))+AE33),6) -> 0 | AE33: =ROUND((0),6) -> 0 | AF33: =ROUND((SUM(SmtRes!BT9:'SmtRes'!BT9)),6) -> 30339.036 | AG33: =ROUND((AP33),6) -> 0 | AH33: =(SUM(SmtRes!BU9:'SmtRes'!BU9)) -> 97.2 | AI33: =(0) -> 0 | AJ33: =(AS33) -> 0 | AK33: 30339.036 | AL33: 0 | AM33: 0 | AN33: 0 | AO33: 30339.036 | AP33: 0 | AQ33: 97.2 | AR33: 0 | AS33: 0 | AT33: 89 | AU33: 40 | AV33: 1 | AW33: 1 | AZ33: 1 | BA33: 1 | BB33: 1 | BC33: 1 | BH33: 0 | BI33: 1 | BJ33: ГЭСН-2022, 01-02-061-02, приказ Минстроя России от 18.05.2022 г. № 378/пр | BM33: 1003 | BN33: 0 | BP33: 0 | BQ33: 2 | BR33: 0 | BS33: 1 | BT33: 1 | BU33: 1 | BV33: 1 | BW33: 1 | BX33: 1 | BZ33: 89 | CA33: 40 | CE33: 0 | CF33: 0 | CG33: 0 | CM33: 0 | CO33: 0 | CP33: =(P33+Q33+S33+R33) -> 3033.9 | CQ33: =SUMIF(SmtRes!AQ9:'SmtRes'!AQ9,"=1",SmtRes!AA9:'SmtRes'!AA9) -> 0 | CR33: =SUMIF(SmtRes!AQ9:'SmtRes'!AQ9,"=1",SmtRes!AB9:'SmtRes'!AB9) -> 0 | CS33: =SUMIF(SmtRes!AQ9:'SmtRes'!AQ9,"=1",SmtRes!AC9:'SmtRes'!AC9) -> 0 | CT33: =SUMIF(SmtRes!AQ9:'SmtRes'!AQ9,"=1",SmtRes!AD9:'SmtRes'!AD9) -> 312.13 | CU33: =AG33 -> 0 | CV33: =SUMIF(SmtRes!AQ9:'SmtRes'!AQ9,"=1",SmtRes!BU9:'SmtRes'!BU9) -> 97.2 | CW33: =SUMIF(SmtRes!AQ9:'SmtRes'!AQ9,"=1",SmtRes!BV9:'SmtRes'!BV9) -> 0 | CX33: =AJ33 -> 0 | CY33: =(((S33+R33)*AT33)/100) -> 2700.171 | CZ33: =(((S33+R33)*AU33)/100) -> 1213.56 | DN33: 0 | DO33: 0 | DP33: 1 | DQ33: 1 | DU33: 1007 | DV33: 100 м3 | DW33: 100 м3 | DX33: 100 | EE33: 72340573 | EF33: 2 | EG33: Общестроительные работы | EH33: 1 | EI33: Земляные работы | EJ33: 1 | EK33: 1003 | EL33: Земляные работы, выполняемые: ручным способом | EM33: ФЕР-01 | EQ33: 0 | ER33: 0 | ES33: 0 | ET33: 0 | EU33: 0 | EV33: 0 | EW33: 97.2 | EX33: 0 | EY33: 0 | FQ33: 0 | FR33: 0 | FS33: 0 | FX33: 89 | FY33: 40 | GD33: 1 | GF33: -1673785635 | GG33: 2 | GH33: 1 | GI33: -2 | GJ33: 0 | GK33: 0 | GL33: =ROUND(IF(AND(BH33=3,BI33=3,FS33<>0),P33,0),2) -> 0 | GM33: =ROUND(O33+X33+Y33,2)+GX33 -> 6947.63 | GN33: =IF(OR(BI33=0,BI33=1),GM33-GX33,0) -> 6947.63 | GO33: =IF(BI33=2,GM33-GX33,0) -> 0 | GP33: =IF(BI33=4,GM33-GX33,0) -> 0 | GR33: 0 | GS33: 0 | GT33: 0 | GV33: =ROUND((GT33),6) -> 0 | GW33: 1 | GX33: =ROUND(HC33*I33,2) -> 0 | HA33: 0 | HB33: 0 | HC33: =GV33*GW33 -> 0 | HN33: Пр/812-001.2-1 | HO33: Пр/774-001.2 | HP33: Земляные работы, выполняемые: ручным способом | HQ33: Земляные работы, выполняемые: ручным способом | HS33: 0 | IK33: 0
A35: 51 | B35: =B24 -> 1 | C35: =A24 -> 4 | D35: =ROW(A24) -> 24 | F35: =IF(F24<>"",F24,"") -> Новый раздел | G35: =IF(G24<>"",G24,"") -> Земляные работы | H35: 0 | O35: =ROUND(AB35,2) -> 43278.92 | P35: =ROUND(AC35,2) -> 11064.31 | Q35: =ROUND(AD35,2) -> 6314.84 | R35: =ROUND(AE35,2) -> 2278.07 | S35: =ROUND(AF35,2) -> 23621.7 | T35: =ROUND(AG35,2) -> 0 | U35: =AH35 -> 72.006 | V35: =AI35 -> 4.46606 | W35: =ROUND(AJ35,2) -> 0 | X35: =ROUND(AK35,2) -> 25168.01 | Y35: =ROUND(AL35,2) -> 12977.47 | AB35: =ROUND(SUMIF(AA28:AA33,"=74014550",O28:O33),2) -> 43278.92 | AC35: =ROUND(SUMIF(AA28:AA33,"=74014550",P28:P33),2) -> 11064.31 | AD35: =ROUND(SUMIF(AA28:AA33,"=74014550",Q28:Q33),2) -> 6314.84 | AE35: =ROUND(SUMIF(AA28:AA33,"=74014550",R28:R33),2) -> 2278.07 | AF35: =ROUND(SUMIF(AA28:AA33,"=74014550",S28:S33),2) -> 23621.7 | AG35: =ROUND(SUMIF(AA28:AA33,"=74014550",T28:T33),2) -> 0 | AH35: =SUMIF(AA28:AA33,"=74014550",U28:U33) -> 72.006 | AI35: =SUMIF(AA28:AA33,"=74014550",V28:V33) -> 4.46606 | AJ35: =ROUND(SUMIF(AA28:AA33,"=74014550",W28:W33),2) -> 0 | AK35: =ROUND(SUMIF(AA28:AA33,"=74014550",X28:X33),2) -> 25168.01 | AL35: =ROUND(SUMIF(AA28:AA33,"=74014550",Y28:Y33),2) -> 12977.47 | AO35: =ROUND(BX35,2) -> 0 | AP35: =ROUND(BY35,2) -> 0 | AQ35: =ROUND(BZ35,2) -> 0 | AR35: =ROUND(CA35,2) -> 81424.4 | AS35: =ROUND(CB35,2) -> 81424.4 | AT35: =ROUND(CC35,2) -> 0 | AU35: =ROUND(CD35,2) -> 0 | AV35: =ROUND(CE35,2) -> 11064.31 | ... BD35: =ROUND(CM35,2) -> 0 | BX35: =ROUND(SUMIF(AA28:AA33,"=74014550",FQ28:FQ33),2) -> 0 | BY35: =ROUND(SUMIF(AA28:AA33,"=74014550",FR28:FR33),2) -> 0 | BZ35: =ROUND(SUMIF(AA28:AA33,"=74014550",GL28:GL33),2) -> 0 | CA35: =ROUND(SUMIF(AA28:AA33,"=74014550",GM28:GM33),2) -> 81424.4 | CB35: =ROUND(SUMIF(AA28:AA33,"=74014550",GN28:GN33),2) -> 81424.4 | CC35: =ROUND(SUMIF(AA28:AA33,"=74014550",GO28:GO33),2) -> 0 | CD35: =ROUND(SUMIF(AA28:AA33,"=74014550",GP28:GP33),2) -> 0 | CE35: =AC35-BX35 -> 11064.31 | CF35: =AC35-BY35 -> 11064.31 | CG35: =BX35-BZ35 -> 0 | CH35: =AC35-BX35-BY35+BZ35 -> 11064.31 | CI35: =BY35-BZ35 -> 0 | CJ35: =ROUND(SUMIF(AA28:AA33,"=74014550",GX28:GX33),2) -> 0 | CK35: =ROUND(SUMIF(AA28:AA33,"=74014550",GY28:GY33),2) -> 0 | CL35: =ROUND(SUMIF(AA28:AA33,"=74014550",GZ28:GZ33),2) -> 0 | CM35: =ROUND(SUMIF(AA28:AA33,"=74014550",HD28:HD33),2) -> 0 | GX35: 0
A37: 50 | B37: 0 | C37: 0 | D37: 1 | E37: 201 | F37: =ROUND(Source!O35,O37) -> 43278.92 | G37: ПЗ | H37: Прямые затраты | K37: 201 | L37: 1 | M37: 3 | O37: 2 | W37: 43278.92 | X37: 1 | Y37: 43278.92
A38: 50 | B38: 0 | C38: 0 | D38: 1 | E38: 202 | F38: =ROUND(Source!P35,O38) -> 11064.31 | G38: СтМатОб | H38: Стоимость материальных ресурсов (всего) | K38: 202 | L38: 2 | M38: 3 | O38: 2 | W38: 11064.31 | X38: 1 | Y38: 11064.31
A39: 50 | B39: 0 | C39: 0 | D39: 1 | E39: 222 | F39: =ROUND(Source!AO35,O39) -> 0 | G39: СтМатОбЗак | H39: Стоимость материалов и оборудования заказчика | K39: 222 | L39: 3 | M39: 3 | O39: 2 | W39: 0 | X39: 1 | Y39: 0
A40: 50 | B40: 0 | C40: 0 | D40: 1 | E40: 225 | F40: =ROUND(Source!AV35,O40) -> 11064.31 | G40: СтМатОбПод | H40: Стоимость материалов и оборудования подрядчика | K40: 225 | L40: 4 | M40: 3 | O40: 2 | W40: 11064.31 | X40: 1 | Y40: 11064.31
A41: 50 | B41: 0 | C41: 0 | D41: 1 | E41: 226 | F41: =ROUND(Source!AW35,O41) -> 11064.31 | G41: СтМат | H41: Стоимость материалов (всего) | K41: 226 | L41: 5 | M41: 3 | O41: 2 | W41: 11064.31 | X41: 1 | Y41: 11064.31
A42: 50 | B42: 0 | C42: 0 | D42: 1 | E42: 227 | F42: =ROUND(Source!AX35,O42) -> 0 | G42: СтМатЗак | H42: Стоимость материалов заказчика | K42: 227 | L42: 6 | M42: 3 | O42: 2 | W42: 0 | X42: 1 | Y42: 0
A43: 50 | B43: 0 | C43: 0 | D43: 1 | E43: 228 | F43: =ROUND(Source!AY35,O43) -> 11064.31 | G43: СтМатПод | H43: Стоимость материалов подрядчика | K43: 228 | L43: 7 | M43: 3 | O43: 2 | W43: 11064.31 | X43: 1 | Y43: 11064.31
A44: 50 | B44: 0 | C44: 0 | D44: 1 | E44: 216 | F44: =ROUND(Source!AP35,O44) -> 0 | G44: Оборуд | H44: Стоимость оборудования (всего) | K44: 216 | L44: 8 | M44: 3 | O44: 2 | W44: 0 | X44: 1 | Y44: 0
A45: 50 | B45: 0 | C45: 0 | D45: 1 | E45: 223 | F45: =ROUND(Source!AQ35,O45) -> 0 | G45: ОборудЗак | H45: Стоимость оборудования заказчика | K45: 223 | L45: 9 | M45: 3 | O45: 2 | W45: 0 | X45: 1 | Y45: 0
A46: 50 | B46: 0 | C46: 0 | D46: 1 | E46: 229 | F46: =ROUND(Source!AZ35,O46) -> 0 | G46: ОборудПод | H46: Стоимость оборудования подрядчика | K46: 229 | L46: 10 | M46: 3 | O46: 2 | W46: 0 | X46: 1 | Y46: 0
A47: 50 | B47: 0 | C47: 0 | D47: 1 | E47: 203 | F47: =ROUND(Source!Q35,O47) -> 6314.84 | G47: ЭММ | H47: Эксплуатация машин | K47: 203 | L47: 11 | M47: 3 | O47: 2 | W47: 6314.84 | X47: 1 | Y47: 6314.84
A48: 50 | B48: 0 | C48: 0 | D48: 1 | E48: 231 | F48: =ROUND(Source!BB35,O48) -> 0 | G48: ЭММсНРиСП | H48: Эксплуатация машин по ТСН-2001.16 | K48: 231 | L48: 12 | M48: 3 | O48: 2 | W48: 0 | X48: 1 | Y48: 0
A49: 50 | B49: 0 | C49: 0 | D49: 1 | E49: 204 | F49: =ROUND(Source!R35,O49) -> 2278.07 | G49: ЗПМ | H49: ЗП машинистов | K49: 204 | L49: 13 | M49: 3 | O49: 2 | W49: 2278.07 | X49: 1 | Y49: 2278.07
A50: 50 | B50: 0 | C50: 0 | D50: 1 | E50: 205 | F50: =ROUND(Source!S35,O50) -> 23621.7 | G50: ОЗП | H50: Основная ЗП рабочих | K50: 205 | L50: 14 | M50: 3 | O50: 2 | W50: 23621.7 | X50: 1 | Y50: 23621.7
A51: 50 | B51: 0 | C51: 0 | D51: 1 | E51: 232 | F51: =ROUND(Source!BC35,O51) -> 0 | G51: ОЗПсНРиСП | H51: Основная ЗП рабочих по ТСН-2001.16 | K51: 232 | L51: 15 | M51: 3 | O51: 2 | W51: 0 | X51: 1 | Y51: 0
A52: 50 | B52: 0 | C52: 0 | D52: 1 | E52: 214 | F52: =ROUND(Source!AS35,O52) -> 81424.4 | G52: Строит | H52: Строительные работы с НР и СП | K52: 214 | L52: 16 | M52: 3 | O52: 2 | W52: 81424.4 | X52: 1 | Y52: 81424.4
A53: 50 | B53: 0 | C53: 0 | D53: 1 | E53: 215 | F53: =ROUND(Source!AT35,O53) -> 0 | G53: Монтаж | H53: Монтажные работы с НР и СП | K53: 215 | L53: 17 | M53: 3 | O53: 2 | W53: 0 | X53: 1 | Y53: 0
A54: 50 | B54: 0 | C54: 0 | D54: 1 | E54: 217 | F54: =ROUND(Source!AU35,O54) -> 0 | G54: Прочие | H54: Прочие работы с НР и СП | K54: 217 | L54: 18 | M54: 3 | O54: 2 | W54: 0 | X54: 1 | Y54: 0
A55: 50 | B55: 0 | C55: 0 | D55: 1 | E55: 230 | F55: =ROUND(Source!BA35,O55) -> 0 | G55: ПрочиеЗатр | H55: Прочие затраты по ТСН-2001.16 | K55: 230 | L55: 19 | M55: 3 | O55: 2 | W55: 0 | X55: 1 | Y55: 0
A56: 50 | B56: 0 | C56: 0 | D56: 1 | E56: 206 | F56: =ROUND(Source!T35,O56) -> 0 | G56: ВозврМат | H56: Возврат материалов | K56: 206 | L56: 20 | M56: 3 | O56: 2 | W56: 0 | X56: 1 | Y56: 0
A57: 50 | B57: 0 | C57: 0 | D57: 1 | E57: 207 | F57: =ROUND(Source!U35,O57) -> 72.006 | G57: ТрудСтр | H57: Трудозатраты строителей | K57: 207 | L57: 21 | M57: 3 | O57: 7 | W57: 72.006 | X57: 1 | Y57: 72.006
A58: 50 | B58: 0 | C58: 0 | D58: 1 | E58: 208 | F58: =ROUND(Source!V35,O58) -> 4.46606 | G58: ТрудМаш | H58: Трудозатраты машинистов | K58: 208 | L58: 22 | M58: 3 | O58: 7 | W58: 4.46606 | X58: 1 | Y58: 4.46606
A59: 50 | B59: 0 | C59: 0 | D59: 1 | E59: 209 | F59: =ROUND(Source!W35,O59) -> 0 | G59: ТранспМат | H59: Транспорт материалов | K59: 209 | L59: 23 | M59: 3 | O59: 2 | W59: 0 | X59: 1 | Y59: 0
A60: 50 | B60: 0 | C60: 0 | D60: 1 | E60: 233 | F60: =ROUND(Source!BD35,O60) -> 0 | G60: Перевозка | H60: Перевозка грузов | K60: 233 | L60: 24 | M60: 3 | O60: 2 | W60: 0 | X60: 1 | Y60: 0
A61: 50 | B61: 0 | C61: 0 | D61: 1 | E61: 210 | F61: =ROUND(Source!X35,O61) -> 25168.01 | G61: НР | H61: Накладные расходы | K61: 210 | L61: 25 | M61: 3 | O61: 2 | W61: 25168.01 | X61: 1 | Y61: 25168.01
...

Sheet SourceObSm
A1: 0 | B1: Smeta.RU (495) 974-1589 | D1: _OBSM_ | F1: 0 | G1: 0 | H1: 0 | I1: Smeta.RU | K1: 1 | L1: 28180 | M1: 10 | N1: 12 | O1: 1 | P1: 0 | Q1: 5
A12: 1 | B12: 59 | C12: 0 | E12: 0 | F12: Новый объект_(Копия)_(Копия)_(Копия)_(Копия)_(Копия) | G12: Газопровод низкого давления к нежилому помещению,расположенному по адресу: Пензенская область,г.Кузнецк,ул.Кирова,155А/1 | I12: 0 | K12: 0 | L12: 0 | M12: 523 | O12: 0 | P12: 0 | Q12: 7 | R12: 0 | T12: 4 | V12: 0 | BB12: 0 | BH12: Сметные нормы списания | BI12: Коды ценников | BJ12: 1 | BK12: 1 | BL12: 0 | BM12: 0 | BN12: 1 | BO12: 0 | BP12: 6 | BQ12: 2 | BR12: 1 | BS12: 1 | BT12: 0 | BU12: 0 | BV12: 0 | BW12: 0 | BX12: 0 | BY12: ФСНБ-2022_И19 | BZ12: Версия 1.19.0 для ФСНБ-2022 И19 | CA12: ФСНБ-2022 - Изменения И19 | CB12: ФСНБ-2022 - Изменения И19 | CC12: ФСНБ-2022 - Изменения И19 | CD12: ФСНБ-2022 - Изменения И19 | CE12: Поправки для ФСНБ-2022 от 21.08.2026 г И19 (55/пр) Строительство | CF12: 0 | CG12: 0 | CH12: 487096328 | CK12: 19 | CQ12: Приказ Минстроя России от 30.12.2021 г. № 1046/пр; Приказ Минстроя России от 04.08.2020 г. № 421/пр; Приказ Минстроя России от 21.12.2020 г. № 812/пр; Приказ Минстроя России от 11.12.2020 г. № 774/пр | CR12: ГСН | CS12: 46248 | CT12: 570 | CU12: 19 | CV12: Приказ Минстроя России от 18.05.2022 г. № 378/пр; Приказ Минстроя России от 26.08.2022 г. № 703/пр; Приказ Минстроя России от 26.10.2022 г. № 905/пр; Приказ Минстроя России от 27.12.2022 г. № 1133/пр; Приказ Минстроя России от 10.02.2023 г. № 84/пр; Приказ Минстроя России от 11.05.2023 г. № 335/пр; Приказ Минстроя России от 02.08.2023 г. № 551/пр; Приказ Минстроя России от 14.11.2023 г. № 817/пр; Приказ Минстроя России от 16.02.2024 г. № 102/пр; Приказ Минстроя России от 13.05.2024 г. № 323/пр; Приказ Минстроя России от 09.08.2024 г. № 524/пр; Приказ Минстроя России от 07.11.2024 г. № 747/пр; Приказ Минстроя России от 07.02.2025 г. № 69/пр; Приказ Минстроя России от 19.05.2025 г. № 299/пр; Приказ Минстроя России от 14.08.2025 г. № 490/пр; Приказ Минстроя России от 12.11.2025 г. № 696/пр; Приказ Минстроя России от 17.02.2026 г. № 91/пр; Приказ Минстроя России от 15.05.2026 г. № 301/пр; Приказ Минстроя России от 12.08.2026 г. № 527/пр; Приказ Минстроя России от 07.07.2022 г. № 557/пр; Приказ Минстроя России от 30.01.2024 г. № 55/пр; Приказ Минстроя России от 23.01.2025 г. № 30/пр; Приказ Минстроя России от 02.09.2021 г. № 636/пр; Приказ Минстроя России от 26.07.2022 г. № 611/пр; Приказ Минстроя России от 22.04.2022 г. № 317/пр | CY12: 0 | EC12: 0
A14: 22 | B14: 1 | C14: 0 | D14: 74014550 | E14: 0 | F14: 2 | G14: 1
A16: 3 | B16: 1 | C16: Новая локальная смета | D16: Газопровод низкого давления | E16: =ROUND((Source!F255)/1000,2) -> 314.28 | F16: =ROUND((Source!F256)/1000,2) -> 14.24 | G16: =ROUND((Source!F247)/1000,2) -> 0 | H16: =ROUND((Source!F257)/1000+(Source!F258)/1000,2) -> 0 | I16: =E16+F16+G16+H16 -> 328.52 | J16: =ROUND((Source!F253+Source!F252)/1000,2) -> 70.64 | K16: 306.9 | L16: 0 | M16: 0 | N16: =I16+L16+M16 -> 328.52 | AI16: 0 | AJ16: -1 | AN16: 0 | AT16: 210262.06 | AU16: 96642.05 | AV16: 0 | AW16: 0 | AX16: 0 | AY16: 42984.01 | AZ16: 14698.73 | BA16: 55937.27 | BB16: 314279.77 | BC16: 14238.73 | BD16: 0 | BE16: 0 | BF16: 150.46113 | BG16: 30.978374 | BH16: 0 | BI16: 76006.48 | BJ16: 42249.96 | BK16: 328518.5
A18: 51 | E18: 314.28 | F18: 14.24 | G18: 0 | H18: 0 | I18: 328.52 | J18: 70.64 | K18: 306.9 | L18: 0 | M18: 0 | N18: 328.52
A20: 50 | B20: 0 | C20: 0 | D20: 1 | E20: 0 | F20: 210262.06 | G20: ПЗ | H20: Прямые затраты | K20: 201 | L20: 1 | M20: 3 | O20: 2
A21: 50 | B21: 0 | C21: 0 | D21: 1 | E21: 202 | F21: 96642.05 | G21: СтМатОб | H21: Стоимость материальных ресурсов (всего) | K21: 202 | L21: 2 | M21: 3 | O21: 2
A22: 50 | B22: 0 | C22: 0 | D22: 1 | E22: 222 | F22: 0 | G22: СтМатОбЗак | H22: Стоимость материалов и оборудования заказчика | K22: 222 | L22: 3 | M22: 3 | O22: 2
A23: 50 | B23: 0 | C23: 0 | D23: 1 | E23: 225 | F23: 96642.05 | G23: СтМатОбПод | H23: Стоимость материалов и оборудования подрядчика | K23: 225 | L23: 4 | M23: 3 | O23: 2
A24: 50 | B24: 0 | C24: 0 | D24: 1 | E24: 226 | F24: 96642.05 | G24: СтМат | H24: Стоимость материалов (всего) | K24: 226 | L24: 5 | M24: 3 | O24: 2
A25: 50 | B25: 0 | C25: 0 | D25: 1 | E25: 227 | F25: 0 | G25: СтМатЗак | H25: Стоимость материалов заказчика | K25: 227 | L25: 6 | M25: 3 | O25: 2
A26: 50 | B26: 0 | C26: 0 | D26: 1 | E26: 228 | F26: 96642.05 | G26: СтМатПод | H26: Стоимость материалов подрядчика | K26: 228 | L26: 7 | M26: 3 | O26: 2
A27: 50 | B27: 0 | C27: 0 | D27: 1 | E27: 216 | F27: 0 | G27: Оборуд | H27: Стоимость оборудования (всего) | K27: 216 | L27: 8 | M27: 3 | O27: 2
A28: 50 | B28: 0 | C28: 0 | D28: 1 | E28: 223 | F28: 0 | G28: ОборудЗак | H28: Стоимость оборудования заказчика | K28: 223 | L28: 9 | M28: 3 | O28: 2
A29: 50 | B29: 0 | C29: 0 | D29: 1 | E29: 229 | F29: 0 | G29: ОборудПод | H29: Стоимость оборудования подрядчика | K29: 229 | L29: 10 | M29: 3 | O29: 2
A30: 50 | B30: 0 | C30: 0 | D30: 1 | E30: 203 | F30: 42984.01 | G30: ЭММ | H30: Эксплуатация машин | K30: 203 | L30: 11 | M30: 3 | O30: 2
A31: 50 | B31: 0 | C31: 0 | D31: 1 | E31: 231 | F31: 0 | G31: ЭММсНРиСП | H31: Эксплуатация машин по ТСН-2001.16 | K31: 231 | L31: 12 | M31: 3 | O31: 2
... A54: 50 | B54: 1 | C54: 0 | D54: 2 | E54: 213 | F54: 400135 | G54: Итог8 | H54: Всего | K54: 212 | L54: 35 | M54: 0 | O54: 2
A56: -1
A59: 75 | B59: Уровень цен | C59: 2026 | D59: 0 | E59: 9 | F59: 1 | G59: 0 | H59: 1 | I59: 0 | J59: 3 | K59: 0 | L59: 0 | M59: 0 | N59: 74014550 | O59: 1
A60: 2 | B60: Вид цен | C60: Пензенская область, КТЦ к ФСНБ-2022, 3 квартал 2026 г | D60: 0 | E60: 0 | F60: 0 | AN60: 74014551
A61: 1 | B61: Сборник индексов | C61: Пензенская область к ФСНБ-2022 ФГИС ЦС | D61: 2026 | E61: 9 | F61: 1 | G61: 1 | H61: 0 | I61: 2 | J61: 1 | K61: 1 | L61: 1 | M61: 1 | N61: 1 | O61: 1 | P61: 1 | Q61: 1 | AN61: 74014552 | AO61: Письмо Минстроя России «О размещении индексов изменения сметной стоимости строительства по группам однородных строительных ресурсов на III квартал 2026 года» | AP61: Справочная информация | AQ61: 46258 | AR61: 423 | AS61: Письмо Минстроя России от 24.08.2026 № 52419-ИФ/09 | AT61: Приказ Министерства градостроительства и архитектуры Пензенской области | AU61: Справочная информация | AV61: 46087 | AW61: 250 | AX61: Приказ Министерства градостроительства и архитектуры Пензенской области от 06.03.2026 г. № 250/оп

Sheet SmtRes
A1: =ROW(Source!A28) -> 28 | B1: 74014550 | C1: 74015987 | D1: 20049115 | E1: 117 | F1: 1 | G1: 1 | H1: 1 | I1: 4-100-00 | K1: Затраты труда машинистов | L1: 1191 | N1: 1013 | O1: чел.-ч. | P1: чел.-ч. | Q1: 1 | W1: 0 | X1: -1417349443 | Y1: =AT1 -> 25.5 | AA1: 0 | AB1: 0 | AC1: 0 | AD1: 0 | AE1: 0 | AF1: 0 | AG1: 0 | AH1: 0 | AI1: 1 | AJ1: 1 | AK1: 1 | AL1: 1 | AM1: -2 | AN1: 0 | AO1: 0 | AP1: 1 | AQ1: 1 | AR1: 0 | AT1: 25.5 | AV1: 2 | AW1: 2 | AX1: 74015990 | AY1: 1 | AZ1: 0 | BA1: 1 | BB1: 1 | BC1: 0 | BD1: 0 | BE1: 0 | BF1: 0 | BG1: 0 | BH1: 0 | BI1: 0 | BJ1: 0 | BK1: 0 | BL1: 0 | BM1: 0 | BN1: 0 | BO1: 0 | BP1: 0 | BQ1: 0 | BR1: 0 | BS1: 0 | BT1: 0 | BU1: 0 | BV1: 0 | BW1: 0 | CV1: 0 | CW1: 0 | CX1: =ROUND(Y1*Source!I28,7) -> 2.8815 | CY1: =AD1 -> 0 | CZ1: =AH1 -> 0 | DA1: =AL1 -> 1 | DB1: =ROUND(ROUND(AT1*CZ1,2),6) -> 0 | DC1: =ROUND(ROUND(AT1*AG1,2),6) -> 0 | DF1: =ROUND(ROUND(AE1,2)*CX1,2) -> 0 | DG1: =ROUND(ROUND(AF1,2)*CX1,2) -> 0 | DH1: =ROUND(ROUND(AG1,2)*CX1,2) -> 0 | DI1: =ROUND(ROUND(AH1,2)*CX1,2) -> 0 | DJ1: =DI1 -> 0 | DK1: 0 | DM1: 0 | DO1: 0
A2: =ROW(Source!A28) -> 28 | B2: 74014550 | C2: 74015987 | D2: 68782761 | E2: 1 | F2: 1 | G2: 1 | H2: 2 | I2: 91.01.05-085 | J2: ФСЭМ-2022, 91.01.05-085, приказ Минстроя России от 18.05.2022 г. № 378/пр | K2: Экскаваторы одноковшовые дизельные на гусеничном ходу, объем ковша 0,5 м3 | L2: 1368 | N2: 1011 | O2: маш.-ч | P2: маш.-ч | Q2: 1 | W2: 0 | X2: -472970762 | Y2: =AT2 -> 25.5 | AA2: 0 | AB2: 1433.48 | AC2: 537.64 | AD2: 0 | AE2: 0 | AF2: 1054.03 | AG2: 537.64 | AH2: 0 | AI2: 1 | AJ2: 1.36 | AK2: 1 | AL2: 1 | AM2: 2 | AN2: 0 | AO2: 0 | AP2: 1 | AQ2: 1 | AR2: 0 | AT2: 25.5 | AV2: 1 | AW2: 2 | AX2: 74015991 | AY2: 2 | AZ2: 65536 | BA2: 2 | BB2: 1 | BC2: 0 | BD2: 0 | BE2: 0 | BF2: 0 | BG2: 0 | BH2: 0 | BI2: 0 | BJ2: 0 | BK2: 26877.765 | BL2: 13709.82 | BM2: 0 | BN2: 0 | BO2: 25.5 | BP2: 1 | BQ2: 0 | BR2: 26877.765 | BS2: 13709.82 | BT2: 0 | BU2: 0 | BV2: 25.5 | BW2: 1 | CV2: 0 | CW2: =ROUND(Y2*Source!I28*DO2,7) -> 2.8815 | CX2: =ROUND(Y2*Source!I28,7) -> 2.8815 | CY2: =AB2 -> 1433.48 | CZ2: =AF2 -> 1054.03 | DA2: =AJ2 -> 1.36 | DB2: =ROUND(ROUND(AT2*CZ2,2),6) -> 26877.77 | DC2: =ROUND(ROUND(AT2*AG2,2),6) -> 13709.82 | DF2: =ROUND(ROUND(AE2,2)*CX2,2) -> 0 | DG2: =ROUND(ROUND(AF2*AJ2,2)*CX2,2) -> 4130.57 | DH2: =ROUND(ROUND(AG2,2)*CX2,2) -> 1549.21 | DI2: =ROUND(ROUND(AH2,2)*CX2,2) -> 0 | DJ2: =DG2+DH2 -> 5679.78 | DK2: 0 | DL2: 4-100-060 | DM2: 6 | DN2: чел.-ч. | DO2: 1
A3: =ROW(Source!A29) -> 29 | B3: 74014550 | C3: 74015992 | D3: 72518592 | E3: 119 | F3: 1 | G3: 1 | H3: 1 | I3: 1-100-20 | K3: Средний разряд работы 2,0 | L3: 1191 | N3: 1013 | O3: чел.-ч. | P3: чел.-ч. | Q3: 1 | W3: 0 | X3: 370475345 | Y3: =AT3 -> 154 | AA3: 0 | AB3: 0 | AC3: 0 | AD3: 325.57 | AE3: 0 | AF3: 0 | AG3: 0 | AH3: 325.57 | AI3: 1 | AJ3: 1 | AK3: 1 | AL3: 1 | AM3: -2 | AN3: 0 | AO3: 0 | AP3: 1 | AQ3: 1 | AR3: 0 | AT3: 154 | AV3: 1 | AW3: 2 | AX3: 74017904 | AY3: 1 | AZ3: 0 | BA3: 3 | BB3: 1 | BC3: 0 | BD3: 0 | BE3: 0 | BF3: 0 | BG3: 0 | BH3: 0 | BI3: 0 | BJ3: 0 | BK3: 0 | BL3: 0 | BM3: 50137.78 | BN3: 154 | BO3: 0 | BP3: 1 | BQ3: 0 | BR3: 0 | BS3: 0 | BT3: 50137.78 | BU3: 154 | BV3: 0 | BW3: 1 | CU3: =ROUND(AT3*Source!I29*AH3*AL3,2) -> 13537.2 | CV3: =ROUND(Y3*Source!I29,7) -> 41.58 | CW3: 0 | CX3: =ROUND(Y3*Source!I29,7) -> 41.58 | CY3: =AD3 -> 325.57 | CZ3: =AH3 -> 325.57 | DA3: =AL3 -> 1 | DB3: =ROUND(ROUND(AT3*CZ3,2),6) -> 50137.78 | DC3: =ROUND(ROUND(AT3*AG3,2),6) -> 0 | DF3: =ROUND(ROUND(AE3,2)*CX3,2) -> 0 | DG3: =ROUND(ROUND(AF3,2)*CX3,2) -> 0 | DH3: =ROUND(ROUND(AG3,2)*CX3,2) -> 0 | DI3: =ROUND(ROUND(AH3,2)*CX3,2) -> 13537.2 | DJ3: =DI3 -> 13537.2 | DK3: 1 | DM3: 0 | DO3: 0
A4: =ROW(Source!A30) -> 30 | B4: 74014550 | C4: 74015995 | D4: 20050957 | E4: 119 | F4: 1 | G4: 1 | H4: 1 | I4: 1-100-25 | K4: Средний разряд работы 2,5 | L4: 1191 | N4: 1013 | O4: чел.-ч. | P4: чел.-ч. | Q4: 1 | W4: 0 | X4: -1991603921 | Y4: =AT4 -> 10.2 | AA4: 0 | AB4: 0 | AC4: 0 | AD4: 340.51 | AE4: 0 | AF4: 0 | AG4: 0 | AH4: 340.51 | AI4: 1 | AJ4: 1 | AK4: 1 | AL4: 1 | AM4: -2 | AN4: 0 | AO4: 0 | AP4: 1 | AQ4: 1 | AR4: 0 | AT4: 10.2 | AV4: 1 | AW4: 2 | AX4: 74015999 | AY4: 1 | AZ4: 0 | BA4: 4 | BB4: 1 | BC4: 0 | BD4: 0 | BE4: 0 | BF4: 0 | BG4: 0 | BH4: 0 | BI4: 0 | BJ4: 0 | BK4: 0 | BL4: 0 | BM4: 3473.202 | BN4: 10.2 | BO4: 0 | BP4: 1 | BQ4: 0 | BR4: 0 | BS4: 0 | BT4: 3473.202 | BU4: 10.2 | BV4: 0 | BW4: 1 | CU4: =ROUND(AT4*Source!I30*AH4*AL4,2) -> 7050.6 | CV4: =ROUND(Y4*Source!I30,7) -> 20.706 | CW4: 0 | CX4: =ROUND(Y4*Source!I30,7) -> 20.706 | CY4: =AD4 -> 340.51 | CZ4: =AH4 -> 340.51 | DA4: =AL4 -> 1 | DB4: =ROUND(ROUND(AT4*CZ4,2),6) -> 3473.2 | DC4: =ROUND(ROUND(AT4*AG4,2),6) -> 0 | DF4: =ROUND(ROUND(AE4,2)*CX4,2) -> 0 | DG4: =ROUND(ROUND(AF4,2)*CX4,2) -> 0 | DH4: =ROUND(ROUND(AG4,2)*CX4,2) -> 0 | DI4: =ROUND(ROUND(AH4,2)*CX4,2) -> 7050.6 | DJ4: =DI4 -> 7050.6 | DK4: 1 | DM4: 0 | DO4: 0
A5: =ROW(Source!A30) -> 30 | B5: 74014550 | C5: 74015995 | D5: 20049115 | E5: 119 | F5: 1 | G5: 1 | H5: 1 | I5: 4-100-00 | K5: Затраты труда машинистов | L5: 1191 | N5: 1013 | O5: чел.-ч. | P5: чел.-ч. | Q5: 1 | W5: 0 | X5: -1417349443 | Y5: =AT5 -> 0.32 | AA5: 0 | AB5: 0 | AC5: 0 | AD5: 0 | AE5: 0 | AF5: 0 | AG5: 0 | AH5: 0 | AI5: 1 | AJ5: 1 | AK5: 1 | AL5: 1 | AM5: -2 | AN5: 0 | AO5: 0 | AP5: 1 | AQ5: 1 | AR5: 0 | AT5: 0.32 | AV5: 2 | AW5: 2 | AX5: 74016000 | AY5: 1 | AZ5: 0 | BA5: 5 | BB5: 1 | BC5: 0 | BD5: 0 | BE5: 0 | BF5: 0 | BG5: 0 | BH5: 0 | BI5: 0 | BJ5: 0 | BK5: 0 | BL5: 0 | BM5: 0 | BN5: 0 | BO5: 0 | BP5: 0 | BQ5: 0 | BR5: 0 | BS5: 0 | BT5: 0 | BU5: 0 | BV5: 0 | BW5: 0 | CV5: 0 | CW5: 0 | CX5: =ROUND(Y5*Source!I30,7) -> 0.6496 | CY5: =AD5 -> 0 | CZ5: =AH5 -> 0 | DA5: =AL5 -> 1 | DB5: =ROUND(ROUND(AT5*CZ5,2),6) -> 0 | DC5: =ROUND(ROUND(AT5*AG5,2),6) -> 0 | DF5: =ROUND(ROUND(AE5,2)*CX5,2) -> 0 | DG5: =ROUND(ROUND(AF5,2)*CX5,2) -> 0 | DH5: =ROUND(ROUND(AG5,2)*CX5,2) -> 0 | DI5: =ROUND(ROUND(AH5,2)*CX5,2) -> 0 | DJ5: =DI5 -> 0 | DK5: 0 | DM5: 0 | DO5: 0
