Workbook

Sheet Прил 1
H1: Приложение № 1
G2: ='НАЧИНАТЬ С ЭТОГО'!$B$6 -> к договору на выполнение СМР №____ от ______ 2026 года
A4: График поставки материалов Подрядчиком
A5: ='НАЧИНАТЬ С ЭТОГО'!B4 -> "Реконструкция части КЛ 10 кВ от РП-1 до ТП-44, мкр. Суворовский, г. Ростов-на-Дону" (Идентификационный номер инвестиционного проекта Р_60_1142311005693_010)
A8: № п/п | B8: Номенклатура МТР | C8: Ед. изм. | D8: Кол-во | E8: Цена на продукцию за единицу с НДС, руб. | F8: Сумма продукции с НДС, руб. | G8: Наименование изготовителя/ Ответственное лицо, контактный телефон | H8: №дог. с контрагентом | I8: Дата оплаты | K8: Плановая дата поставки
I9: Аванс | J9: Окончательная оплата
A10: На _______________ месяц 2026г.
B11: Оборудование
A12: 1
A13: 2
A14: 3
A15: 4
A16: 5
A17: 6
A18: 7
A19: 8
A20: 9
B21: Итого с НДС %: | F21: =SUM(F12:F20) -> 0
B22: в том числе НДС ____%: | F22: =F21/122*22 -> 0
A24: ='НАЧИНАТЬ С ЭТОГО'!B22 -> ЗАКАЗЧИК: | H24: ='НАЧИНАТЬ С ЭТОГО'!B24 -> ПОДРЯДЧИК:
A26: ='НАЧИНАТЬ С ЭТОГО'!B9 -> Генеральный директор | H26: ='НАЧИНАТЬ С ЭТОГО'!B17 -> Директор
A27: ='НАЧИНАТЬ С ЭТОГО'!$B$10 -> ООО «Югстрой-Электросеть» | H27: ='НАЧИНАТЬ С ЭТОГО'!B18 -> _____________________________
A29: ='НАЧИНАТЬ С ЭТОГО'!B12 -> __________________ А. О. Козырев | H29: ='НАЧИНАТЬ С ЭТОГО'!B19 -> _____________________
A31: "___" __________________ 2026г. | H31: "___" __________________ 2026г.

Sheet Прил 1.1
M1: Приложение №1.1
H2: ='НАЧИНАТЬ С ЭТОГО'!B6 -> к договору на выполнение СМР №____ от ______ 2026 года
A4: График поставки материалов Подрядчика, оплачиваемых Заказчиком поставщикам Подрядчика
A5: ='НАЧИНАТЬ С ЭТОГО'!B4 -> "Реконструкция части КЛ 10 кВ от РП-1 до ТП-44, мкр. Суворовский, г. Ростов-на-Дону" (Идентификационный номер инвестиционного проекта Р_60_1142311005693_010)
A7: №п/п | B7: Номенклатура МТР | C7: Единица измерения | D7: Норма расхода | E7: Количество | F7: Цена на продукцию за единицу, руб. | G7: Сумма продукции с НДС, руб. | H7: Новая цена на продукцию за единицу, руб. | I7: Новая сумма продукции с НДС, руб. | J7: Номер счета нового | K7: Разница | L7: Плановая дата поставки | M7: Примечание
A37: ЗАКАЗЧИК: | K37: ПОДРЯДЧИК:
A38: ='Прил 1'!A26 -> Генеральный директор | K38: ='НАЧИНАТЬ С ЭТОГО'!B17 -> Директор
A39: ='НАЧИНАТЬ С ЭТОГО'!B10 -> ООО «Югстрой-Электросеть» | K39: ='НАЧИНАТЬ С ЭТОГО'!B18 -> _____________________________
A41: ='НАЧИНАТЬ С ЭТОГО'!B12 -> __________________ А. О. Козырев | K41: ='НАЧИНАТЬ С ЭТОГО'!B19 -> _____________________
A42: "___" _____________ 2026 г. | K42: "___" _____________ 2026 г.

Sheet Прил2
E1: Приложение №2
D2: ='НАЧИНАТЬ С ЭТОГО'!B6 -> к договору на выполнение СМР №____ от ______ 2026 года
A3: Распределение стоимости договора и График объемов финансирования по выполнению работ на объекте:
A4: ='НАЧИНАТЬ С ЭТОГО'!B4 -> "Реконструкция части КЛ 10 кВ от РП-1 до ТП-44, мкр. Суворовский, г. Ростов-на-Дону" (Идентификационный номер инвестиционного проекта Р_60_1142311005693_010)
A6: № п/п | B6: Наименование | C6: Ед. изм. | D6: Кол-во | E6: Цена за един. руб. | F6: Стоимость работ всего, руб. | G6: 2026 год
G7: ноябрь | H7: декабрь
A8: 1 | B8: 2 | C8: 3 | D8: 4 | E8: 5 | F8: 6 | G8: 8 | H8: 9 | I8: 10
B9: Работы
A10: 1
A11: 2
A12: 3
A13: 4
A14: Итого работа: | F14: =SUM(F10:F13) -> 0 | G14: =SUM(G10:G13) -> 0 | H14: =SUM(H10:H13) -> 0 | I14: =SUM(I10:I13) -> 0
B15: Оборудование:
A16: ='Прил 1'!A12 -> 1
A17: ='Прил 1'!A13 -> 2
A18: ='Прил 1'!A14 -> 3
A19: ='Прил 1'!A15 -> 4
A20: ='Прил 1'!A16 -> 5
A21: ='Прил 1'!A17 -> 6
A22: ='Прил 1'!A18 -> 7
A23: ='Прил 1'!A19 -> 8
A24: ='Прил 1'!A20 -> 9
A25: Итого материалы: | F25: =SUM(F16:F24) -> 0 | G25: =SUM(G16:G24) -> 0 | H25: =SUM(H16:H24) -> 0 | I25: =SUM(I16:I24) -> 0
B26: Итого стоимость выполненных работ, руб. | F26: =F14+F25 -> 0 | G26: =G14+G25 -> 0 | H26: =H14+H25 -> 0 | I26: =I14+I25 -> 0
A27: в т.ч. НДС ____% | F27: =F26-(F26/1.22) -> 0 | G27: =G26-(G26/1.22) -> 0 | H27: =H26-(H26/1.22) -> 0 | I27: =I26-(I26/1.22) -> 0
B29: ФИНАНСИРОВАНИЕ
B30: Аванс, % | F30: 0
B31: Сумма Аванса, руб. | F31: =F26*F30 -> 0
B32: Удержания авансовых сумм, % | F32: =F30 -> 0
B33: Удержания авансовых сумм, в пользу Заказчика, руб | F33: =-F26*F32 -> 0 | G33: =-G26*G32 -> 0 | H33: =-H26*H32 -> 0 | I33: =-I26*I32 -> 0
B34: Удержание 5 % от стоимости СМР за совевременную передачу исполнительной документации Заказчику | F34: =SUM(G34:K34) -> 0 | G34: =G26*5% -> 0 | H34: =H26*5% -> 0 | I34: =I26*5% -> 0
B35: Возврат Заказчиком удержания по исполнительной документации, 5 % от СМР (при условии предоставления 100 % исполнительной документации) | F35: =-F34 -> 0 | G35: =-G34 -> 0 | H35: =-H34 -> 0 | I35: =-I34 -> 0
B36: ИТОГО помесячное финансирование строительства | F36: =F26 -> 0 | G36: =G26+G34+G35 -> 0 | H36: =H26+H34+H35 -> 0 | I36: =I26+I34+I35 -> 0
B37: Общего финансирование строительства с нарастающим итогом, руб. | F37: =F36 -> 0 | G37: =G36 -> 0 | H37: =G37+H36 -> 0 | I37: =H37+I36 -> 0
B39: ЗАКАЗЧИК: | F39: ПОДРЯДЧИК:
B41: ='НАЧИНАТЬ С ЭТОГО'!B9 -> Генеральный директор | F41: ='НАЧИНАТЬ С ЭТОГО'!B17 -> Директор
B42: ='НАЧИНАТЬ С ЭТОГО'!B10 -> ООО «Югстрой-Электросеть» | F42: ='НАЧИНАТЬ С ЭТОГО'!B18 -> _____________________________
B44: ='НАЧИНАТЬ С ЭТОГО'!B12 -> __________________ А. О. Козырев | F44: ='НАЧИНАТЬ С ЭТОГО'!B19 -> _____________________
B46: "___" __________________ 2026г. | F46: "___" __________________ 2026г.

Sheet Прил 3
E1: Приложение № 3
C2: ='НАЧИНАТЬ С ЭТОГО'!B6 -> к договору на выполнение СМР №____ от ______ 2026 года
A4: График выдачи рабочей документации
A5: ='НАЧИНАТЬ С ЭТОГО'!B4 -> "Реконструкция части КЛ 10 кВ от РП-1 до ТП-44, мкр. Суворовский, г. Ростов-на-Дону" (Идентификационный номер инвестиционного проекта Р_60_1142311005693_010)
A7: № п/п | B7: Наименование рабочей документации | C7: Обозначение | E7: Срок выдачи
A8: 1 | B8: "Реконструкция части КЛ 10 кВ от РП-1 до ТП-44, мкр. Суворовский, г. Ростов-на-Дону" | C8: РИЦ 26-15.РД,ЭС | E8: В течении 5 рабочих дней после подписания договора.
A10: ЗАКАЗЧИК: | D10: ПОДРЯДЧИК:
A12: ='НАЧИНАТЬ С ЭТОГО'!B9 -> Генеральный директор | D12: ='НАЧИНАТЬ С ЭТОГО'!B17 -> Директор
A14: ООО "Югстрой-Электросеть" | D14: ='НАЧИНАТЬ С ЭТОГО'!B18 -> _____________________________
A16: ='НАЧИНАТЬ С ЭТОГО'!B12 -> __________________ А. О. Козырев | D16: ='НАЧИНАТЬ С ЭТОГО'!B19 -> _____________________
A18: "___" __________________ 2026г. | D18: "___" __________________ 2026г.

Sheet Прил 4
H1: Приложение № 4
E2: ='НАЧИНАТЬ С ЭТОГО'!B6 -> к договору на выполнение СМР №____ от ______ 2026 года
A4: График выполнения работ
A5: ='НАЧИНАТЬ С ЭТОГО'!B4 -> "Реконструкция части КЛ 10 кВ от РП-1 до ТП-44, мкр. Суворовский, г. Ростов-на-Дону" (Идентификационный номер инвестиционного проекта Р_60_1142311005693_010)
A7: № п/п | B7: Наименование | C7: Ед. изм. | D7: Физ. Объемы | E7: Сроки производства работ | H7: 2026 год (объемы)
E8: Начало | F8: Окончание | G8: Всего, дни | H8: октябрь | I8: ноябрь | J8: декабрь
A9: =Прил2!A10 -> 1 | G9: =F9-E9+1 -> 1
A10: 2 | G10: =F10-E10+1 -> 1
A11: =Прил2!A12 -> 3 | G11: =F11-E11+1 -> 1
A12: =Прил2!A13 -> 4 | G12: =F12-E12+1 -> 1
A13: … | G13: =F13-E13+1 -> 1
B15: ='[1]НАЧИНАТЬ С ЭТОГО'!B22 -> ЗАКАЗЧИК: | H15: ='[1]НАЧИНАТЬ С ЭТОГО'!B24 -> ПОДРЯДЧИК:
B17: ='НАЧИНАТЬ С ЭТОГО'!B9 -> Генеральный директор | H17: ='НАЧИНАТЬ С ЭТОГО'!B17 -> Директор
B19: ООО "Югстрой-Электросеть" | H19: ='НАЧИНАТЬ С ЭТОГО'!B18 -> _____________________________
B21: ='НАЧИНАТЬ С ЭТОГО'!B12 -> __________________ А. О. Козырев | H21: ='НАЧИНАТЬ С ЭТОГО'!B19 -> _____________________
B23: "___" __________________ 2026г. | H23: "___" __________________ 2026г.

Sheet Прил 7
AF1: Приложение № 7
AC2: ='НАЧИНАТЬ С ЭТОГО'!B6 -> к договору на выполнение СМР №____ от ______ 2026 года
A4: Месячно-суточный график выполнения работ
A5: ='НАЧИНАТЬ С ЭТОГО'!B4 -> "Реконструкция части КЛ 10 кВ от РП-1 до ТП-44, мкр. Суворовский, г. Ростов-на-Дону" (Идентификационный номер инвестиционного проекта Р_60_1142311005693_010)
E8: На | F8: ноябрь | J8: 2026г. | AE8: по состоянию на "_____" _____________ 2026г.
A10: № п/п | B10: Наименование работ | C10: Ед. изм | D10: Кол-во | E10: Выполнено на начало строительства | G10: Задание на месяц | J10: Выполнено с начала месяца | L10: ноябрь
E11: план | F11: факт | G11: план | H11: восполн. | I11: всего | J11: план | K11: факт | M11: 1 | N11: 2 | O11: 3 | P11: 4 | Q11: 5 | R11: 6 | S11: 7 | T11: 8 | U11: 9 | V11: 10 | W11: 11 | X11: 12 | Y11: 13 | Z11: 14 | AA11: 15 | AB11: 16 | AC11: 17 | AD11: 18 | AE11: 19 | AF11: 20 | AG11: 21 | AH11: 22 | AI11: 23 | AJ11: 24 | AK11: 25 | AL11: 26 | AM11: 27 | AN11: 28 | AO11: 29 | AP11: 30
A12: 1 | L12: план
L13: факт
A14: 2 | L14: план
L15: факт
A16: … | L16: план
L17: факт
E19: На | F19: декабрь | J19: 2026г. | AE19: по состоянию на "_____" _____________ 2026г.
A21: № п/п | B21: Наименование работ | C21: Ед. изм | D21: Кол-во | E21: Выполнено на начало строительства | G21: Задание на месяц | J21: Выполнено с начала месяца | L21: декабрь
E22: план | F22: факт | G22: план | H22: восполн. | I22: всего | J22: план | K22: факт | M22: 1 | N22: 2 | O22: 3 | P22: 4 | Q22: 5 | R22: 6 | S22: 7 | T22: 8 | U22: 9 | V22: 10 | W22: 11 | X22: 12 | Y22: 13 | Z22: 14 | AA22: 15 | AB22: 16 | AC22: 17 | AD22: 18 | AE22: 19 | AF22: 20 | AG22: 21 | AH22: 22 | AI22: 23 | AJ22: 24 | AK22: 25 | AL22: 26 | AM22: 27 | AN22: 28 | AO22: 29 | AP22: 30
A23: 1 | L23: план
L24: факт
A25: 2 | L25: план
L26: факт
A27: … | L27: план
L28: факт
C32: ='НАЧИНАТЬ С ЭТОГО'!B22 -> ЗАКАЗЧИК: | AA32: ='НАЧИНАТЬ С ЭТОГО'!B24 -> ПОДРЯДЧИК:
C34: ='НАЧИНАТЬ С ЭТОГО'!B9 -> Генеральный директор | AA34: ='НАЧИНАТЬ С ЭТОГО'!B17 -> Директор
C35: ООО "Югстрой-Электросеть" | AA35: ='НАЧИНАТЬ С ЭТОГО'!B18 -> _____________________________
C37: ='НАЧИНАТЬ С ЭТОГО'!B12 -> __________________ А. О. Козырев | AA37: ='НАЧИНАТЬ С ЭТОГО'!B19 -> _____________________
C39: "___" __________________ 2026г. | AA39: "___" __________________ 2026г.

Sheet Прил9
J1: Приложение №9
J2: ='НАЧИНАТЬ С ЭТОГО'!B6 -> к договору на выполнение СМР №____ от ______ 2026 года
A4: ГРАФИК
A5: ПОСТАВКИ МАТЕРИАЛОВ И ОБОРУДОВАНИЯ ЗАКАЗЧИКОМ
A6: ='НАЧИНАТЬ С ЭТОГО'!B4 -> "Реконструкция части КЛ 10 кВ от РП-1 до ТП-44, мкр. Суворовский, г. Ростов-на-Дону" (Идентификационный номер инвестиционного проекта Р_60_1142311005693_010)
A8: №п/п | B8: Наименование | C8: Тип, марка | D8: Ед.изм. | E8: Кол-во | F8: 2026г., в том числе по месяцам | J8: Примечания
A10: 1
B15: Примечание: 1. Общая стоимость материалов и оборудования поставки Заказчика составляет: ______________ в т.ч. НДС- ___%.
B16: (указывается на основании ПЗС )
B17: 2. Материалы и оборудование, не предусмотренные в Приложении 9, считать поставкой Подрядчика
A18: ЗАКАЗЧИК: | F18: ПОДРЯДЧИК:
A20: ='НАЧИНАТЬ С ЭТОГО'!B9 -> Генеральный директор | F20: ='НАЧИНАТЬ С ЭТОГО'!B17 -> Директор
A21: ООО "Югстрой-Электросеть" | F21: ='НАЧИНАТЬ С ЭТОГО'!B18 -> _____________________________
A23: ='НАЧИНАТЬ С ЭТОГО'!B12 -> __________________ А. О. Козырев | F23: ='НАЧИНАТЬ С ЭТОГО'!B19 -> _____________________
A25: "___" __________________ 2026г. | F25: "___" __________________ 2026г.

Sheet Прил12
J1: Приложение № 12
I2: ='НАЧИНАТЬ С ЭТОГО'!B6 -> к договору на выполнение СМР №____ от ______ 2026 года
A3: ВЕДОМОСТЬ
A4: Переработки давальческих материалов поставки Заказчика
A5: за ______ месяц 2026 года.
E6: по объекту:
A7: ='НАЧИНАТЬ С ЭТОГО'!B4 -> "Реконструкция части КЛ 10 кВ от РП-1 до ТП-44, мкр. Суворовский, г. Ростов-на-Дону" (Идентификационный номер инвестиционного проекта Р_60_1142311005693_010)
A9: № п/п | B9: Наименование материальных ресурсов | C9: Поставка Заказчика (по приложению 10) с учётом норм расхода материалов | E9: Получено в переработку с учётом норм расхода материалов | H9: Переработано согласно актам выполненных работ с учетом норм расхода материалов | L9: Сверх норм.списание № акта | N9: Подлежит возврату
H10: Всего с начала года | J10: в т.ч. за отчетный период
C11: ед. изм. | D11: кол-во | E11: кол-во | F11: стоимость в руб | G11: № и дата расходной накладной | H11: кол-во | I11: Стоимость в руб. | J11: кол-во | K11: Стоимость в руб. | L11: кол-во | M11: Стоимость в руб. | N11: кол-во | O11: Стоимость в руб.
A12: 1 | B12: 2 | C12: 3 | D12: 4 | E12: 5 | F12: 6 | G12: 7 | H12: 8 | I12: 9 | J12: 10 | K12: 11 | L12: 12 | M12: 13 | N12: 14 | O12: 15
B17: С бланком типовой формы ознакомлен:
B19: ЗАКАЗЧИК: | J19: ='[1]НАЧИНАТЬ С ЭТОГО'!B24 -> ПОДРЯДЧИК:
B20: ='НАЧИНАТЬ С ЭТОГО'!B9 -> Генеральный директор | J20: ='НАЧИНАТЬ С ЭТОГО'!B17 -> Директор
B21: ООО "Югстрой-Электросеть" | J21: ='НАЧИНАТЬ С ЭТОГО'!B18 -> _____________________________
B23: ='НАЧИНАТЬ С ЭТОГО'!B12 -> __________________ А. О. Козырев | J23: ='НАЧИНАТЬ С ЭТОГО'!B19 -> _____________________
B24: "___" __________________ 2026г. | J24: "___" __________________ 2026г.

Sheet Прил 13
BU1: Приложение №13
BH2: ='НАЧИНАТЬ С ЭТОГО'!B6 -> к договору на выполнение СМР №____ от ______ 2026 года
CB3: Утверждена постановлением Госкомстата России
CB4: от 11.11.99 № 100
CL5: Код
BZ6: Форма по ОКУД | CL6: 0322006
CL7: 26367882
C8: Заказчик(Генподрядчик) ООО "Югстрой-Электросеть" | CK8: по ОКПО
L9: (организация, адрес, телефон, факс)
C10: Подрядчик (Субподрядчик) ООО "ПроСвет" | Q10: ='НАЧИНАТЬ С ЭТОГО'!B18 -> _____________________________ | CE10: по ОКПО
L11: (организация, адрес, телефон, факс)
C12: Стройка | L12: ='НАЧИНАТЬ С ЭТОГО'!B4 -> "Реконструкция части КЛ 10 кВ от РП-1 до ТП-44, мкр. Суворовский, г. Ростов-на-Дону" (Идентификационный номер инвестиционного проекта Р_60_1142311005693_010)
L13: (наименование, адрес)
C14: Объект | L14: ='НАЧИНАТЬ С ЭТОГО'!B4 -> "Реконструкция части КЛ 10 кВ от РП-1 до ТП-44, мкр. Суворовский, г. Ростов-на-Дону" (Идентификационный номер инвестиционного проекта Р_60_1142311005693_010)
W15: (наименование) | BS15: Вид деятельности по ОКДП
CE17: Договор подряда (контракт) | CF17: номер | CL17: _______
CF18: дата | CV18: 2026
CB19: Вид операции
AT22: ЖУРНАЛ
AK23: УЧЕТА ВЫПОЛНЕННЫХ РАБОТ
AR25: за | AS25: 202_ | BG25: год
G27: Сметная (договорная) стоимость в соответствии с договором подряда (субподряда)
I29: Составил
S30: (должность) | AJ30: (подпись) | AW30: (расшифровка подписи)
I32: Проверил
S33: (должность) | AJ33: (подпись) | AW33: (расшифровка подписи)
A38: Номер | I38: Конструктивные элементы и виды работ | Q38: Номер еди- ничной рас- ценки | V38: Еди- ница изме- рения | Z38: Цена за единицу, руб. | AF38: Количе- ство работ по смете | AK38: Сметная (дого- ворная) стои- мость, руб. | AO38: Выполнено работ
A39: по поряд- ку | E39: пози- ции по смете | AO39: месяц | BC39: месяц | BO39: месяц | CC39: месяц | CP39: ОСТАТОК
AO40: количе- ство | AT40: стои- мость, руб. | AX40: стои- мость факти- чески выпол- ненных работ с начала строи- тельст- ва, руб. | BC40: количе- ство | BG40: стои- мость, руб. | BK40: стои- мость факти- чески выпол- ненных работ с начала строи- тельст- ва, руб. | BO40: количе- ство | BT40: стои- мость, руб. | BX40: стои- мость факти- чески выпол- ненных работ с начала строи- тельст- ва, руб. | CC40: количе- ство | CG40: стои- мость, руб. | CL40: стои- мость факти- чески выпол- ненных работ с начала строи- тельст- ва, руб. | CP40: количе- ство | CT40: стоимость, руб.
A41: 1 | E41: 2 | I41: 3 | Q41: 4 | V41: 5 | Z41: 6 | AF41: 7 | AK41: 8 | AO41: 9 | AT41: 10 | AX41: 11 | BC41: 12 | BG41: 13 | BK41: 14 | BO41: 15 | BT41: 16 | BX41: 17 | CC41: 18 | CG41: 19 | CL41: 20 | CP41: 21 | CT41: 22
T60: Итого | V60: Х | Z60: Х
T62: Всего | V62: Х | Z62: Х
A65: С бланком типовой формы ознакомлен:
A67: ='НАЧИНАТЬ С ЭТОГО'!A10 -> Заказчик | BY67: ='НАЧИНАТЬ С ЭТОГО'!A16 -> Подрядчик
A68: ='НАЧИНАТЬ С ЭТОГО'!B9 -> Генеральный директор | BY68: ='НАЧИНАТЬ С ЭТОГО'!B17 -> Директор
A69: ='НАЧИНАТЬ С ЭТОГО'!B10 -> ООО «Югстрой-Электросеть» | BY69: ='НАЧИНАТЬ С ЭТОГО'!B18 -> _____________________________
A71: ='НАЧИНАТЬ С ЭТОГО'!B12 -> __________________ А. О. Козырев | BY71: ='НАЧИНАТЬ С ЭТОГО'!B19 -> _____________________
A73: ='Прил 1.1'!A42 -> "___" _____________ 2026 г. | BY73: ='Прил 1.1'!K42 -> "___" _____________ 2026 г.

Sheet Прил 17
P1: Приложение № 17
L2: к договору на выполнение СМР № _______от _________2026г
A4: СОГЛАСОВАНО: | M4: УТВЕРЖДАЮ:
A5: Директор | M5: Генеральный директор
M6: ООО «Югстрой-Электросеть»
M7: А. О. Козырев
A8: "____" ________________ 2026 года | M8: "____" ________________ 2026 года
A11: "Реконструкция части КЛ 10 кВ от РП-1 до ТП-44, мкр. Суворовский, г. Ростов-на-Дону" (Идентификационный номер инвестиционного проекта Р_60_1142311005693_010)
A12: (наименование объекта капитального строительства)
A13: ЛОКАЛЬНЫЙ СМЕТНЫЙ РАСЧЕТ (СМЕТА)
A15: Электромонтажные, строительные и пуско-наладочные работы КЛ-10 кВ от РП-1 до ТП-44
A16: (наименование работ и затрат)
A17: Составлен
A18: Основание
B19: (проектная и (или) иная техническая документация)
A21: Составлен(а) в текущем уровне цен
A23: Сметная стоимость | E23: тыс.руб.
B24: в том числе:
B25: строительных работ | E25: тыс.руб. | K25: Средства на оплату труда рабочих | P25: тыс.руб.
B26: монтажных работ | E26: тыс.руб. | K26: Средства на оплату труда машинистов | P26: тыс.руб.
B27: оборудования | E27: тыс.руб. | K27: Нормативные затраты труда рабочих | P27: чел.-ч.
B28: прочих затрат | E28: тыс.руб. | K28: Нормативные затраты труда машинистов | P28: чел.-ч.
A30: № п/п | B30: Обоснование | C30: Наименование работ и затрат | H30: Единица измерения | I30: Количество | L30: Сметная стоимость, руб.
I32: на единицу измерения | J32: коэффициенты | K32: всего с учетом коэффициентов | L32: на единицу измерения в базисном уровне цен | M32: индекс | N32: на единицу измерения в текущем уровне цен | O32: коэффициенты | P32: всего в текущем уровне цен
A33: 1 | B33: 2 | C33: 3 | H33: 4 | I33: 5 | J33: 6 | K33: 7 | L33: 8 | M33: 9 | N33: 10 | O33: 11 | P33: 12
A34: Раздел 1. Земляные работы
A35: 1 | B35: ГЭСН01-01-022-23 | C35: Разработка грунта с погрузкой на автомобили-самосвалы в траншеях экскаватором «обратная лопата» с ковшом вместимостью 0,25 м3, группа грунтов: 2 | H35: 1000 м3 | K35: 0.3947
C36: Объем=394,7 / 1000
B37: 2 | C37: ЭМ
C38: ОТм(ЗТм) | H38: чел.-ч
B39: 91.01.05-106 | C39: Экскаваторы одноковшовые дизельные на пневмоколесном ходу, объем ковша 0,25 м3 | H39: маш.-ч
B40: 4-100-050 | C40: ОТм(Зтм) Средний разряд машинистов 5 | H40: чел.-ч
C41: Всего по позиции
A42: 2 | B42: ГЭСН01-02-057-02 | C42: Разработка грунта вручную в траншеях глубиной до 2 м без креплений с откосами, группа грунтов: 2 | H42: 100 м3 | K42: 0.118
C43: Объем=11,8 / 100
B44: 1 | C44: ОТ(ЗТ) | H44: чел.-ч
B45: 1-100-20 | C45: Средний разряд работы 2,0 | H45: чел.-ч
C46: Всего по позиции
A47: 3 | B47: 02-15-1-01-0001 Сплит-форма Ростовская область на 3 квартал 2026 года.xlsx | C47: Перевозка грузов I класса автомобилями-самосвалами грузоподъемностью до 15 т по дорогам с усовершенствованным (асфальтобетонным, цементобетонным, железобетонным, обработанным органическим вяжущим) дорожным покрытием на расстояние 1 км | H47: 1т груза | K47: 690.725
C48: Объем=394,7*1,75
...

Sheet Прил 18
E1: Приложение № 18
B2: к договору на выполнение СМР № _____от ________2026г.
A5: СОГЛАСОВАНО: | D5: УТВЕРЖДАЮ:
A6: Директор | D6: Генеральный директор
D7: ООО «Югстрой-Электросеть»
A8: __________________ | D8: __________________ А. О. Козырев
A9: "______ " _______________2026 г. | D9: "______ " _______________2026 г.
A11: "Реконструкция части КЛ 10 кВ от РП-1 до ТП-44, мкр. Суворовский, г. Ростов-на-Дону" (Идентификационный номер инвестиционного проекта Р_60_1142311005693_010)
A14: ВЕДОМОСТЬ ОБЪЕМОВ РАБОТ
A16: № пп | B16: Наименование | C16: Ед. изм. | D16: Кол. | E16: Примечание
A17: 1 | B17: 2 | C17: 3 | D17: 4 | E17: 5
A18: Раздел 1. Земляные работы
A19: 1 | B19: Разработка грунта с погрузкой на автомобили-самосвалы в траншеях экскаватором «обратная лопата» с ковшом вместимостью 0,25 м3, группа грунтов: 2 | C19: 1000 м3 | D19: 0.3947
A20: 2 | B20: Разработка грунта вручную в траншеях глубиной до 2 м без креплений с откосами, группа грунтов: 2 | C20: 100 м3 | D20: 0.118
A21: 3 | B21: Перевозка грузов I класса автомобилями-самосвалами грузоподъемностью до 15 т по дорогам с усовершенствованным (асфальтобетонным, цементобетонным, железобетонным, обработанным органическим вяжущим) дорожным покрытием на расстояние 1 км | C21: 1т груза | D21: 690.725
A22: 4 | B22: Засыпка траншей и котлованов с перемещением грунта до 5 м бульдозерами мощностью: 59 кВт (80 л.с.), группа грунтов 1 Песок | C22: 1000 м3 | D22: 0.2631
A23: 5 | B23: Песок природный для строительных работ I класс, средний | C23: м3 | D23: 289.41
A24: 6 | B24: Уплотнение грунта пневматическими трамбовками, группа грунтов: 1-2 | C24: 100 м3 | D24: 2.631
A25: Раздел 2. Электромонтажные работы
A26: 7 | B26: Устройство постели при одном кабеле в траншее | C26: 100 м | D26: 8.77
A27: 8 | B27: На каждый последующий кабель добавлять к норме 08-02-142-01 | C27: 100 м | D27: 8.77
A28: 9 | B28: Песок природный для строительных работ I класс, средний | C28: м3 | D28: 144.76
A29: 10 | B29: Прокладка труб гладких полиэтиленовых в траншее диаметром: 160 мм | C29: км | D29: 0.0795
A30: 11 | B30: За каждую последующую трубу добавлять к норме: 08-02-237-03 | C30: км | D30: 0.0795
A31: 12 | B31: Трубы напорные полиэтиленовые, кроме газопроводных ПЭ100, для транспортировки воды, стандартное размерное отношение SDR17, номинальный наружный диаметр 160 мм, толщина стенки 9,5 мм | C31: м | D31: 159
A32: 13 | B32: Сварка полиэтиленовых труб "встык" нагревательным элементом при полуавтоматическом управлении процессом сварки, диаметр труб: свыше 110 до 160 мм | C32: соединение | D32: 2
A33: 14 | B33: Кабель до 35 кВ в готовых траншеях без покрытий, масса 1 м: свыше 6 до 9 кг | C33: 100 м | D33: 17.439
A34: 15 | B34: Кабель до 35 кВ в проложенных трубах, блоках и коробах, масса 1 м кабеля: до 9 кг | C34: 100 м | D34: 3.13
A35: 16 | B35: Кабель АСБл-10 3х240мн | C35: м | D35: 2098
A36: 17 | B36: Заделка концевая в резиновой перчатке для 3-5-жильного кабеля напряжением: до 10 кВ, сечение одной жилы до 240 мм2 | C36: шт | D36: 18
A37: 18 | B37: Капа термоусаживаемая ОГТ-100/40 КВТ 65138 | C37: шт | D37: 18
... A49: 30 | B49: Таблички-указатели кабельных трасс пластиковые односторонние, размеры 210х280х5 мм | C49: 100 шт | D49: 0.2
A50: Раздел 3. ГНБ (котлованы 1,5х2х2 - 2 шт)
A51: 31 | B51: Разработка грунта с погрузкой на автомобили-самосвалы в котлованах объемом до 500 м3 экскаваторами с ковшом вместимостью 0,25 м3, группа грунтов: 2 | C51: 1000 м3 | D51: 0.012
A52: 32 | B52: Перевозка грузов I класса автомобилями-самосвалами грузоподъемностью до 15 т по дорогам с усовершенствованным (асфальтобетонным, цементобетонным, железобетонным, обработанным органическим вяжущим) дорожным покрытием на расстояние 15 км | C52: 1т груза | D52: 21
A53: 33 | B53: Засыпка траншей и котлованов с перемещением грунта до 5 м бульдозерами мощностью: 59 кВт (80 л.с.), группа грунтов 1 (Песок) | C53: 1000 м3 | D53: 0.012
A54: 34 | B54: Песок природный для строительных работ I класс, средний | C54: м3 | D54: 13.2
A55: 35 | B55: Уплотнение грунта пневматическими трамбовками, группа грунтов: 1-2 | C55: 100 м3 | D55: 0.12
A56: 36 | B56: Монтаж установки горизонтально направленного бурения: с тяговым усилием 20 тс (200 кН) | C56: шт | D56: 1
A57: 37 | B57: Демонтаж установки горизонтально направленного бурения: с тяговым усилием 20 тс (200 кН) | C57: шт | D57: 1
...

Sheet Прил 19
B1: Приложение 19
B2: к договору на выполнение СМР №____ от ______ 2026 года
B4: Перечень документов, передаваемых Подрядчиком Заказчику по окончании строительно-монтажных работ по объекту.
A6: № п/п | B6: Наименование документа
A8: 1 | B8: Акт приемки траншей, каналов, туннелей и блоков под монтаж кабелей
A9: 2 | B9: АОСР устройство основания траншеи песком для прокладки КЛ (Х линий)
A10: 3 | B10: АОСР монтаж труб, в траншее в местах переходов и пересечениями с коммуникациями
A11: 4 | B11: Протокол осмотра и проверки изоляции кабелей, на барабане перед прокладкой
A12: 5 | B12: АОСР укладка кирпичной перегородки между взаиморезервируемыми кабельными линиями, где нет труб (если есть перегородка)
A13: 6 | B13: Акт осмотра кабельной канализации в траншеях и каналах перед закрытием
A14: 7 | B14: АОСР засыпка песком поверх эл. кабеля и труб
A15: 8 | B15: АОСР укладка кирпича в траншее по всей ширине, где нет труб
A16: 9 | B16: Журнал прокладки КЛ
A17: 10 | B17: Журнал монтажа кабельных муфт
A18: 11 | B18: АОСР обратная засыпка грунтом
A19: 12 | B19: Протокол прогрева кабелей на барабане перед прокладкой при низких температурах
... A26: 18 | B26: Технический отчет по испытаниям оборудования:
A27: 18.1 | B27: Протокол испытаний силового кабеля напряжением с бумажной изоляцией (рабочее напряжение 6кВ – необходимо испытывать постоянным (выпрямленным) напряжением 36кВ 10мин.) (рабочее напряжение 10кВ – необходимо испытывать постоянным (выпрямленным) напряжением 60кВ 10мин.)
A28: 18.2 | B28: Протокол испытаний силового кабеля напряжением с изоляций из сшитого полиэтилена (рабочее напряжение 6кВ – необходимо испытывать 30кВ частотой 0,1 (Гц) в течение 15 минут) (рабочее напряжение 10кВ – необходимо испытывать 50кВ частотой 0,1 (Гц) в течение 15 минут)
A29: 18.3 | B29: Протокол фазировки
A30: 18.4 | B30: Протокол проверки наличия цепи и измерение сопротивления цепи между заземлителями и заземляемыми элементами электроустановки.
A32: В Акте должно быть не меньше 3-5 человек в подписантах. Все документы в 3 экземплярах. В каждом экземпляре технический отчет на пуско-наладочные работы.
A37: ЗАКАЗЧИК: ПОДРЯДЧИК:
A39: Генеральный директор Директор
A40: ООО «Югстрой-Электросеть»
A42: __________________ А. О. Козырев _____________________________

Sheet НАЧИНАТЬ С ЭТОГО
A4: Наименование объекта | B4: "Реконструкция части КЛ 10 кВ от РП-1 до ТП-44, мкр. Суворовский, г. Ростов-на-Дону" (Идентификационный номер инвестиционного проекта Р_60_1142311005693_010)
A6: Договор | B6: к договору на выполнение СМР №____ от ______ 2026 года
E7: для приложения № 13
D8: =#REF! -> #REF! | E8: =B10 -> ООО «Югстрой-Электросеть»
B9: Генеральный директор | D9: =#REF! -> #REF! | E9: =B16 -> 0
A10: Заказчик | B10: ООО «Югстрой-Электросеть» | D10: =#REF! -> #REF!
D11: =#REF! -> #REF!
A12: Руководитель | B12: __________________ А. О. Козырев
A16: Подрядчик
B17: Директор
B18: _____________________________
A19: Руководитель | B19: _____________________
A22: заказчик/генподрядчик | B22: ЗАКАЗЧИК:
A24: подрядчик/субподрядчик | B24: ПОДРЯДЧИК:
